{"text_format":"1","workbook":"xlsx","n_sheets":10,"sheets":["Instructions-Export","WMBW-WH","INVENTORY 3E","CERA","BREW","Data","Check_WM","Check_CERA","Check_BREW","Check_Inv"],"not_rendered":{"charts":0,"images":9,"macros":1,"external_links":0,"defined_names":1,"comments":0,"pivot_tables":0},"unopened":[],"bounds":{"document_bytes":16777216,"sheet_cells":100000,"rows_first":2000,"rows_last":500,"rows_between":2000,"halvings":0,"cell_chars":16384,"cell_head_chars":4096},"cells_cut":0,"cells_raw":0,"read":"whole","date_system":"1900"}

{"sheet":"Instructions-Export","index":0,"n_rows":273,"n_cols":4,"rows_kept":273,"cut":false,"hidden":false,"merged":[[21,3,21,5],[24,3,24,5],[25,3,25,5],[27,3,27,5],[28,3,28,5],[22,3,22,5],[0,0,0,5],[9,0,16,5],[18,3,18,5],[19,3,19,5],[20,3,20,5]]}
["VERSION 3  RELEASE DATE 06/28/2021\nThank you for using the Excel template provided by OLCC to create your ASCII flat file.  Please remember that you cannot send this excel document to the OLCC site.  You MUST convert the file to ASCII before sending.  "]
[]
[]
[]
[]
[]
[]
[]
[]
["Step by Step instructions are listed below:\n\n1. Enter all data that is required by Oregon Liquor Control Commission in the format required.  There are guidelines on the column headers to explain the required versus optional fields.  Create a separate template document for each of your individual licenses.  Inventory may be entered in the same spreadsheet if you have a WMBW, WH, BRW or BP license. \n\n2. Do not enter calculations into the spreadsheet.  Do Not modify the order of the columns.  Do not modify the order of the tabs in the spreadsheet.  \n\n3. Once all information has been entered, go to the 'Instructions-Export' tab and select\nthe Details checkbox for the tabs that correspond to the information you have entered, then click the \"Create ASCII file\" button."]
[]
[]
[]
[]
[]
[]
[]
[]
["Product Type","Product Code","Schedule Code","Description"]
["Cider (Apple/Pear) - Case","CID.Case","1A - WMBW/WH ","Liablities, Imports"]
["Cider (Other Fruits) - Case","CIDOTH.Case","1B - WMBW/WH/BRW/BP","Liablities, Out-of-State Returns"]
["Malt - Case","MB.Case","1C - BRW/BP ONLY","Liabilities, Sales"]
["Seltzer (Cane Sugar) - Case","SCS.Case","2A - WMBW/WH/BRW/BP","Deductions, Exports"]
["Seltzer (Malt Sugar) - Case","SMS.Case","2B - WMBW/WH/BRW/BP","Deductions, Military Sales and Misc Deductions"]
["Wine - Case","WINE.Case","3A - WMBW/WH","Inventory of Oregon Receipts"]
["Cider (Apple/Pear) - Keg","CID.Keg","3B - WMBW/WH","Inventory; Transfers In"]
["Cider (other Fruits) - Keg","CIDOTH.Keg","3C - WMBW/WH","Inventory; Sales & Transfers Out (incl. Own-use & Gratis)"]
["Malt - Keg","MB.Keg","3D - WMBW/WH/BRW/BP","Inventory; Returns"]
["Seltzer (Cane Sugar) - Keg","SCS.Keg","3E - WMBW/WH/BRW/BP","Inventory; Ending Inventory"]
["Seltzer (Malt Sugar) - Keg","SMS.Keg","3F - BRW/BP","Inventory; Bond to Bond Transfers IN"]
["Wine - Keg","WINE.Keg","3G - BRW/BP","Inventory; Bond to Bond Transfers OUT"]
[null,null,"5 - CERA ONLY","CERA Shipments"]
[]
["Country Name","Country Code","US - State/territory Name","State Code"]
["Andorra","AD","Alaska","AK"]
["United Arab Emirates","AE","Alabama","AL"]
["Afghanistan","AF","Arkansas","AR"]
["Antigua and Barbuda","AG","Arizona","AZ"]
["Anguilla","AI","California","CA"]
["Albania","AL","Colorado","CO"]
["Armenia","AM","Connecticut","CT"]
["Netherlands Antilles","AN","District of Columbia","DC"]
["Angola","AO","Delaware","DE"]
["Antarctica","AQ","Florida","FL"]
["Argentina","AR","Georgia","GA"]
["American Samoa","AS","Hawaii","HI"]
["Austria","AT","Iowa","IA"]
["Australia","AU","Idaho","ID"]
["Aruba","AW","Illinois","IL"]
["Åland Islands","AX","Indiana","IN"]
["Azerbaijan","AZ","Kansas","KS"]
["Bosnia and Herzegovina","BA","Kentucky","KY"]
["Barbados","BB","Louisiana","LA"]
["Bangladesh","BD","Massachusetts","MA"]
["Belgium","BE","Maryland","MD"]
["Burkina Faso","BF","Maine","ME"]
["Bulgaria","BG","Michigan","MI"]
["Bahrain","BH","Minnesota","MN"]
["Burundi","BI","Missouri","MO"]
["Benin","BJ","Mississippi","MS"]
["Bermuda","BM","Montana","MT"]
["Brunei Darussalam","BN","North Carolina","NC"]
["Bolivia (Plurinational State of)","BO","North Dakota","ND"]
["Brazil","BR","Nebraska","NE"]
["Bahamas","BS","New Hampshire","NH"]
["Bhutan","BT","New Jersey","NJ"]
["Bouvet Island","BV","New Mexico","NM"]
["Botswana","BW","Nevada","NV"]
["Belarus","BY","New York","NY"]
["Belize","BZ","Ohio","OH"]
["Canada","CA","Oklahoma","OK"]
["Cocos (Keeling) Islands","CC","Oregon","OR"]
["Congo (Democratic Republic of the)","CD","Pennsylvania","PA"]
["Central African Republic","CF","Rhode Island","RI"]
["Congo","CG","South Carolina","SC"]
["Switzerland","CH","South Dakota","SD"]
["Côte d`Ivoire","CI","Tennessee","TN"]
["Cook Islands","CK","Texas","TX"]
["Chile","CL","Utah","UT"]
["Cameroon","CM","Virginia","VA"]
["China","CN","Vermont","VT"]
["Colombia","CO","Washington","WA"]
["Costa Rica","CR","Wisconsin","WI"]
["Serbia and Montenegro","CS","West Virginia","WV"]
["Cuba","CU","Wyoming","WY"]
["Cabo Verde","CV","Armed Forces Americas","AA"]
["Christmas Island","CX","Armed Forces Europe","AE"]
["Cyprus","CY","Armed Forces Pacific","AP"]
["Czechia","CZ","American Samoa","AS"]
["Germany","DE","Federated States of Micronesia","FM"]
["Djibouti","DJ","Guam","GU"]
["Denmark","DK","Marshall Islands","MH"]
["Dominica","DM","Northern Mariana Islands","MP"]
["Dominican Republic","DO","Northwest Territories","NT"]
["Algeria","DZ","Nunavut","NU"]
["Ecuador","EC","Puerto Rico","PR"]
["Estonia","EE","Palau","PW"]
["Egypt","EG","U.S. Virgin Islands","VI"]
["Western Sahara","EH","Yukon","YT"]
["Eritrea","ER"]
["Spain","ES"]
["Ethiopia","ET"]
["Finland","FI"]
["Fiji","FJ"]
["Falkland Islands (Malvinas)","FK"]
["Micronesia (Federated States of)","FM"]
["Faroe Islands","FO"]
["France","FR"]
["Gabon","GA"]
["United Kingdom of Great Britain and Northern Ireland","GB"]
["Grenada","GD"]
["Georgia","GE"]
["French Guiana","GF"]
["Ghana","GH"]
["Gibraltar","GI"]
["Greenland","GL"]
["Gambia","GM"]
["Guinea","GN"]
["Guadeloupe","GP"]
["Equatorial Guinea","GQ"]
["Greece","GR"]
["South Georgia and the South Sandwich Islands","GS"]
["Guatemala","GT"]
["Guam","GU"]
["Guinea-Bissau","GW"]
["Guyana","GY"]
["Hong Kong","HK"]
["Heard Island and McDonald Islands","HM"]
["Honduras","HN"]
["Croatia","HR"]
["Haiti","HT"]
["Hungary","HU"]
["Indonesia","ID"]
["Ireland","IE"]
["Israel","IL"]
["India","IN"]
["British Indian Ocean Territory","IO"]
["Iraq","IQ"]
["Iran (Islamic Republic of)","IR"]
["Iceland","IS"]
["Italy","IT"]
["Jamaica","JM"]
["Jordan","JO"]
["Japan","JP"]
["Kenya","KE"]
["Kyrgyzstan","KG"]
["Cambodia","KH"]
["Kiribati","KI"]
["Comoros","KM"]
["Saint Kitts and Nevis","KN"]
["Korea (Democratic People`s Republic of)","KP"]
["Korea (Republic of)","KR"]
["Kuwait","KW"]
["Cayman Islands","KY"]
["Kazakhstan","KZ"]
["Lao People`s Democratic Republic","LA"]
["Lebanon","LB"]
["Saint Lucia","LC"]
["Liechtenstein","LI"]
["Sri Lanka","LK"]
["Liberia","LR"]
["Lesotho","LS"]
["Lithuania","LT"]
["Luxembourg","LU"]
["Latvia","LV"]
["Libya","LY"]
["Morocco","MA"]
["Monaco","MC"]
["Moldova (Republic of)","MD"]
["Madagascar","MG"]
["Marshall Islands","MH"]
["Macedonia (the former Yugoslav Republic of)","MK"]
["Mali","ML"]
["Myanmar","MM"]
["Mongolia","MN"]
["Macao","MO"]
["Northern Mariana Islands","MP"]
["Martinique","MQ"]
["Mauritania","MR"]
["Montserrat","MS"]
["Malta","MT"]
["Mauritius","MU"]
["Maldives","MV"]
["Malawi","MW"]
["Mexico","MX"]
["Malaysia","MY"]
["Mozambique","MZ"]
["Namibia","NA"]
["New Caledonia","NC"]
["Niger","NE"]
["Norfolk Island","NF"]
["Nigeria","NG"]
["Nicaragua","NI"]
["Netherlands","NL"]
["Norway","NO"]
["Nepal","NP"]
["Nauru","NR"]
["Niue","NU"]
["New Zealand","NZ"]
["Oman","OM"]
["Panama","PA"]
["Peru","PE"]
["French Polynesia","PF"]
["Papua New Guinea","PG"]
["Philippines","PH"]
["Pakistan","PK"]
["Poland","PL"]
["Saint Pierre and Miquelon","PM"]
["Pitcairn","PN"]
["Puerto Rico","PR"]
["Portugal","PT"]
["Palau","PW"]
["Paraguay","PY"]
["Qatar","QA"]
["Réunion","RE"]
["Romania","RO"]
["Russian Federation","RU"]
["Rwanda","RW"]
["Saudi Arabia","SA"]
["Solomon Islands","SB"]
["Seychelles","SC"]
["Sudan","SD"]
["Sweden","SE"]
["Singapore","SG"]
["Saint Helena, Ascension and Tristan da Cunha","SH"]
["Slovenia","SI"]
["Svalbard and Jan Mayen","SJ"]
["Slovakia","SK"]
["Sierra Leone","SL"]
["San Marino","SM"]
["Senegal","SN"]
["Somalia","SO"]
["Suriname","SR"]
["Sao Tome and Principe","ST"]
["El Salvador","SV"]
["Syrian Arab Republic","SY"]
["Eswatini","SZ"]
["Turks and Caicos Islands","TC"]
["Chad","TD"]
["French Southern Territories","TF"]
["Togo","TG"]
["Thailand","TH"]
["Tajikistan","TJ"]
["Tokelau","TK"]
["Turkmenistan","TM"]
["Tunisia","TN"]
["Tonga","TO"]
["East Timor","TP"]
["Turkey","TR"]
["Trinidad and Tobago","TT"]
["Tuvalu","TV"]
["Taiwan, Province of China","TW"]
["Tanzania, United Republic of","TZ"]
["Ukraine","UA"]
["Uganda","UG"]
["United States Minor Outlying Islands","UM"]
["United States of America","US"]
["Uruguay","UY"]
["Uzbekistan","UZ"]
["Holy See","VA"]
["Saint Vincent and the Grenadines","VC"]
["Venezuela (Bolivarian Republic of)","VE"]
["Virgin Islands (British)","VG"]
["Virgin Islands (U.S.)","VI"]
["Viet Nam","VN"]
["Vanuatu","VU"]
["Wallis and Futuna","WF"]
["Samoa","WS"]
["Yemen","YE"]
["Mayotte","YT"]
["South Africa","ZA"]
["Zambia","ZM"]
["Zimbabwe","ZW"]

{"sheet":"WMBW-WH","index":1,"n_rows":3,"n_cols":31,"rows_kept":3,"cut":false,"hidden":false,"merged":[[1,9,1,11]]}
[]
[null,"Required\nMUST BE CAPITAL LETTERS","Required\n\n","Required","Required","Required\nPLEASE USE CAPITAL LETTERS",null,null,"Required","Two of  three are required on BOL, Invoice and PO",null,null,"Optional","Required (Max Length of 85 characters)","Required (Max Length of 60 characters)","Required ","Required (Optional if Country is NOT US or CA)","Required (for any country not US, the value 99999 can be used)","Required","Required","Optional","Required (Max Length of 85 characters)","Required","Conditional \nMUST Enter if record being entered is in a  Keg.","Conditional\nMUST Enter if record being entered is in a Case.","Conditional\nMUST Enter if record being entered is in a Case.","Conditional\nMUST Enter if record being entered is in a Case.","Required","Optional",null,"Required IF Small Winery Exemption is Yes"]
[null,"Return Type\n(O or A)\nO = Original\nA = Amendment","Report Year/Month\n(YYYYMM)","Filer License Type\n(WMBW or WH for Warehouse)","Filer Privilege Tax ID Number\n(EXAMPLE OF  FORMAT: PT999999)","Schedule Type \n(1A, 1B, 2A, 2B, 3A, 3B, 3C, 3D)",null,null,"Date Field\nYYYYMMDD","Bill of Lading #","Invoice #\n","Purchase Order #","purchased from / sold to Privilege Tax ID Number\n(EXAMPLE OF  FORMAT: PT999999)","Purchased from / sold to \nName ","\n\nPurchased from / sold to \nStreet Address","Purchased from / sold to \nCity","Purchased from / sold to \nState/Region","Purchased from / sold to \nZip/Postal","\nPurchased from / sold to Country","Product Code (Must be a valid code from list on Instructions Tab)","SKU/Inventory Code","Product Name","Quantity\n(Must be a positive whole number)","Keg Sizes\n(1/2; 1/4; 1/6; 1/8;    1.32Gal; 5Gal; 5.16Gal; 5.2Gal; 7.9Gal; 10.8Gal; 13.2Gal; 18L; 19L; 19.5L; 20L; 24L; 25L; 30L; 50L)","Case Quantity\n(Must be a positive whole number)","Bottle/Can size (Example of format:  99999.99) ","Bottle/Can Unit of Measure\n(Not Case Sensitive OZ for ounces, ML for milliliters or L for Liters)","ABV (Alcohol by Volume)\n(Example of format:  99.99)","Subject to Small Winery Exemption?\n(Y or Blank)",null,"Winery TTB Basic Permit #"]

{"sheet":"INVENTORY 3E","index":2,"n_rows":3,"n_cols":31,"rows_kept":3,"cut":false,"hidden":false,"merged":[]}
[]
[null,"Required\nMUST USE CAPITAL LETTERS","Required","Required","Required","Required\nPLEASE USE CAPITAL LETTERS","Blank","Blank","Blank","Blank","Blank","Blank","Blank","Blank","Blank","Blank","Blank","Blank","Blank","Required","Optional","Required (Max Length of 35 characters)","Required","Conditional \nMUST Enter if record being entered is in a  Keg.","Conditional\nMUST Enter if record being entered is in a Case.","Conditional\nMUST Enter if record being entered is in a Case.","Conditional\nMUST Enter if record being entered is in a Case.","Required","Blank","Blank","Blank"]
[null,"Return Type (O or A)\nO = Original\nA = Amendment","Report Year/Month (YYYYMM)","Filer License Type\n(BRW, BP, WH, WMBW)","Filer Privilege Tax ID Number\n(EXAMPLE OF  FORMAT: PT999999)","Schedule (Field must be 3E)",null,null,null,null,null,null,null,null,null,null,null,null,null,"Product Code\n(Must be a valid code from list on Instructions Tab)","SKU/Inventory Code","Product Name","Quantity On Hand\n(Must be a positive whole number)","Keg Sizes\n(1/2; 1/4; 1/6; 1/8;    1.32Gal; 5Gal; 5.16Gal; 5.2Gal; 7.9Gal; 10.8Gal; 13.2Gal; 18L; 19L; 19.5L; 20L; 24L; 25L; 30L; 50L)","Case Quantity\n(Must be a positive whole number)","Bottle/Can size (Example of format:  99999.99) ","Bottle/Can Unit of Measure\n(Not Case Sensitive OZ for ounces or ML for milliliters or L for Liters)","ABV (Alcohol by Volume)\n(Example of format:  99.99)"]

{"sheet":"CERA","index":3,"n_rows":3,"n_cols":31,"rows_kept":3,"cut":false,"hidden":false,"merged":[[1,9,1,11]]}
[]
[null,"Required\nMUST USE CAPITAL LETTERS","Required","Required","Required","Required","Required",null,"Required","Two of  three are required for BOL, Invoice and PO",null,null,"Required ","Required (Max Length of 85 characters) ","Required (Max Length of 60 characters) ","Required ","Required (Optional if Country is NOT US or CA)","Required (for any country not US, the value 99999 can be used) ","Required","Required","Optional","Required (Max Length of 85 characters)","Required","Conditional \nMUST Enter if record being entered is in a  Keg.","Conditional\nMUST Enter if record being entered is in a Case.","Conditional\nMUST Enter if record being entered is in a Case.","Conditional\nMUST Enter if record being entered is in a Case.","Required","Optional","Conditional\nMUST Enter if SWE is Yes","Conditional\nMUST Enter if SWE is Yes"]
[null,"Return Type\n(O or A)\nO = Original\nA = Amendment","Report Year/Month\n(YYYYMM)","Filer License Type\n(Must Be CERA or TEMP for CERA TEMP)","Filer Privilege Tax ID Number\n(EXAMPLE OF  FORMAT: PT999999)","Schedule Type (Will always be 5)","Bonded or TaxPaid (B_ or TP\nMost often, this is TP)",null,"Date Field\nYYYYMMDD","Bill of Lading #","Invoice #\n","Purchase Order #","Shipped To Privilege Tax ID Number\n(EXAMPLE OF  FORMAT: PT999999)","Shipped To \nCompany Name","\n\nShipped To\nStreet Address","Shipped To \nCity","Shipped To\nState / Region","Shipped To\nZip / Postal","\nShipped To Country","Product Code (Must be a valid code from list on Instructions Tab)","SKU/Inventory Code","Product Name","Quantity\n(Must be a positive whole number)","Keg Sizes\n(1/2; 1/4; 1/6; 1/8;    1.32Gal; 5Gal; 5.16Gal; 5.2Gal; 7.9Gal; 10.8Gal; 13.2Gal; 18L; 19L; 19.5L; 20L; 24L; 25L; 30L; 50L)","Case Quantity (Must be a positive whole number)","Bottle/Can size (Example of format:  99999.99) ","Bottle/Can Unit of Measure\n(Not Case Sensitive OZ for ounces, ML for milliliters or L for Liters)","ABV (Alcohol by Volume)\n(Example of format:  99.99)","Subject to Small Winery Exemption?\n(Y or Blank)","Produced By Our Winery  \n(Y N or Blank)","Winery TTB Basic Permit #"]

{"sheet":"BREW","index":4,"n_rows":3,"n_cols":31,"rows_kept":3,"cut":false,"hidden":false,"merged":[[1,9,1,11]]}
[]
[null,"Required\nMUST USE CAPITAL LETTERS","Required","Required","Required","Required\nMUST USE CAPITAL LETTERS",null,"This field will be Y or N if schedule is 1C.  For all other schedules leave blank.","Req  - UNLESS The schedule is 1C and the Customer/Retailer is \"Y\"","Two of  three are required on BOL, Invoice and PO\nThese fields are not required ONLY if the Schedule is 1C and the Customer / Retailer is \"\"Y\"\t",null,null,"Cond / Opt\nIf Column H is 'Yes' then this is not needed.","Cond / Req \nIf Schedule is 1C and Column H is 'Yes' then this is not needed.","Required (Max Length of 60 characters)\nIf Schedule is 1C and Column H is 'Yes' then this is not needed.","Required \nIf Schedule is 1C and Column H is 'Yes' then this is not needed.","Required (Optional if Country is NOT US or CA) - If Schedule is 1C and Column H is 'Yes' then this is not needed.","Required (for any country not US, the value 99999 can be used) - If Schedule is 1C and Column H is 'Yes' then this is not needed.\n","Required If Schedule is 1C and Column H is 'Yes' then this is not needed.","Required","Optional","Required (Max Length of 85 characters)","Required","Conditional \nMUST Enter if record being entered is in a  Keg.","Conditional\nMUST Enter if record being entered is in a Case.","Conditional\nMUST Enter if record being entered is in a Case.","Conditional\nMUST Enter if record being entered is in a Case.","Required","Not Applicable","Not Applicable","Shipped to/Received from Brewer’s Notice Permit #: \nRequired if schedule is 3F or 3G and Ship/Receive State is not = 'OR'. "]
[null,"Return Type\n(O or A)\nO = Original\nA = Amendment","Report Year/Month\n(YYYYMM)","Filer License Type\n(BRW  for Brewery,BP for Brewpub)","Filer Privilege Tax ID Number\n(EXAMPLE OF  FORMAT: PT999999)","Schedule Type (1B, 1C, 2A, 2B, 3D, 3F, 3G)",null,"This field is ONLY APPLICABLE for 1C Schedule - all other schedules,  leave blank Customer / Retailer (Y or N) ","Date Field\nYYYYMMDD","Bill of Lading #","Invoice #","Purchase Order #","purchased from / sold to Privilege Tax ID Number(EXAMPLE OF  FORMAT: PT999999)","Purchased from / sold to \nName ","\n\nPurchased from / sold to \nStreet Address","Purchased from / sold to \nCity","Purchased from / sold to \nState/Region","Purchased from / sold to \nZip/Postal\n(5 digits only)","\nPurchased from / sold to Country","Product Code (Must be a valid code from list on Instructions Tab)","SKU/Inventory Code","Product Name","Quantity\n(Must be a positive whole number)","Keg Sizes\n(1/2; 1/4; 1/6; 1/8;    1.32Gal; 5Gal; 5.16Gal; 5.2Gal; 7.9Gal; 10.8Gal; 13.2Gal; 18L; 19L; 19.5L; 20L; 24L; 25L; 30L; 50L)","Case Quantity\n(Must be a positive whole number)","Bottle/Can size (Example of format:  99999.99) ","Bottle/Can Unit of Measure\n(Not Case Sensitive OZ for ounces, ML for milliliters or L for Liters)","ABV (Alcohol by Volume)\n(Example of format:  99.99)","Not Applicable for this license type.  Must be space filled. ","Not Applicable for this license type.  Must be space filled. ","Shipped to or Received From  Brewers Notice Permit #"]

{"sheet":"Data","index":5,"n_rows":240,"n_cols":20,"rows_kept":240,"cut":false,"hidden":true,"merged":[]}
["Return Type","WMBW-WH Filer License Type",null,"Product Codes","Keg Sizes ","CERA Filer License Type","Full Name of Product Type","Bottle/Can Unit of Measure","Yes/No",null,null,null,"InvTypes","WMSched","InvSched","CERASched","BREWSched",null,"Country Code","St/Prov"]
["O","WH",null,"CID.Case","1/2","CERA","Cider (Apple/Pear) - Case","Oz","Y",null,"B",null,"BRW","1A","3E",5,"1B",null,"AD","AK"]
["A","WMBW",null,"CIDOTH.Case","1/4","Temp","Cider (Other Fruits) - Case","Ml","N",null,"TP",null,"BP","1B",null,null,"1C",null,"AE","AL"]
[null,null,null,"MB.Case","1/6",null,"Malt - Case","L",null,null,null,null,"WH","2A",null,null,"2A",null,"AF","AR"]
[null,null,null,"SCS.Case","1/8",null,"Seltzer (Cane Sugar) - Case",null,null,null,null,null,"WMBW","2B",null,null,"2B",null,"AG","AZ"]
[null,null,null,"SMS.Case","1.32GAL",null,"Seltzer (Malt Sugar) - Case",null,null,null,null,null,null,"3A",null,null,"3D",null,"AI","CA"]
[null,null,null,"WINE.Case","5Gal",null,"Wine - Case",null,null,null,null,null,null,"3B",null,null,"3E",null,"AL","CO"]
[null,null,null,"CID.Keg","5.16Gal",null,"Cider (Apple/Pear) - Keg",null,null,null,null,null,null,"3C",null,null,"3F",null,"AM","CT"]
[null,null,null,"CIDOTH.Keg","5.2Gal",null,"Cider (other Fruits) - Keg",null,null,null,null,null,null,"3D",null,null,"3G",null,"AN","DC"]
[null,null,null,"MB.Keg","7.9Gal",null,"Malt - Keg",null,null,null,null,null,null,"3E",null,null,null,null,"AO","DE"]
[null,null,null,"SCS.Keg","10.8Gal",null,"Seltzer (Cane Sugar) - Keg",null,null,null,null,null,null,null,null,null,null,null,"AQ","FL"]
[null,null,null,"SMS.Keg","13.2Gal",null,"Seltzer (Malt Sugar) - Keg",null,null,null,null,null,null,null,null,null,null,null,"AR","GA"]
[null,null,null,"WINE.Keg","18L",null,"Wine - Keg",null,null,null,null,null,null,null,null,null,null,null,"AS","HI"]
[null,null,null,null,"19L",null,null,null,null,null,null,null,null,null,null,null,null,null,"AT","IA"]
[null,null,null,null,"19.5L",null,null,null,null,null,null,null,null,null,null,null,null,null,"AU","ID"]
[null,null,null,null,"20L",null,null,null,null,null,null,null,null,null,null,null,null,null,"AW","IL"]
[null,null,null,null,"24L",null,null,null,null,null,null,null,null,null,null,null,null,null,"AX","IN"]
[null,null,null,null,"25L",null,null,null,null,null,null,null,null,null,null,null,null,null,"AZ","KS"]
[null,null,null,null,"30L",null,null,null,null,null,null,null,null,null,null,null,null,null,"BA","KY"]
[null,null,null,null,"50L",null,null,null,null,null,null,null,null,null,null,null,null,null,"BB","LA"]
[null,null,null,null,null,null,null,null,null,null,null,null,null,null,null,null,null,null,"BD","MA"]
[null,null,null,null,null,null,null,null,null,null,null,null,null,null,null,null,null,null,"BE","MD"]
[null,null,null,null,null,null,null,null,null,null,null,null,null,null,null,null,null,null,"BF","ME"]
[null,null,null,null,null,null,null,null,null,null,null,null,null,null,null,null,null,null,"BG","MI"]
[null,null,null,null,null,null,null,null,null,null,null,null,null,null,null,null,null,null,"BH","MN"]
[null,null,null,null,null,null,null,null,null,null,null,null,null,null,null,null,null,null,"BI","MO"]
[null,null,null,null,null,null,null,null,null,null,null,null,null,null,null,null,null,null,"BJ","MS"]
[null,null,null,null,null,null,null,null,null,null,null,null,null,null,null,null,null,null,"BM","MT"]
[null,null,null,null,null,null,null,null,null,null,null,null,null,null,null,null,null,null,"BN","NC"]
[null,null,null,null,null,null,null,null,null,null,null,null,null,null,null,null,null,null,"BO","ND"]
[null,null,null,null,null,null,null,null,null,null,null,null,null,null,null,null,null,null,"BR","NE"]
[null,null,null,null,null,null,null,null,null,null,null,null,null,null,null,null,null,null,"BS","NH"]
[null,null,null,null,null,null,null,null,null,null,null,null,null,null,null,null,null,null,"BT","NJ"]
[null,null,null,null,null,null,null,null,null,null,null,null,null,null,null,null,null,null,"BV","NM"]
[null,null,null,null,null,null,null,null,null,null,null,null,null,null,null,null,null,null,"BW","NV"]
[null,null,null,null,null,null,null,null,null,null,null,null,null,null,null,null,null,null,"BY","NY"]
[null,null,null,null,null,null,null,null,null,null,null,null,null,null,null,null,null,null,"BZ","OH"]
[null,null,null,null,null,null,null,null,null,null,null,null,null,null,null,null,null,null,"CA","OK"]
[null,null,null,null,null,null,null,null,null,null,null,null,null,null,null,null,null,null,"CC","OR"]
[null,null,null,null,null,null,null,null,null,null,null,null,null,null,null,null,null,null,"CD","PA"]
[null,null,null,null,null,null,null,null,null,null,null,null,null,null,null,null,null,null,"CF","RI"]
[null,null,null,null,null,null,null,null,null,null,null,null,null,null,null,null,null,null,"CG","SC"]
[null,null,null,null,null,null,null,null,null,null,null,null,null,null,null,null,null,null,"CH","SD"]
[null,null,null,null,null,null,null,null,null,null,null,null,null,null,null,null,null,null,"CI","TN"]
[null,null,null,null,null,null,null,null,null,null,null,null,null,null,null,null,null,null,"CK","TX"]
[null,null,null,null,null,null,null,null,null,null,null,null,null,null,null,null,null,null,"CL","UT"]
[null,null,null,null,null,null,null,null,null,null,null,null,null,null,null,null,null,null,"CM","VA"]
[null,null,null,null,null,null,null,null,null,null,null,null,null,null,null,null,null,null,"CN","VT"]
[null,null,null,null,null,null,null,null,null,null,null,null,null,null,null,null,null,null,"CO","WA"]
[null,null,null,null,null,null,null,null,null,null,null,null,null,null,null,null,null,null,"CR","WI"]
[null,null,null,null,null,null,null,null,null,null,null,null,null,null,null,null,null,null,"CS","WV"]
[null,null,null,null,null,null,null,null,null,null,null,null,null,null,null,null,null,null,"CU","WY"]
[null,null,null,null,null,null,null,null,null,null,null,null,null,null,null,null,null,null,"CV","AA"]
[null,null,null,null,null,null,null,null,null,null,null,null,null,null,null,null,null,null,"CX","AE"]
[null,null,null,null,null,null,null,null,null,null,null,null,null,null,null,null,null,null,"CY","AP"]
[null,null,null,null,null,null,null,null,null,null,null,null,null,null,null,null,null,null,"CZ","AS"]
[null,null,null,null,null,null,null,null,null,null,null,null,null,null,null,null,null,null,"DE","FM"]
[null,null,null,null,null,null,null,null,null,null,null,null,null,null,null,null,null,null,"DJ","GU"]
[null,null,null,null,null,null,null,null,null,null,null,null,null,null,null,null,null,null,"DK","MH"]
[null,null,null,null,null,null,null,null,null,null,null,null,null,null,null,null,null,null,"DM","MP"]
[null,null,null,null,null,null,null,null,null,null,null,null,null,null,null,null,null,null,"DO","NT"]
[null,null,null,null,null,null,null,null,null,null,null,null,null,null,null,null,null,null,"DZ","NU"]
[null,null,null,null,null,null,null,null,null,null,null,null,null,null,null,null,null,null,"EC","PR"]
[null,null,null,null,null,null,null,null,null,null,null,null,null,null,null,null,null,null,"EE","PW"]
[null,null,null,null,null,null,null,null,null,null,null,null,null,null,null,null,null,null,"EG","VI"]
[null,null,null,null,null,null,null,null,null,null,null,null,null,null,null,null,null,null,"EH","AB"]
[null,null,null,null,null,null,null,null,null,null,null,null,null,null,null,null,null,null,"ER","BC"]
[null,null,null,null,null,null,null,null,null,null,null,null,null,null,null,null,null,null,"ES","MB"]
[null,null,null,null,null,null,null,null,null,null,null,null,null,null,null,null,null,null,"ET","NB"]
[null,null,null,null,null,null,null,null,null,null,null,null,null,null,null,null,null,null,"FI","NL"]
[null,null,null,null,null,null,null,null,null,null,null,null,null,null,null,null,null,null,"FJ","NT"]
[null,null,null,null,null,null,null,null,null,null,null,null,null,null,null,null,null,null,"FK","NS"]
[null,null,null,null,null,null,null,null,null,null,null,null,null,null,null,null,null,null,"FM","NU"]
[null,null,null,null,null,null,null,null,null,null,null,null,null,null,null,null,null,null,"FO","ON"]
[null,null,null,null,null,null,null,null,null,null,null,null,null,null,null,null,null,null,"FR","PE"]
[null,null,null,null,null,null,null,null,null,null,null,null,null,null,null,null,null,null,"GA","QC"]
[null,null,null,null,null,null,null,null,null,null,null,null,null,null,null,null,null,null,"GB","SK"]
[null,null,null,null,null,null,null,null,null,null,null,null,null,null,null,null,null,null,"GD","YT"]
[null,null,null,null,null,null,null,null,null,null,null,null,null,null,null,null,null,null,"GE"]
[null,null,null,null,null,null,null,null,null,null,null,null,null,null,null,null,null,null,"GF"]
[null,null,null,null,null,null,null,null,null,null,null,null,null,null,null,null,null,null,"GH"]
[null,null,null,null,null,null,null,null,null,null,null,null,null,null,null,null,null,null,"GI"]
[null,null,null,null,null,null,null,null,null,null,null,null,null,null,null,null,null,null,"GL"]
[null,null,null,null,null,null,null,null,null,null,null,null,null,null,null,null,null,null,"GM"]
[null,null,null,null,null,null,null,null,null,null,null,null,null,null,null,null,null,null,"GN"]
[null,null,null,null,null,null,null,null,null,null,null,null,null,null,null,null,null,null,"GP"]
[null,null,null,null,null,null,null,null,null,null,null,null,null,null,null,null,null,null,"GQ"]
[null,null,null,null,null,null,null,null,null,null,null,null,null,null,null,null,null,null,"GR"]
[null,null,null,null,null,null,null,null,null,null,null,null,null,null,null,null,null,null,"GS"]
[null,null,null,null,null,null,null,null,null,null,null,null,null,null,null,null,null,null,"GT"]
[null,null,null,null,null,null,null,null,null,null,null,null,null,null,null,null,null,null,"GU"]
[null,null,null,null,null,null,null,null,null,null,null,null,null,null,null,null,null,null,"GW"]
[null,null,null,null,null,null,null,null,null,null,null,null,null,null,null,null,null,null,"GY"]
[null,null,null,null,null,null,null,null,null,null,null,null,null,null,null,null,null,null,"HK"]
[null,null,null,null,null,null,null,null,null,null,null,null,null,null,null,null,null,null,"HM"]
[null,null,null,null,null,null,null,null,null,null,null,null,null,null,null,null,null,null,"HN"]
[null,null,null,null,null,null,null,null,null,null,null,null,null,null,null,null,null,null,"HR"]
[null,null,null,null,null,null,null,null,null,null,null,null,null,null,null,null,null,null,"HT"]
[null,null,null,null,null,null,null,null,null,null,null,null,null,null,null,null,null,null,"HU"]
[null,null,null,null,null,null,null,null,null,null,null,null,null,null,null,null,null,null,"ID"]
[null,null,null,null,null,null,null,null,null,null,null,null,null,null,null,null,null,null,"IE"]
[null,null,null,null,null,null,null,null,null,null,null,null,null,null,null,null,null,null,"IL"]
[null,null,null,null,null,null,null,null,null,null,null,null,null,null,null,null,null,null,"IN"]
[null,null,null,null,null,null,null,null,null,null,null,null,null,null,null,null,null,null,"IO"]
[null,null,null,null,null,null,null,null,null,null,null,null,null,null,null,null,null,null,"IQ"]
[null,null,null,null,null,null,null,null,null,null,null,null,null,null,null,null,null,null,"IR"]
[null,null,null,null,null,null,null,null,null,null,null,null,null,null,null,null,null,null,"IS"]
[null,null,null,null,null,null,null,null,null,null,null,null,null,null,null,null,null,null,"IT"]
[null,null,null,null,null,null,null,null,null,null,null,null,null,null,null,null,null,null,"JM"]
[null,null,null,null,null,null,null,null,null,null,null,null,null,null,null,null,null,null,"JO"]
[null,null,null,null,null,null,null,null,null,null,null,null,null,null,null,null,null,null,"JP"]
[null,null,null,null,null,null,null,null,null,null,null,null,null,null,null,null,null,null,"KE"]
[null,null,null,null,null,null,null,null,null,null,null,null,null,null,null,null,null,null,"KG"]
[null,null,null,null,null,null,null,null,null,null,null,null,null,null,null,null,null,null,"KH"]
[null,null,null,null,null,null,null,null,null,null,null,null,null,null,null,null,null,null,"KI"]
[null,null,null,null,null,null,null,null,null,null,null,null,null,null,null,null,null,null,"KM"]
[null,null,null,null,null,null,null,null,null,null,null,null,null,null,null,null,null,null,"KN"]
[null,null,null,null,null,null,null,null,null,null,null,null,null,null,null,null,null,null,"KP"]
[null,null,null,null,null,null,null,null,null,null,null,null,null,null,null,null,null,null,"KR"]
[null,null,null,null,null,null,null,null,null,null,null,null,null,null,null,null,null,null,"KW"]
[null,null,null,null,null,null,null,null,null,null,null,null,null,null,null,null,null,null,"KY"]
[null,null,null,null,null,null,null,null,null,null,null,null,null,null,null,null,null,null,"KZ"]
[null,null,null,null,null,null,null,null,null,null,null,null,null,null,null,null,null,null,"LA"]
[null,null,null,null,null,null,null,null,null,null,null,null,null,null,null,null,null,null,"LB"]
[null,null,null,null,null,null,null,null,null,null,null,null,null,null,null,null,null,null,"LC"]
[null,null,null,null,null,null,null,null,null,null,null,null,null,null,null,null,null,null,"LI"]
[null,null,null,null,null,null,null,null,null,null,null,null,null,null,null,null,null,null,"LK"]
[null,null,null,null,null,null,null,null,null,null,null,null,null,null,null,null,null,null,"LR"]
[null,null,null,null,null,null,null,null,null,null,null,null,null,null,null,null,null,null,"LS"]
[null,null,null,null,null,null,null,null,null,null,null,null,null,null,null,null,null,null,"LT"]
[null,null,null,null,null,null,null,null,null,null,null,null,null,null,null,null,null,null,"LU"]
[null,null,null,null,null,null,null,null,null,null,null,null,null,null,null,null,null,null,"LV"]
[null,null,null,null,null,null,null,null,null,null,null,null,null,null,null,null,null,null,"LY"]
[null,null,null,null,null,null,null,null,null,null,null,null,null,null,null,null,null,null,"MA"]
[null,null,null,null,null,null,null,null,null,null,null,null,null,null,null,null,null,null,"MC"]
[null,null,null,null,null,null,null,null,null,null,null,null,null,null,null,null,null,null,"MD"]
[null,null,null,null,null,null,null,null,null,null,null,null,null,null,null,null,null,null,"MG"]
[null,null,null,null,null,null,null,null,null,null,null,null,null,null,null,null,null,null,"MH"]
[null,null,null,null,null,null,null,null,null,null,null,null,null,null,null,null,null,null,"MK"]
[null,null,null,null,null,null,null,null,null,null,null,null,null,null,null,null,null,null,"ML"]
[null,null,null,null,null,null,null,null,null,null,null,null,null,null,null,null,null,null,"MM"]
[null,null,null,null,null,null,null,null,null,null,null,null,null,null,null,null,null,null,"MN"]
[null,null,null,null,null,null,null,null,null,null,null,null,null,null,null,null,null,null,"MO"]
[null,null,null,null,null,null,null,null,null,null,null,null,null,null,null,null,null,null,"MP"]
[null,null,null,null,null,null,null,null,null,null,null,null,null,null,null,null,null,null,"MQ"]
[null,null,null,null,null,null,null,null,null,null,null,null,null,null,null,null,null,null,"MR"]
[null,null,null,null,null,null,null,null,null,null,null,null,null,null,null,null,null,null,"MS"]
[null,null,null,null,null,null,null,null,null,null,null,null,null,null,null,null,null,null,"MT"]
[null,null,null,null,null,null,null,null,null,null,null,null,null,null,null,null,null,null,"MU"]
[null,null,null,null,null,null,null,null,null,null,null,null,null,null,null,null,null,null,"MV"]
[null,null,null,null,null,null,null,null,null,null,null,null,null,null,null,null,null,null,"MW"]
[null,null,null,null,null,null,null,null,null,null,null,null,null,null,null,null,null,null,"MX"]
[null,null,null,null,null,null,null,null,null,null,null,null,null,null,null,null,null,null,"MY"]
[null,null,null,null,null,null,null,null,null,null,null,null,null,null,null,null,null,null,"MZ"]
[null,null,null,null,null,null,null,null,null,null,null,null,null,null,null,null,null,null,"NA"]
[null,null,null,null,null,null,null,null,null,null,null,null,null,null,null,null,null,null,"NC"]
[null,null,null,null,null,null,null,null,null,null,null,null,null,null,null,null,null,null,"NE"]
[null,null,null,null,null,null,null,null,null,null,null,null,null,null,null,null,null,null,"NF"]
[null,null,null,null,null,null,null,null,null,null,null,null,null,null,null,null,null,null,"NG"]
[null,null,null,null,null,null,null,null,null,null,null,null,null,null,null,null,null,null,"NI"]
[null,null,null,null,null,null,null,null,null,null,null,null,null,null,null,null,null,null,"NL"]
[null,null,null,null,null,null,null,null,null,null,null,null,null,null,null,null,null,null,"NO"]
[null,null,null,null,null,null,null,null,null,null,null,null,null,null,null,null,null,null,"NP"]
[null,null,null,null,null,null,null,null,null,null,null,null,null,null,null,null,null,null,"NR"]
[null,null,null,null,null,null,null,null,null,null,null,null,null,null,null,null,null,null,"NU"]
[null,null,null,null,null,null,null,null,null,null,null,null,null,null,null,null,null,null,"NZ"]
[null,null,null,null,null,null,null,null,null,null,null,null,null,null,null,null,null,null,"OM"]
[null,null,null,null,null,null,null,null,null,null,null,null,null,null,null,null,null,null,"PA"]
[null,null,null,null,null,null,null,null,null,null,null,null,null,null,null,null,null,null,"PE"]
[null,null,null,null,null,null,null,null,null,null,null,null,null,null,null,null,null,null,"PF"]
[null,null,null,null,null,null,null,null,null,null,null,null,null,null,null,null,null,null,"PG"]
[null,null,null,null,null,null,null,null,null,null,null,null,null,null,null,null,null,null,"PH"]
[null,null,null,null,null,null,null,null,null,null,null,null,null,null,null,null,null,null,"PK"]
[null,null,null,null,null,null,null,null,null,null,null,null,null,null,null,null,null,null,"PL"]
[null,null,null,null,null,null,null,null,null,null,null,null,null,null,null,null,null,null,"PM"]
[null,null,null,null,null,null,null,null,null,null,null,null,null,null,null,null,null,null,"PN"]
[null,null,null,null,null,null,null,null,null,null,null,null,null,null,null,null,null,null,"PR"]
[null,null,null,null,null,null,null,null,null,null,null,null,null,null,null,null,null,null,"PT"]
[null,null,null,null,null,null,null,null,null,null,null,null,null,null,null,null,null,null,"PW"]
[null,null,null,null,null,null,null,null,null,null,null,null,null,null,null,null,null,null,"PY"]
[null,null,null,null,null,null,null,null,null,null,null,null,null,null,null,null,null,null,"QA"]
[null,null,null,null,null,null,null,null,null,null,null,null,null,null,null,null,null,null,"RE"]
[null,null,null,null,null,null,null,null,null,null,null,null,null,null,null,null,null,null,"RO"]
[null,null,null,null,null,null,null,null,null,null,null,null,null,null,null,null,null,null,"RU"]
[null,null,null,null,null,null,null,null,null,null,null,null,null,null,null,null,null,null,"RW"]
[null,null,null,null,null,null,null,null,null,null,null,null,null,null,null,null,null,null,"SA"]
[null,null,null,null,null,null,null,null,null,null,null,null,null,null,null,null,null,null,"SB"]
[null,null,null,null,null,null,null,null,null,null,null,null,null,null,null,null,null,null,"SC"]
[null,null,null,null,null,null,null,null,null,null,null,null,null,null,null,null,null,null,"SD"]
[null,null,null,null,null,null,null,null,null,null,null,null,null,null,null,null,null,null,"SE"]
[null,null,null,null,null,null,null,null,null,null,null,null,null,null,null,null,null,null,"SG"]
[null,null,null,null,null,null,null,null,null,null,null,null,null,null,null,null,null,null,"SH"]
[null,null,null,null,null,null,null,null,null,null,null,null,null,null,null,null,null,null,"SI"]
[null,null,null,null,null,null,null,null,null,null,null,null,null,null,null,null,null,null,"SJ"]
[null,null,null,null,null,null,null,null,null,null,null,null,null,null,null,null,null,null,"SK"]
[null,null,null,null,null,null,null,null,null,null,null,null,null,null,null,null,null,null,"SL"]
[null,null,null,null,null,null,null,null,null,null,null,null,null,null,null,null,null,null,"SM"]
[null,null,null,null,null,null,null,null,null,null,null,null,null,null,null,null,null,null,"SN"]
[null,null,null,null,null,null,null,null,null,null,null,null,null,null,null,null,null,null,"SO"]
[null,null,null,null,null,null,null,null,null,null,null,null,null,null,null,null,null,null,"SR"]
[null,null,null,null,null,null,null,null,null,null,null,null,null,null,null,null,null,null,"ST"]
[null,null,null,null,null,null,null,null,null,null,null,null,null,null,null,null,null,null,"SV"]
[null,null,null,null,null,null,null,null,null,null,null,null,null,null,null,null,null,null,"SY"]
[null,null,null,null,null,null,null,null,null,null,null,null,null,null,null,null,null,null,"SZ"]
[null,null,null,null,null,null,null,null,null,null,null,null,null,null,null,null,null,null,"TC"]
[null,null,null,null,null,null,null,null,null,null,null,null,null,null,null,null,null,null,"TD"]
[null,null,null,null,null,null,null,null,null,null,null,null,null,null,null,null,null,null,"TF"]
[null,null,null,null,null,null,null,null,null,null,null,null,null,null,null,null,null,null,"TG"]
[null,null,null,null,null,null,null,null,null,null,null,null,null,null,null,null,null,null,"TH"]
[null,null,null,null,null,null,null,null,null,null,null,null,null,null,null,null,null,null,"TJ"]
[null,null,null,null,null,null,null,null,null,null,null,null,null,null,null,null,null,null,"TK"]
[null,null,null,null,null,null,null,null,null,null,null,null,null,null,null,null,null,null,"TM"]
[null,null,null,null,null,null,null,null,null,null,null,null,null,null,null,null,null,null,"TN"]
[null,null,null,null,null,null,null,null,null,null,null,null,null,null,null,null,null,null,"TO"]
[null,null,null,null,null,null,null,null,null,null,null,null,null,null,null,null,null,null,"TP"]
[null,null,null,null,null,null,null,null,null,null,null,null,null,null,null,null,null,null,"TR"]
[null,null,null,null,null,null,null,null,null,null,null,null,null,null,null,null,null,null,"TT"]
[null,null,null,null,null,null,null,null,null,null,null,null,null,null,null,null,null,null,"TV"]
[null,null,null,null,null,null,null,null,null,null,null,null,null,null,null,null,null,null,"TW"]
[null,null,null,null,null,null,null,null,null,null,null,null,null,null,null,null,null,null,"TZ"]
[null,null,null,null,null,null,null,null,null,null,null,null,null,null,null,null,null,null,"UA"]
[null,null,null,null,null,null,null,null,null,null,null,null,null,null,null,null,null,null,"UG"]
[null,null,null,null,null,null,null,null,null,null,null,null,null,null,null,null,null,null,"UM"]
[null,null,null,null,null,null,null,null,null,null,null,null,null,null,null,null,null,null,"US"]
[null,null,null,null,null,null,null,null,null,null,null,null,null,null,null,null,null,null,"UY"]
[null,null,null,null,null,null,null,null,null,null,null,null,null,null,null,null,null,null,"UZ"]
[null,null,null,null,null,null,null,null,null,null,null,null,null,null,null,null,null,null,"VA"]
[null,null,null,null,null,null,null,null,null,null,null,null,null,null,null,null,null,null,"VC"]
[null,null,null,null,null,null,null,null,null,null,null,null,null,null,null,null,null,null,"VE"]
[null,null,null,null,null,null,null,null,null,null,null,null,null,null,null,null,null,null,"VG"]
[null,null,null,null,null,null,null,null,null,null,null,null,null,null,null,null,null,null,"VI"]
[null,null,null,null,null,null,null,null,null,null,null,null,null,null,null,null,null,null,"VN"]
[null,null,null,null,null,null,null,null,null,null,null,null,null,null,null,null,null,null,"VU"]
[null,null,null,null,null,null,null,null,null,null,null,null,null,null,null,null,null,null,"WF"]
[null,null,null,null,null,null,null,null,null,null,null,null,null,null,null,null,null,null,"WS"]
[null,null,null,null,null,null,null,null,null,null,null,null,null,null,null,null,null,null,"YE"]
[null,null,null,null,null,null,null,null,null,null,null,null,null,null,null,null,null,null,"YT"]
[null,null,null,null,null,null,null,null,null,null,null,null,null,null,null,null,null,null,"ZA"]
[null,null,null,null,null,null,null,null,null,null,null,null,null,null,null,null,null,null,"ZM"]
[null,null,null,null,null,null,null,null,null,null,null,null,null,null,null,null,null,null,"ZW"]

{"sheet":"Check_WM","index":6,"n_rows":35,"n_cols":567,"rows_kept":35,"cut":false,"hidden":true,"merged":[]}
["1.      ","2.      ","3.      ","4.      ","5.      ","6.      ","7.      ","8.      ","9.      ","10.   ","11.   ","12.   ","13.   ","14.   ","15.   ","16.   ","17.   ","18.   ","19.   ","20.   ","21.   ","22.   ","23.   ","24.   ","25.   ","26.   ","27.   ","28.   ","29.   ","30.   ","31.   ","Col No.",null,null,null,null,null,null,null,null,null,null,null,null,null,null,null,null,null,null,null,null,null,null,null,null,null,null,null,null,null,null,null,null,null,null,null,null,null,null,null,null,null,null,null,null,null,null,null,null,null,null,null,null,null,null,null,null,null,null,null,null,null,null,null,null,null,null,null,null,null,null,null,null,null,null,null,null,null,null,null,null,null,null,null,null,null,null,null,null,null,null,null,null,null,null,null,null,null,null,null,null,null,null,null,null,null,null,null,null,null,null,null,null,null,null,null,null,null,null,null,null,null,null,null,null,null,null,null,null,null,null,null,null,null,null,null,null,null,null,null,null,null,null,null,null,null,null,null,null,null,null,null,null,null,null,null,null,null,null,null,null,null,null,null,null,null,null,null,null,null,null,null,null,null,null,null,null,null,null,null,null,null,null,null,null,null,null,null,null,null,null,null,null,null,null,null,null,null,null,null,null,null,null,null,null,null,null,null,null,null,null,null,null,null,null,null,null,null,null,null,null,null,null,null,null,null,null,null,null,null,null,null,null,null,null,null,null,null,null,null,null,null,null,null,null,null,null,null,null,null,null,null,null,null,null,null,null,null,null,null,null,null,null,null,null,null,null,null,null,null,null,null,null,null,null,null,null,null,null,null,null,null,null,null,null,null,null,null,null,null,null,null,null,null,null,null,null,null,null,null,null,null,null,null,null,null,null,null,null,null,null,null,null,null,null,null,null,null,null,null,null,null,null,null,null,null,null,null,null,null,null,null,null,null,null,null,null,null,null,null,null,null,null,null,null,null,null,null,null,null,null,null,null,null,null,null,null,null,null,null,null,null,null,null,null,null,null,null,null,null,null,null,null,null,null,null,null,null,null,null,null,null,null,null,null,null,null,null,null,null,null,null,null,null,null,null,null,null,null,null,null,null,null,null,null,null,null,null,null,null,null,null,null,null,null,null,null,null,null,null,null,null,null,null,null,null,null,null,null,null,null,null,null,null,null,null,null,null,null,null,null,null,null,null,null,null,null,null,null,null,null,null,null,null,null,null,null,null,null,null,null,null,null,null,null,null,null,null,null,null,null,null,null,null,null,null,null,null,null,null,null,null,null,null,null,null,null,null,null,null,null,null,null,null,null,null,null,null,null,null,null,null,null,null,null,null,null,null,null,null,null,null,null,null,null,null,null,null,null,null,null,null,null,null,null,null,null,null,null,null,null,null,"x"]
[1,3,5,11,15,23,26,28,29,37,72,107,142,150,235,295,315,317,322,324,339,364,449,459,484,494,502,504,509,510,511,"Field Position","Begin"]
[2,4,10,14,22,25,27,28,36,71,106,141,149,234,294,314,316,321,323,338,363,448,458,483,493,501,503,508,509,510,525,null,"End"]
["Jurisdiction Code","Return Type","Report Year/Month","Filer License Type","Filer Privilege Tax ID Number1","Schedule Type","Placeholder","Placeholder","Date Received/Shipped","Bill of Lading","Invoice Number","Purchase Order Number","Purchased From/Sold To Privilege Tax ID Number2","Purchased From/Sold To Name","Purchased From/Sold To Address","Purchased From/Sold To City","Purchased From/Sold To State","Purchased From/Sold To Zip","Purchased From/Sold To Country","Product Code3","SKU/Inventory Code","Product Name","Quantity ","Keg Size","Case Quantity","Bottle/Can Size","Bottle/Can UOM","ABV","Small Winery Exemption","Placeholder","TTB Permit Number","Field Position Description"]
["Text","Text","Text","Text","Text","Text","N/A",null,"Text","Text","Text","Text","Text","Text",null,null,"Text","Text","Text","Text","Text","Text","Num",null,"Num","Num","Text","Num","Text","NA",null,"Data Type"]
[2,2,6,4,8,3,2,1,8,35,35,35,8,85,60,20,2,5,2,15,25,85,10,25,10,8,2,5,1,1,15,"Size"]
["OR","O","YYYYMM","WMBW","PT112334",null,"N/A",null,"YYYYMMDD",null,null,null,null,null,null,null,null,null,null,null,null,null,null,null,null,null,"Oz or Ml or L",null,"Y or N","NA",null,"Format",null,null,null,null,null,null,null,{"$f":"AN12","v":1},2,3,4,5,6,7,8,9,10,11,12,13,14,15,16,17,18,19,20,21,22,23,24,25,26,27,28,29,30,31,32,33,34,35,36,37,38,39,40,41,42,43,44,45,46,47,48,49,50,51,52,53,54,55,56,57,58,59,60,61,62,63,64,{"$f":"CZ12","v":65},66,67,68,69,70,71,72,73,74,75,76,77,78,79,80,81,82,83,84,85,86,87,88,89,90,91,92,93,94,95,96,97,98,99,100,101,102,103,104,105,106,107,108,109,110,111,112,113,114,115,116,117,118,119,120,121,122,123,124,125,126,127,128,{"$f":"FL12","v":129},130,131,132,133,134,135,136,137,138,139,140,141,142,143,144,145,146,147,148,149,150,151,152,153,154,155,156,157,158,159,160,161,162,163,164,165,166,167,168,169,170,171,172,173,174,175,176,177,178,179,180,181,182,183,184,185,186,187,188,189,190,191,192,{"$f":"HX12","v":193},194,195,196,197,198,199,200,201,202,203,204,205,206,207,208,209,210,211,212,213,214,215,216,217,218,219,220,221,222,223,224,225,226,227,228,229,230,231,232,233,234,235,236,237,238,239,240,241,242,243,244,245,246,247,248,249,250,251,252,253,254,255,256,{"$f":"KJ12","v":257},258,259,260,261,262,263,264,265,266,267,268,269,270,271,272,273,274,275,276,277,278,279,280,281,282,283,284,285,286,287,288,289,290,291,292,293,294,295,296,297,298,299,300,301,302,303,304,305,306,307,308,309,310,311,312,313,314,315,316,317,318,319,320,{"$f":"MV12","v":321},322,323,324,325,326,327,328,329,330,331,332,333,334,335,336,337,338,339,340,341,342,343,344,345,346,347,348,349,350,351,352,353,354,355,356,357,358,359,360,361,362,363,364,365,366,367,368,369,370,371,372,373,374,375,376,377,378,379,380,381,382,383,384,{"$f":"PH12","v":385},386,387,388,389,390,391,392,393,394,395,396,397,398,399,400,401,402,403,404,405,406,407,408,409,410,411,412,413,414,415,416,417,418,419,420,421,422,423,424,425,426,427,428,429,430,431,432,433,434,435,436,437,438,439,440,441,442,443,444,445,446,447,448,{"$f":"RT12","v":449},450,451,452,453,454,455,456,457,458,459,460,461,462,463,464,465,466,467,468,469,470,471,472,473,474,475,476,477,478,479,480,481,482,483,484,485,486,487,488,489,490,491,492,493,494,495,496,497,498,499,500,501,502,503,504,505,506,507,508,509,510,511,512,{"$f":"UF12","v":513},514,515,516,517,518,519,520,521,522,523,524,525,526,527,528]
["M","M","M","M","M","M","N/A",null,"M","M/O","M/O","O/M","O","M","M","M","*M","M","M","M","O","M","M","C/M","C/M","C/M","C/M","M","O","NA","C/M","Field Requirement",null,null,null,null,null,null,"Excel",{"$f":"MID($AH$13,AN12,1)","v":"O"},"R"," "," "," "," "," "," "," "," "," "," "," "," "," "," "," "," "," "," "," "," "," "," "," "," "," "," "," "," "," "," "," "," "," "," "," "," "," "," "," "," "," "," "," "," "," "," "," "," "," "," "," "," "," "," "," "," "," "," "," "," "," "," ",{"$f":"MID($AH$13,CZ12,1)","v":" "}," "," "," "," "," "," "," "," "," "," "," "," "," "," "," "," "," "," "," "," "," "," "," "," "," "," "," "," "," "," "," "," "," "," "," "," "," "," "," "," "," "," "," "," "," "," "," "," "," "," "," "," "," "," "," "," "," "," "," "," "," "," "," ",{"$f":"MID($AH$13,FL12,1)","v":" "}," "," "," "," "," "," "," "," "," "," "," "," "," "," "," "," "," "," "," "," "," "," "," "," "," "," "," "," "," "," "," "," "," "," "," "," "," "," "," "," "," "," "," "," "," "," "," "," "," "," "," "," "," "," "," "," "," "," "," "," "," "," "," ",{"$f":"MID($AH$13,HX12,1)","v":" "}," "," "," "," "," "," "," "," "," "," "," "," "," "," "," "," "," "," "," "," "," "," "," "," "," "," "," "," "," "," "," "," "," "," "," "," "," "," "," "," "," "," "," "," "," "," "," "," "," "," "," "," "," "," "," "," "," "," "," "," "," "," "," ",{"$f":"MID($AH$13,KJ12,1)","v":" "}," "," "," "," "," "," "," "," "," "," "," "," "," "," "," "," "," "," "," "," "," "," "," "," "," "," "," "," "," "," "," "," "," "," "," "," "," "," "," "," "," "," "," "," "," "," "," "," "," "," "," "," "," "," "," "," "," "," "," "," "," "," "," ",{"$f":"MID($AH$13,MV12,1)","v":" "}," "," "," "," "," "," "," "," "," "," "," "," "," "," "," "," "," "," "," "," "," "," "," "," "," "," "," "," "," "," "," "," "," "," "," "," "," "," "," "," "," "," "," "," "," "," "," "," "," "," "," "," "," "," "," "," "," "," "," "," "," "," "," ",{"$f":"MID($AH$13,PH12,1)","v":" "}," "," "," "," "," "," "," "," "," "," "," "," "," "," "," "," "," "," "," "," "," "," "," "," "," "," "," "," "," "," "," "," "," "," "," "," "," "," "," "," "," "," "," "," "," "," "," "," "," "," "," "," "," "," "," "," "," "," "," "," "," "," "," ",{"$f":"MID($AH$13,RT12,1)","v":" "}," "," "," "," "," "," "," "," "," "," "," "," "," "," "," "," "," "," "," "," "," "," "," "," "," "," "," "," "," "," "," "," "," "," "," "," "," "," "," "," "," "," "," "," "," "," "," "," "," "," "," "," "," "," "," "," "," "," "," "," "," "," "," ",{"$f":"MID($AH$13,UF12,1)","v":" "}," "," "," "," "," "," "," "," "," "," "," "," ","","",""]
["OR","O ",202106,"WMBW or","PT999999","1A ","N/A",null,0.20210216,null,null,null,"PT999999",null,null,null,"AZ",88888,"US","MB.CASE",null,null,null,null,null,16.989999999999998,null,99.99,null,"NA",null,"Example",null,null,null,null,null,null,"VBA",{"$f":"MID($AJ$13,AN12,1)","v":"O"},"R","O"," ","2","0","2","1","0","1","W","M","B","W","P","T","1","0","0","4","0","2","1","A"," "," "," "," ","2","0","2","1","0","1","0","4"," "," "," "," "," "," "," "," "," "," "," "," "," "," "," "," "," "," "," "," "," "," "," "," "," "," "," "," ",{"$f":"MID($AJ$13,CZ12,1)","v":" "}," "," "," "," "," "," ","1","7","4","9","5","6","B"," "," "," "," "," "," "," "," "," "," "," "," "," "," "," "," "," "," "," "," "," "," "," "," "," "," "," "," ","3","6","6","1","8"," "," "," "," "," "," "," "," "," "," "," "," "," "," "," "," "," ",{"$f":"MID($AJ$13,FL12,1)","v":" "}," "," "," "," "," "," "," "," "," "," "," "," "," "," "," "," "," "," "," "," ","O","Z","B","U","R","N"," ","H","E","S","S","E","Y"," "," "," "," "," "," "," "," "," "," "," "," "," "," "," "," "," "," "," "," "," "," "," "," "," "," "," "," "," "," ",{"$f":"MID($AJ$13,HX12,1)","v":" "}," "," "," "," "," "," "," "," "," "," "," "," "," "," "," "," "," "," "," "," "," "," "," "," "," "," "," "," "," "," "," "," "," "," "," "," "," "," "," "," "," ","8","0","0"," ","E","A","S","T"," ","2","3","0","T","H"," ","S","T","R","E","E","T"," ",{"$f":"MID($AJ$13,KJ12,1)","v":" "}," "," "," "," "," "," "," "," "," "," "," "," "," "," "," "," "," "," "," "," "," "," "," "," "," "," "," "," "," "," "," "," "," "," "," "," "," ","C","A","R","S","O","N","(","G","&","D"," ","W","H","S","E",")"," "," "," "," "," "," ","9","0","7","4",{"$f":"MID($AJ$13,MV12,1)","v":"5"},"A","U","M","B",".","C","a","s","e"," "," "," "," "," "," "," "," "," "," "," "," "," "," "," "," "," "," "," "," "," "," "," "," "," "," "," "," "," "," "," "," "," ","S","T","E","L","L","A"," ","A","R","T","O","I","S"," "," "," "," "," "," "," "," ",{"$f":"MID($AJ$13,PH12,1)","v":" "}," "," "," "," "," "," "," "," "," "," "," "," "," "," "," "," "," "," "," "," "," "," "," "," "," "," "," "," "," "," "," "," "," "," "," "," "," "," "," "," "," "," "," "," "," "," "," "," "," "," "," "," "," "," "," "," "," "," "," "," "," "," "," ",{"$f":"MID($AJ$13,RT12,1)","v":"7"}," "," "," "," "," "," "," "," "," "," "," "," "," "," "," "," "," "," "," "," "," "," "," "," "," "," "," "," "," "," "," "," "," "," ","2","4"," "," "," "," "," "," "," "," ","1","2"," "," "," "," "," "," ","O","Z","5"," "," "," "," "," "," "," "," ",{"$f":"MID($AJ$13,UF12,1)","v":" "}," "," "," "," "," "," "," "," "," "," "," "," ","","",""]
["Identifies the jurisdiction to which the data belongs. Always = OR.","O = Original A = Amendment Space fill field as needed to 2 digits.","YYYY = Four digit year of the return period i.e. 2021. MM = Two digit month of the return period i.e. 06 for June. Example: 202106","WH = Warehouse WMBW = Wholesale Malt Beverage & Wine","This number is created when you associate your OLCC license number in the privilege tax online system.","Schedule type associated with the WMBW and Warehouse  Examples:  1A, 1B, 2A, 2B, etc. (See list of schedule codes in Appendix A)","NOT APPLICABLE FOR THIS LICENSE TYPE (Must space fill this field) ","Not Applicable for this license type.  Must be space filled. ","Date Rec’d/Exported/etc. is used for this report when reporting receipts & disbursements.|YYYY = Four digit year of the BOL i.e. 2021, etc.|MM = Two digit month of the BOL i.e. 01 for January, etc.|DD = Two digit day of the BOL i.e. 01, 02, 03, and so on to 31.|Example: 20210216","Enter the Bill of Lading for the specific transaction.  For the fields shown in 9, 10 and 11, at least 2 of these must be provided depending on the schedule.  If field not used, then must be space filled.","Enter the Invoice Number for the specific transaction.  For the fields shown in 9, 10 and 11, at least 2 of these must be provided depending on the schedule.  If field not used, then must be space filled.","Enter the Purchase Order Number for the specific transaction.  For the fields shown in 9, 10 and 11, at least 2 of these must be provided depending on the schedule.  If field not used, then must be space filled.","This is the unique number assigned by OPTO when the company associates their licenses.","Enter the name of the company where the product was sold to or purchased from.  Space fill field as needed to 35 characters.","Street address.  Required regardless of country entered.","City name. Required regardless of country entered.","Required for country = US or CA.  *When the country is not US or CA, this should be space filled.","Required.  *When the country is not US, this may be populated with 99999.","Two digit country code where the product comes from or is sold to, based upon schedule type.","This field will contain a code that is used to describe the Product Type in a reproducible manner. (see list of product codes in Appendix A)","SKU Number associated to the product in this transaction.","Name of product in this transaction.","This is the quantity shipped, received, exported, etc.  The value must be a positive whole number. ","See Appendix A for the list of values that can be sent in this field for a Keg product type transaction.","If product code chosen is a case product, then this field is required. Value must be a positive whole number.  ","If product code chosen is a case product, then this field is required. Value should be a non-negative number with up to two decimal places. ","If product code chosen is for case product, then this field is required. | The value should : “Oz” if the unit is Ounces and “Ml” if the unit is Milliliters. (Not case sensitive)| Or L for Liters","Alcohol by volume.  Example: 14.50","Y or N ","Not Applicable for this license type.  Must be space filled. ","If the small winery exemption is marked Yes, this field is required. If the value entered does not fill the 15 characters, you must space fill to 15 characters. ",null,null,null,null,null,null,null,null,null,null,null,null,null,null,null,null,null,null,null,null,null,null,null,null,null,null,null,null,null,null,null,null,null,null,null,null,null,null,null,null,null,null,null,null,null,null,null,null,null,null,null,null,null,null,null,null,null,null,null,null,null,null,null,null,null,null,null,null,null,null,null,null,null,null,null,null,null,null,null,null,null,null,null,null,null,null,null,null,null,null,null,null,null,null,null,null,null,null,null,null,null,null,null,null,null,null,null,null,null,null,null,null,null,null,null,null,null,null,null,null,null,null,null,null,null,null,null,null,null,null,null,null,null,null,null,null,null,null,null,null,null,null,null,null,null,null,null,null,null,null,null,null,null,null,null,null,null,null,null,null,null,null,null,null,null,null,null,null,null,null,null,null,null,null,null,null,null,null,null,null,null,null,null,null,null,null,null,null,null,null,null,null,null,null,null,null,null,null,null,null,null,null,null,null,null,null,null,null,null,null,null,null,null,null,null,null,null,null,null,null,null,null,null,null,null,null,null,null,null,null,null,null,null,null,null,null,null,null,null,null,null,null,null,null,null,null,null,null,null,null,null,null,null,null,null,null,null,null,null,null,null,null,null,null,null,null,null,null,null,null,null,null,null,null,null,null,null,null,null,null,null,null,null,null,null,null,null,null,null,null,null,null,null,null,null,null,null,null,null,null,null,null,null,null,null,null,null,null,null,null,null,null,null,null,null,null,null,null,null,null,null,null,null,null,null,null,null,null,null,null,null,null,null,null,null,null,null,null,null,null,null,null,null,null,null,null,null,null,null,null,null,null,null,null,null,null,null,null,null,null,null,null,null,null,null,null,null,null,null,null,null,null,null,null,null,null,null,null,null,null,null,null,null,null,null,null,null,null,null,null,null,null,null,null,null,null,null,null,null,null,null,null,null,null,null,null,null,null,null,null,null,null,null,null,null,null,null,null,null,null,null,null,null,null,null,null,null,null,null,null,null,null,null,null,null,null,null,null,null,null,null,null,null,null,null,null,null,null,null,null,null,null,null,null,null,null,null,null,null,null,null,null,null,null,null,null,null,null,null,null,null,null,null,null,null,null,null,null,null,null,null,null,null,null,null,null,null,null,null,null,null,null,null,null,null,null,null,null,null,null,null,null,null,null,null,null,null,null,null,null,null,null,null,null,null,null,null,null,null,null,null,null,null,null,null,null,null,null,null,null,null,null,null,{"$f":"MID($AJ$13,US12,1)","v":""},{"$f":"MID($AJ$13,UT12,1)","v":""},{"$f":"MID($AJ$13,UU12,1)","v":""}]
[null,null,null,null,null,null,null,null,null,null,null,null,null,null,null,null,null,null,null,null,null,null,null,null,null,null,null,null,null,null,null,null,null,null,null,null,null,null,null,"Isolate characters"]
["Jurisdiction Code","Return Type\n(O or A)","Report Year/Month\n(yyyymm)","Filer License Type\n(WMBW or WH for Warehouse)","Filer Privilege Tax ID Number\n(EXAMPLE OF  FORMAT: PT999999)","Schedule Type (1A, 1B, 2A, ETC)",null,null,"Date Field\nYYYYMMDD","Bill of Lading #","Invoice #\n","Purchase Order #","purchased from / sold to Privilege Tax ID Number\n(EXAMPLE OF  FORMAT: PT999999)","Purchased from / sold to \nName ","\n\nPurchased from / sold to \nStreet Address","Purchased from / sold to \nCity","Purchased from / sold to \nState/Region","Purchased from / sold to \nZip/Postal","Purchased from / sold to Country","Product Code (Must be a valid code from list on Instructions Tab)","SKU/Inventory Code","Product Name","Quantity","Keg Sizes\n(1/2; 1/4; 1/6; 1/8;    1.32Gal; 5Gal; 5.16Gal; 5.2Gal; 7.9Gal; 10.8Gal; 13.2Gal; 18L; 19L; 19.5L; 20L; 24L; 25L; 30L; 50L)","Case Quantity\n(Must be a positive whole number)","Bottle/Can size (Example of format:  99999.99) ","Bottle/Can Unit of Measure\n(Not Case Sensitive OZ for ounces, ML for milliliters or L for Liters)","ABV (Alcohol by Volume)\n(Example of format:  99.99)","Subject to Small Winery Exemption?\n(Y or Blank)",null,"Winery TTB Basic Permit #",null,null,"Export","Len","Text file","Len","Check",null,1,2,3,4,5,6,7,8,9,10,11,12,13,14,15,16,17,18,19,20,21,22,23,24,25,26,27,28,29,30,31,32,33,34,35,36,37,38,39,40,41,42,43,44,45,46,47,48,49,50,51,52,53,54,55,56,57,58,59,60,61,62,63,64,65,66,67,68,69,70,71,72,73,74,75,76,77,78,79,80,81,82,83,84,85,86,87,88,89,90,91,92,93,94,95,96,97,98,99,100,101,102,103,104,105,106,107,108,109,110,111,112,113,114,115,116,117,118,119,120,121,122,123,124,125,126,127,128,129,130,131,132,133,134,135,136,137,138,139,140,141,142,143,144,145,146,147,148,149,150,151,152,153,154,155,156,157,158,159,160,161,162,163,164,165,166,167,168,169,170,171,172,173,174,175,176,177,178,179,180,181,182,183,184,185,186,187,188,189,190,191,192,193,194,195,196,197,198,199,200,201,202,203,204,205,206,207,208,209,210,211,212,213,214,215,216,217,218,219,220,221,222,223,224,225,226,227,228,229,230,231,232,233,234,235,236,237,238,239,240,241,242,243,244,245,246,247,248,249,250,251,252,253,254,255,256,257,258,259,260,261,262,263,264,265,266,267,268,269,270,271,272,273,274,275,276,277,278,279,280,281,282,283,284,285,286,287,288,289,290,291,292,293,294,295,296,297,298,299,300,301,302,303,304,305,306,307,308,309,310,311,312,313,314,315,316,317,318,319,320,321,322,323,324,325,326,327,328,329,330,331,332,333,334,335,336,337,338,339,340,341,342,343,344,345,346,347,348,349,350,351,352,353,354,355,356,357,358,359,360,361,362,363,364,365,366,367,368,369,370,371,372,373,374,375,376,377,378,379,380,381,382,383,384,385,386,387,388,389,390,391,392,393,394,395,396,397,398,399,400,401,402,403,404,405,406,407,408,409,410,411,412,413,414,415,416,417,418,419,420,421,422,423,424,425,426,427,428,429,430,431,432,433,434,435,436,437,438,439,440,441,442,443,444,445,446,447,448,449,450,451,452,453,454,455,456,457,458,459,460,461,462,463,464,465,466,467,468,469,470,471,472,473,474,475,476,477,478,479,480,481,482,483,484,485,486,487,488,489,490,491,492,493,494,495,496,497,498,499,500,501,502,503,504,505,506,507,508,509,510,511,512,513,514,515,516,517,518,519,520,521,522,523,524,525,526,527,528]
[{"$f":"\"OR\"","v":"OR"},{"$f":"LEFT('WMBW-WH'!B4&REPT(\" \",B$6),B$6)","v":"  "},{"$f":"LEFT('WMBW-WH'!C4&REPT(\" \",C$6),C$6)","v":"      "},{"$f":"LEFT('WMBW-WH'!D4&REPT(\" \",D$6),D$6)","v":"    "},{"$f":"LEFT('WMBW-WH'!E4&REPT(\" \",E$6),E$6)","v":"        "},{"$f":"LEFT('WMBW-WH'!F4&REPT(\" \",F$6),F$6)","v":"   "},{"$f":"LEFT('WMBW-WH'!G4&REPT(\" \",G$6),G$6)","v":"  "},{"$f":"LEFT('WMBW-WH'!H4&REPT(\" \",H$6),H$6)","v":" "},{"$f":"LEFT('WMBW-WH'!I4&REPT(\" \",I$6),I$6)","v":"        "},{"$f":"LEFT('WMBW-WH'!J4&REPT(\" \",J$6),J$6)","v":"                                   "},{"$f":"LEFT('WMBW-WH'!K4&REPT(\" \",K$6),K$6)","v":"                                   "},{"$f":"LEFT('WMBW-WH'!L4&REPT(\" \",L$6),L$6)","v":"                                   "},{"$f":"LEFT('WMBW-WH'!M4&REPT(\" \",M$6),M$6)","v":"        "},{"$f":"LEFT('WMBW-WH'!N4&REPT(\" \",N$6),N$6)","v":"                                                                                     "},{"$f":"LEFT('WMBW-WH'!O4&REPT(\" \",O$6),O$6)","v":"                                                            "},{"$f":"LEFT('WMBW-WH'!P4&REPT(\" \",P$6),P$6)","v":"                    "},{"$f":"LEFT('WMBW-WH'!Q4&REPT(\" \",Q$6),Q$6)","v":"  "},{"$f":"LEFT('WMBW-WH'!R4&REPT(\" \",R$6),R$6)","v":"     "},{"$f":"LEFT('WMBW-WH'!S4&REPT(\" \",S$6),S$6)","v":"  "},{"$f":"LEFT('WMBW-WH'!T4&REPT(\" \",T$6),T$6)","v":"               "},{"$f":"LEFT('WMBW-WH'!U4&REPT(\" \",U$6),U$6)","v":"                         "},{"$f":"LEFT('WMBW-WH'!V4&REPT(\" \",V$6),V$6)","v":"                                                                                     "},{"$f":"LEFT('WMBW-WH'!W4&REPT(\" \",W$6),W$6)","v":"          "},{"$f":"LEFT('WMBW-WH'!X4&REPT(\" \",X$6),X$6)","v":"                         "},{"$f":"LEFT('WMBW-WH'!Y4&REPT(\" \",Y$6),Y$6)","v":"          "},{"$f":"LEFT('WMBW-WH'!Z4&REPT(\" \",Z$6),Z$6)","v":"        "},{"$f":"LEFT('WMBW-WH'!AA4&REPT(\" \",AA$6),AA$6)","v":"  "},{"$f":"LEFT('WMBW-WH'!AB4&REPT(\" \",AB$6),AB$6)","v":"     "},{"$f":"LEFT('WMBW-WH'!AC4&REPT(\" \",AC$6),AC$6)","v":" "},{"$f":"LEFT('WMBW-WH'!AD4&REPT(\" \",AD$6),AD$6)","v":" "},{"$f":"LEFT('WMBW-WH'!AE4&REPT(\" \",AE$6),AE$6)","v":"               "},null,null,{"$f":"_xlfn.TEXTJOIN(\"\",FALSE,A13:AE13)","v":"OR                                                                                                                                                                                                                                                                                                                                                                                                                                                                                                                                           "},{"$f":"LEN(AH13)","v":525},"ORO 202101WMBWPT1004021A    20210104                                   174956B                            36618                                      OZBURN HESSEY                                                                        800 EAST 230TH STREET                                       CARSON(G&D WHSE)      90745AUMB.Case                                 STELLA ARTOIS                                                                        7                                  24        12      OZ5                     ",{"$f":"LEN(AJ13)","v":525},{"$f":"INDEX(AN13:UX13,MATCH(TRUE,INDEX((AN13:UX13<>\"\"),0),0))","v":3},{"$f":"MIN(AN13:UR13)","v":3},{"$f":"IF(MID($AH13,AN$12,1)=MID($AJ13,AN$12,1),\"\",MID($AJ13,AN$12,1))","v":""},{"$f":"IF(MID($AH13,AO$12,1)=MID($AJ13,AO$12,1),\"\",AO12)","v":""},3,"",5,6,7,8,9,10,11,12,13,14,15,16,17,18,19,20,21,22,23,24,"","","","",29,30,31,32,33,34,35,36,"","","","","","","","","","","","","","","","","","","","","","","","","","","","","",{"$f":"IF(MID($AH13,DA$12,1)=MID($AJ13,DA$12,1),\"\",DA12)","v":""},"","","","","",72,73,74,75,76,77,78,"","","","","","","","","","","","","","","","","","","","","","","","","","","","",107,108,109,110,111,"","","","","","","","","","","","","","","","","","",{"$f":"IF(MID($AH13,FM$12,1)=MID($AJ13,FM$12,1),\"\",FM12)","v":""},"","","","","","","","","","","","","","","","","","","",150,151,152,153,154,155,"",157,158,159,160,161,162,"","","","","","","","","","","","","","","","","","","","","","","","","","","","","","","",{"$f":"IF(MID($AH13,HY$12,1)=MID($AJ13,HY$12,1),\"\",HY12)","v":""},"","","","","","","","","","","","","","","","","","","","","","","","","","","","","","","","","","","","","","","","",235,236,237,"",239,240,241,242,"",244,245,246,247,248,"",250,251,252,253,254,255,"","",{"$f":"IF(MID($AH13,KK$12,1)=MID($AJ13,KK$12,1),\"\",KK12)","v":""},"","","","","","","","","","","","","","","","","","","","","","","","","","","","","","","","","","","","",295,296,297,298,299,300,301,302,303,304,"",306,307,308,309,310,"","","","","","",317,318,319,320,321,{"$f":"IF(MID($AH13,MW$12,1)=MID($AJ13,MW$12,1),\"\",MW12)","v":322},323,324,325,326,327,328,329,330,"","","","","","","","","","","","","","","","","","","","","","","","","","","","","","","","","",364,365,366,367,368,369,"",371,372,373,374,375,376,"","","","","","","","","",{"$f":"IF(MID($AH13,PI$12,1)=MID($AJ13,PI$12,1),\"\",PI12)","v":""},"","","","","","","","","","","","","","","","","","","","","","","","","","","","","","","","","","","","","","","","","","","","","","","","","","","","","","","","","","","","","","",449,{"$f":"IF(MID($AH13,RU$12,1)=MID($AJ13,RU$12,1),\"\",RU12)","v":""},"","","","","","","","","","","","","","","","","","","","","","","","","","","","","","","","","",484,485,"","","","","","","","",494,495,"","","","","","",502,503,504,"","","","","","","","","",{"$f":"IF(MID($AH13,UG$12,1)=MID($AJ13,UG$12,1),\"\",UG12)","v":""},"","","","","","","","","","","","","",""]
["OR",{"$f":"LEFT('WMBW-WH'!B5&REPT(\" \",B$6),B$6)","v":"  "},{"$f":"LEFT('WMBW-WH'!C5&REPT(\" \",C$6),C$6)","v":"      "},{"$f":"LEFT('WMBW-WH'!D5&REPT(\" \",D$6),D$6)","v":"    "},{"$f":"LEFT('WMBW-WH'!E5&REPT(\" \",E$6),E$6)","v":"        "},{"$f":"LEFT('WMBW-WH'!F5&REPT(\" \",F$6),F$6)","v":"   "},{"$f":"LEFT('WMBW-WH'!G5&REPT(\" \",G$6),G$6)","v":"  "},{"$f":"LEFT('WMBW-WH'!H5&REPT(\" \",H$6),H$6)","v":" "},{"$f":"LEFT('WMBW-WH'!I5&REPT(\" \",I$6),I$6)","v":"        "},{"$f":"LEFT('WMBW-WH'!J5&REPT(\" \",J$6),J$6)","v":"                                   "},{"$f":"LEFT('WMBW-WH'!K5&REPT(\" \",K$6),K$6)","v":"                                   "},{"$f":"LEFT('WMBW-WH'!L5&REPT(\" \",L$6),L$6)","v":"                                   "},{"$f":"LEFT('WMBW-WH'!M5&REPT(\" \",M$6),M$6)","v":"        "},{"$f":"LEFT('WMBW-WH'!N5&REPT(\" \",N$6),N$6)","v":"                                                                                     "},{"$f":"LEFT('WMBW-WH'!O5&REPT(\" \",O$6),O$6)","v":"                                                            "},{"$f":"LEFT('WMBW-WH'!P5&REPT(\" \",P$6),P$6)","v":"                    "},{"$f":"LEFT('WMBW-WH'!Q5&REPT(\" \",Q$6),Q$6)","v":"  "},{"$f":"LEFT('WMBW-WH'!R5&REPT(\" \",R$6),R$6)","v":"     "},{"$f":"LEFT('WMBW-WH'!S5&REPT(\" \",S$6),S$6)","v":"  "},{"$f":"LEFT('WMBW-WH'!T5&REPT(\" \",T$6),T$6)","v":"               "},{"$f":"LEFT('WMBW-WH'!U5&REPT(\" \",U$6),U$6)","v":"                         "},{"$f":"LEFT('WMBW-WH'!V5&REPT(\" \",V$6),V$6)","v":"                                                                                     "},{"$f":"LEFT('WMBW-WH'!W5&REPT(\" \",W$6),W$6)","v":"          "},{"$f":"LEFT('WMBW-WH'!X5&REPT(\" \",X$6),X$6)","v":"                         "},{"$f":"LEFT('WMBW-WH'!Y5&REPT(\" \",Y$6),Y$6)","v":"          "},{"$f":"LEFT('WMBW-WH'!Z5&REPT(\" \",Z$6),Z$6)","v":"        "},{"$f":"LEFT('WMBW-WH'!AA5&REPT(\" \",AA$6),AA$6)","v":"  "},{"$f":"LEFT('WMBW-WH'!AB5&REPT(\" \",AB$6),AB$6)","v":"     "},{"$f":"LEFT('WMBW-WH'!AC5&REPT(\" \",AC$6),AC$6)","v":" "},{"$f":"LEFT('WMBW-WH'!AD5&REPT(\" \",AD$6),AD$6)","v":" "},{"$f":"LEFT('WMBW-WH'!AE5&REPT(\" \",AE$6),AE$6)","v":"               "},null,null,"OR                                                                                                                                                                                                                                                                                                                                                                                                                                                                                                                                           ",525,"ORO 202101WMBWPT1004021A    20210104                                   174956B                            36618                                      OZBURN HESSEY                                                                        800 EAST 230TH STREET                                       CARSON(G&D WHSE)    CA90745USMB.Case                                 STELLA ARTOIS                                                                        17                                 24        11.2    OZ5                     ",525,{"$f":"INDEX(AN14:UX14,MATCH(TRUE,INDEX((AN14:UX14<>\"\"),0),0))","v":3},3,{"$f":"IF(MID($AH14,AN$12,1)=MID($AJ14,AN$12,1),\"\",MID($AJ14,AN$12,1))","v":""},"",3,"",5,6,7,8,9,10,11,12,13,14,15,16,17,18,19,20,21,22,23,24,"","","","",29,30,31,32,33,34,35,36,"","","","","","","","","","","","","","","","","","","","","","","","","","","","","","","","","","","",72,73,74,75,76,77,78,"","","","","","","","","","","","","","","","","","","","","","","","","","","","",107,108,109,110,111,"","","","","","","","","","","","","","","","","","","","","","","","","","","","","","","","","","","","","","",150,151,152,153,154,155,"",157,158,159,160,161,162,"","","","","","","","","","","","","","","","","","","","","","","","","","","","","","","","","","","","","","","","","","","","","","","","","","","","","","","","","","","","","","","","","","","","","","","","",235,236,237,"",239,240,241,242,"",244,245,246,247,248,"",250,251,252,253,254,255,"","","","","","","","","","","","","","","","","","","","","","","","","","","","","","","","","","","","","","","",295,296,297,298,299,300,301,302,303,304,"",306,307,308,309,310,"","","","","","",317,318,319,320,321,322,323,324,325,326,327,328,329,330,"","","","","","","","","","","","","","","","","","","","","","","","","","","","","","","","","",364,365,366,367,368,369,"",371,372,373,374,375,376,"","","","","","","","","","","","","","","","","","","","","","","","","","","","","","","","","","","","","","","","","","","","","","","","","","","","","","","","","","","","","","","","","","","","","","","","",449,"","","","","","","","","","","","","","","","","","","","","","","","","","","","","","","","","","",484,485,"","","","","","","","",494,495,"","","","","","",502,503,504,"","","","","","","","","","","","","","","","","","","","","","","",""]
["OR",{"$f":"LEFT('WMBW-WH'!B6&REPT(\" \",B$6),B$6)","v":"  "},{"$f":"LEFT('WMBW-WH'!C6&REPT(\" \",C$6),C$6)","v":"      "},{"$f":"LEFT('WMBW-WH'!D6&REPT(\" \",D$6),D$6)","v":"    "},{"$f":"LEFT('WMBW-WH'!E6&REPT(\" \",E$6),E$6)","v":"        "},{"$f":"LEFT('WMBW-WH'!F6&REPT(\" \",F$6),F$6)","v":"   "},{"$f":"LEFT('WMBW-WH'!G6&REPT(\" \",G$6),G$6)","v":"  "},{"$f":"LEFT('WMBW-WH'!H6&REPT(\" \",H$6),H$6)","v":" "},{"$f":"LEFT('WMBW-WH'!I6&REPT(\" \",I$6),I$6)","v":"        "},{"$f":"LEFT('WMBW-WH'!J6&REPT(\" \",J$6),J$6)","v":"                                   "},{"$f":"LEFT('WMBW-WH'!K6&REPT(\" \",K$6),K$6)","v":"                                   "},{"$f":"LEFT('WMBW-WH'!L6&REPT(\" \",L$6),L$6)","v":"                                   "},{"$f":"LEFT('WMBW-WH'!M6&REPT(\" \",M$6),M$6)","v":"        "},{"$f":"LEFT('WMBW-WH'!N6&REPT(\" \",N$6),N$6)","v":"                                                                                     "},{"$f":"LEFT('WMBW-WH'!O6&REPT(\" \",O$6),O$6)","v":"                                                            "},{"$f":"LEFT('WMBW-WH'!P6&REPT(\" \",P$6),P$6)","v":"                    "},{"$f":"LEFT('WMBW-WH'!Q6&REPT(\" \",Q$6),Q$6)","v":"  "},{"$f":"LEFT('WMBW-WH'!R6&REPT(\" \",R$6),R$6)","v":"     "},{"$f":"LEFT('WMBW-WH'!S6&REPT(\" \",S$6),S$6)","v":"  "},{"$f":"LEFT('WMBW-WH'!T6&REPT(\" \",T$6),T$6)","v":"               "},{"$f":"LEFT('WMBW-WH'!U6&REPT(\" \",U$6),U$6)","v":"                         "},{"$f":"LEFT('WMBW-WH'!V6&REPT(\" \",V$6),V$6)","v":"                                                                                     "},{"$f":"LEFT('WMBW-WH'!W6&REPT(\" \",W$6),W$6)","v":"          "},{"$f":"LEFT('WMBW-WH'!X6&REPT(\" \",X$6),X$6)","v":"                         "},{"$f":"LEFT('WMBW-WH'!Y6&REPT(\" \",Y$6),Y$6)","v":"          "},{"$f":"LEFT('WMBW-WH'!Z6&REPT(\" \",Z$6),Z$6)","v":"        "},{"$f":"LEFT('WMBW-WH'!AA6&REPT(\" \",AA$6),AA$6)","v":"  "},{"$f":"LEFT('WMBW-WH'!AB6&REPT(\" \",AB$6),AB$6)","v":"     "},{"$f":"LEFT('WMBW-WH'!AC6&REPT(\" \",AC$6),AC$6)","v":" "},{"$f":"LEFT('WMBW-WH'!AD6&REPT(\" \",AD$6),AD$6)","v":" "},{"$f":"LEFT('WMBW-WH'!AE6&REPT(\" \",AE$6),AE$6)","v":"               "},null,null,"OR                                                                                                                                                                                                                                                                                                                                                                                                                                                                                                                                           ",525,"ORO 202101WMBWPT1004021A    20210104                                   174956B                            36618                                      OZBURN HESSEY                                                                        800 EAST 230TH STREET                                       CARSON(G&D WHSE)    CA90745USMB.Case                                 STELLA ARTOIS                                                                        22                                 12        22.4    OZ5                     ",525,{"$f":"INDEX(AN15:UX15,MATCH(TRUE,INDEX((AN15:UX15<>\"\"),0),0))","v":3},3,"","",3,"",5,6,7,8,9,10,11,12,13,14,15,16,17,18,19,20,21,22,23,24,"","","","",29,30,31,32,33,34,35,36,"","","","","","","","","","","","","","","","","","","","","","","","","","","","","","","","","","","",72,73,74,75,76,77,78,"","","","","","","","","","","","","","","","","","","","","","","","","","","","",107,108,109,110,111,"","","","","","","","","","","","","","","","","","","","","","","","","","","","","","","","","","","","","","",150,151,152,153,154,155,"",157,158,159,160,161,162,"","","","","","","","","","","","","","","","","","","","","","","","","","","","","","","","","","","","","","","","","","","","","","","","","","","","","","","","","","","","","","","","","","","","","","","","",235,236,237,"",239,240,241,242,"",244,245,246,247,248,"",250,251,252,253,254,255,"","","","","","","","","","","","","","","","","","","","","","","","","","","","","","","","","","","","","","","",295,296,297,298,299,300,301,302,303,304,"",306,307,308,309,310,"","","","","","",317,318,319,320,321,322,323,324,325,326,327,328,329,330,"","","","","","","","","","","","","","","","","","","","","","","","","","","","","","","","","",364,365,366,367,368,369,"",371,372,373,374,375,376,"","","","","","","","","","","","","","","","","","","","","","","","","","","","","","","","","","","","","","","","","","","","","","","","","","","","","","","","","","","","","","","","","","","","","","","","",449,"","","","","","","","","","","","","","","","","","","","","","","","","","","","","","","","","","",484,485,"","","","","","","","",494,495,"","","","","","",502,503,504,"","","","","","","","","","","","","","","","","","","","","","","",""]
["OR",{"$f":"LEFT('WMBW-WH'!B7&REPT(\" \",B$6),B$6)","v":"  "},{"$f":"LEFT('WMBW-WH'!C7&REPT(\" \",C$6),C$6)","v":"      "},{"$f":"LEFT('WMBW-WH'!D7&REPT(\" \",D$6),D$6)","v":"    "},{"$f":"LEFT('WMBW-WH'!E7&REPT(\" \",E$6),E$6)","v":"        "},{"$f":"LEFT('WMBW-WH'!F7&REPT(\" \",F$6),F$6)","v":"   "},{"$f":"LEFT('WMBW-WH'!G7&REPT(\" \",G$6),G$6)","v":"  "},{"$f":"LEFT('WMBW-WH'!H7&REPT(\" \",H$6),H$6)","v":" "},{"$f":"LEFT('WMBW-WH'!I7&REPT(\" \",I$6),I$6)","v":"        "},{"$f":"LEFT('WMBW-WH'!J7&REPT(\" \",J$6),J$6)","v":"                                   "},{"$f":"LEFT('WMBW-WH'!K7&REPT(\" \",K$6),K$6)","v":"                                   "},{"$f":"LEFT('WMBW-WH'!L7&REPT(\" \",L$6),L$6)","v":"                                   "},{"$f":"LEFT('WMBW-WH'!M7&REPT(\" \",M$6),M$6)","v":"        "},{"$f":"LEFT('WMBW-WH'!N7&REPT(\" \",N$6),N$6)","v":"                                                                                     "},{"$f":"LEFT('WMBW-WH'!O7&REPT(\" \",O$6),O$6)","v":"                                                            "},{"$f":"LEFT('WMBW-WH'!P7&REPT(\" \",P$6),P$6)","v":"                    "},{"$f":"LEFT('WMBW-WH'!Q7&REPT(\" \",Q$6),Q$6)","v":"  "},{"$f":"LEFT('WMBW-WH'!R7&REPT(\" \",R$6),R$6)","v":"     "},{"$f":"LEFT('WMBW-WH'!S7&REPT(\" \",S$6),S$6)","v":"  "},{"$f":"LEFT('WMBW-WH'!T7&REPT(\" \",T$6),T$6)","v":"               "},{"$f":"LEFT('WMBW-WH'!U7&REPT(\" \",U$6),U$6)","v":"                         "},{"$f":"LEFT('WMBW-WH'!V7&REPT(\" \",V$6),V$6)","v":"                                                                                     "},{"$f":"LEFT('WMBW-WH'!W7&REPT(\" \",W$6),W$6)","v":"          "},{"$f":"LEFT('WMBW-WH'!X7&REPT(\" \",X$6),X$6)","v":"                         "},{"$f":"LEFT('WMBW-WH'!Y7&REPT(\" \",Y$6),Y$6)","v":"          "},{"$f":"LEFT('WMBW-WH'!Z7&REPT(\" \",Z$6),Z$6)","v":"        "},{"$f":"LEFT('WMBW-WH'!AA7&REPT(\" \",AA$6),AA$6)","v":"  "},{"$f":"LEFT('WMBW-WH'!AB7&REPT(\" \",AB$6),AB$6)","v":"     "},{"$f":"LEFT('WMBW-WH'!AC7&REPT(\" \",AC$6),AC$6)","v":" "},{"$f":"LEFT('WMBW-WH'!AD7&REPT(\" \",AD$6),AD$6)","v":" "},{"$f":"LEFT('WMBW-WH'!AE7&REPT(\" \",AE$6),AE$6)","v":"               "},null,null,"OR                                                                                                                                                                                                                                                                                                                                                                                                                                                                                                                                           ",525,"ORO 202101WMBWPT1004021A    20210104                                   174956B                            36618                                      OZBURN HESSEY                                                                        800 EAST 230TH STREET                                       CARSON(G&D WHSE)    CA90745USMB.Case                                 STELLA ARTOIS                                                                        57                                 24        11.2    OZ5                     ",525,{"$f":"INDEX(AN16:UX16,MATCH(TRUE,INDEX((AN16:UX16<>\"\"),0),0))","v":3},3,"","",3,"",5,6,7,8,9,10,11,12,13,14,15,16,17,18,19,20,21,22,23,24,"","","","",29,30,31,32,33,34,35,36,"","","","","","","","","","","","","","","","","","","","","","","","","","","","",{"$f":"IF(MID($AH16,CZ$12,1)=MID($AJ16,CZ$12,1),\"\",CZ15)","v":""},"","","","","","",72,73,74,75,76,77,78,"","","","","","","","","","","","","","","","","","","","","","","","","","","","",107,108,109,110,111,"","","","","","","","","","","","","","","","","",{"$f":"IF(MID($AH16,FL$12,1)=MID($AJ16,FL$12,1),\"\",FL15)","v":""},"","","","","","","","","","","","","","","","","","","","",150,151,152,153,154,155,"",157,158,159,160,161,162,"","","","","","","","","","","","","","","","","","","","","","","","","","","","","","",{"$f":"IF(MID($AH16,HX$12,1)=MID($AJ16,HX$12,1),\"\",HX15)","v":""},"","","","","","","","","","","","","","","","","","","","","","","","","","","","","","","","","","","","","","","","","",235,236,237,"",239,240,241,242,"",244,245,246,247,248,"",250,251,252,253,254,255,"",{"$f":"IF(MID($AH16,KJ$12,1)=MID($AJ16,KJ$12,1),\"\",KJ15)","v":""},"","","","","","","","","","","","","","","","","","","","","","","","","","","","","","","","","","","","","",295,296,297,298,299,300,301,302,303,304,"",306,307,308,309,310,"","","","","","",317,318,319,320,{"$f":"IF(MID($AH16,MV$12,1)=MID($AJ16,MV$12,1),\"\",MV15)","v":321},322,323,324,325,326,327,328,329,330,"","","","","","","","","","","","","","","","","","","","","","","","","","","","","","","","","",364,365,366,367,368,369,"",371,372,373,374,375,376,"","","","","","","","",{"$f":"IF(MID($AH16,PH$12,1)=MID($AJ16,PH$12,1),\"\",PH15)","v":""},"","","","","","","","","","","","","","","","","","","","","","","","","","","","","","","","","","","","","","","","","","","","","","","","","","","","","","","","","","","","","","","",{"$f":"IF(MID($AH16,RT$12,1)=MID($AJ16,RT$12,1),\"\",RT15)","v":449},"","","","","","","","","","","","","","","","","","","","","","","","","","","","","","","","","","",484,485,"","","","","","","","",494,495,"","","","","","",502,503,504,"","","","","","","","",{"$f":"IF(MID($AH16,UF$12,1)=MID($AJ16,UF$12,1),\"\",UF15)","v":""},"","","","","","","","","","","","","","",""]
["OR",{"$f":"LEFT('WMBW-WH'!B8&REPT(\" \",B$6),B$6)","v":"  "},{"$f":"LEFT('WMBW-WH'!C8&REPT(\" \",C$6),C$6)","v":"      "},{"$f":"LEFT('WMBW-WH'!D8&REPT(\" \",D$6),D$6)","v":"    "},{"$f":"LEFT('WMBW-WH'!E8&REPT(\" \",E$6),E$6)","v":"        "},{"$f":"LEFT('WMBW-WH'!F8&REPT(\" \",F$6),F$6)","v":"   "},{"$f":"LEFT('WMBW-WH'!G8&REPT(\" \",G$6),G$6)","v":"  "},{"$f":"LEFT('WMBW-WH'!H8&REPT(\" \",H$6),H$6)","v":" "},{"$f":"LEFT('WMBW-WH'!I8&REPT(\" \",I$6),I$6)","v":"        "},{"$f":"LEFT('WMBW-WH'!J8&REPT(\" \",J$6),J$6)","v":"                                   "},{"$f":"LEFT('WMBW-WH'!K8&REPT(\" \",K$6),K$6)","v":"                                   "},{"$f":"LEFT('WMBW-WH'!L8&REPT(\" \",L$6),L$6)","v":"                                   "},{"$f":"LEFT('WMBW-WH'!M8&REPT(\" \",M$6),M$6)","v":"        "},{"$f":"LEFT('WMBW-WH'!N8&REPT(\" \",N$6),N$6)","v":"                                                                                     "},{"$f":"LEFT('WMBW-WH'!O8&REPT(\" \",O$6),O$6)","v":"                                                            "},{"$f":"LEFT('WMBW-WH'!P8&REPT(\" \",P$6),P$6)","v":"                    "},{"$f":"LEFT('WMBW-WH'!Q8&REPT(\" \",Q$6),Q$6)","v":"  "},{"$f":"LEFT('WMBW-WH'!R8&REPT(\" \",R$6),R$6)","v":"     "},{"$f":"LEFT('WMBW-WH'!S8&REPT(\" \",S$6),S$6)","v":"  "},{"$f":"LEFT('WMBW-WH'!T8&REPT(\" \",T$6),T$6)","v":"               "},{"$f":"LEFT('WMBW-WH'!U8&REPT(\" \",U$6),U$6)","v":"                         "},{"$f":"LEFT('WMBW-WH'!V8&REPT(\" \",V$6),V$6)","v":"                                                                                     "},{"$f":"LEFT('WMBW-WH'!W8&REPT(\" \",W$6),W$6)","v":"          "},{"$f":"LEFT('WMBW-WH'!X8&REPT(\" \",X$6),X$6)","v":"                         "},{"$f":"LEFT('WMBW-WH'!Y8&REPT(\" \",Y$6),Y$6)","v":"          "},{"$f":"LEFT('WMBW-WH'!Z8&REPT(\" \",Z$6),Z$6)","v":"        "},{"$f":"LEFT('WMBW-WH'!AA8&REPT(\" \",AA$6),AA$6)","v":"  "},{"$f":"LEFT('WMBW-WH'!AB8&REPT(\" \",AB$6),AB$6)","v":"     "},{"$f":"LEFT('WMBW-WH'!AC8&REPT(\" \",AC$6),AC$6)","v":" "},{"$f":"LEFT('WMBW-WH'!AD8&REPT(\" \",AD$6),AD$6)","v":" "},{"$f":"LEFT('WMBW-WH'!AE8&REPT(\" \",AE$6),AE$6)","v":"               "},null,null,"OR                                                                                                                                                                                                                                                                                                                                                                                                                                                                                                                                           ",525,"ORO 202101WMBWPT1004021A    20210106                                   184453B                            64712                                      FORT COLLINS                                                                         2351 BUSCH DR                                               FORT COLLINS        CO80524USMB.Case                                 BUD LIGHT                                                                            12                                 24        12      OZ5                     ",525,{"$f":"INDEX(AN17:UX17,MATCH(TRUE,INDEX((AN17:UX17<>\"\"),0),0))","v":3},3,"",{"$f":"IF(MID($AH17,AO$12,1)=MID($AJ17,AO$12,1),\"\",AO16)","v":""},3,"",5,6,7,8,9,10,11,12,13,14,15,16,17,18,19,20,21,22,23,24,"","","","",29,30,31,32,33,34,35,36,"","","","","","","","","","","","","","","","","","","","","","","","","","","","","",{"$f":"IF(MID($AH17,DA$12,1)=MID($AJ17,DA$12,1),\"\",DA16)","v":""},"","","","","",72,73,74,75,76,77,78,"","","","","","","","","","","","","","","","","","","","","","","","","","","","",107,108,109,110,111,"","","","","","","","","","","","","","","","","","",{"$f":"IF(MID($AH17,FM$12,1)=MID($AJ17,FM$12,1),\"\",FM16)","v":""},"","","","","","","","","","","","","","","","","","","",150,151,152,153,"",155,"",157,158,159,160,161,"","","","","","","","","","","","","","","","","","","","","","","","","","","","","","","","",{"$f":"IF(MID($AH17,HY$12,1)=MID($AJ17,HY$12,1),\"\",HY16)","v":""},"","","","","","","","","","","","","","","","","","","","","","","","","","","","","","","","","","","","","","","","",235,236,237,"","",240,241,242,"",244,"",246,247,"","","","","","","","","","",{"$f":"IF(MID($AH17,KK$12,1)=MID($AJ17,KK$12,1),\"\",KK16)","v":""},"","","","","","","","","","","","","","","","","","","","","","","","","","","","","","","","","","","","",295,296,297,298,"",300,301,302,303,304,"",306,"","","","","","","","","","",317,318,319,320,321,{"$f":"IF(MID($AH17,MW$12,1)=MID($AJ17,MW$12,1),\"\",MW16)","v":322},323,324,325,326,327,328,329,330,"","","","","","","","","","","","","","","","","","","","","","","","","","","","","","","","","",364,365,366,"",368,369,"",371,372,"","","","","","","","","","","","","",{"$f":"IF(MID($AH17,PI$12,1)=MID($AJ17,PI$12,1),\"\",PI16)","v":""},"","","","","","","","","","","","","","","","","","","","","","","","","","","","","","","","","","","","","","","","","","","","","","","","","","","","","","","","","","","","","","",449,{"$f":"IF(MID($AH17,RU$12,1)=MID($AJ17,RU$12,1),\"\",RU16)","v":""},"","","","","","","","","","","","","","","","","","","","","","","","","","","","","","","","","",484,485,"","","","","","","","",494,495,"","","","","","",502,503,504,"","","","","","","","","","","","","","","","","","","","","","","",""]
["OR",{"$f":"LEFT('WMBW-WH'!B9&REPT(\" \",B$6),B$6)","v":"  "},{"$f":"LEFT('WMBW-WH'!C9&REPT(\" \",C$6),C$6)","v":"      "},{"$f":"LEFT('WMBW-WH'!D9&REPT(\" \",D$6),D$6)","v":"    "},{"$f":"LEFT('WMBW-WH'!E9&REPT(\" \",E$6),E$6)","v":"        "},{"$f":"LEFT('WMBW-WH'!F9&REPT(\" \",F$6),F$6)","v":"   "},{"$f":"LEFT('WMBW-WH'!G9&REPT(\" \",G$6),G$6)","v":"  "},{"$f":"LEFT('WMBW-WH'!H9&REPT(\" \",H$6),H$6)","v":" "},{"$f":"LEFT('WMBW-WH'!I9&REPT(\" \",I$6),I$6)","v":"        "},{"$f":"LEFT('WMBW-WH'!J9&REPT(\" \",J$6),J$6)","v":"                                   "},{"$f":"LEFT('WMBW-WH'!K9&REPT(\" \",K$6),K$6)","v":"                                   "},{"$f":"LEFT('WMBW-WH'!L9&REPT(\" \",L$6),L$6)","v":"                                   "},{"$f":"LEFT('WMBW-WH'!M9&REPT(\" \",M$6),M$6)","v":"        "},{"$f":"LEFT('WMBW-WH'!N9&REPT(\" \",N$6),N$6)","v":"                                                                                     "},{"$f":"LEFT('WMBW-WH'!O9&REPT(\" \",O$6),O$6)","v":"                                                            "},{"$f":"LEFT('WMBW-WH'!P9&REPT(\" \",P$6),P$6)","v":"                    "},{"$f":"LEFT('WMBW-WH'!Q9&REPT(\" \",Q$6),Q$6)","v":"  "},{"$f":"LEFT('WMBW-WH'!R9&REPT(\" \",R$6),R$6)","v":"     "},{"$f":"LEFT('WMBW-WH'!S9&REPT(\" \",S$6),S$6)","v":"  "},{"$f":"LEFT('WMBW-WH'!T9&REPT(\" \",T$6),T$6)","v":"               "},{"$f":"LEFT('WMBW-WH'!U9&REPT(\" \",U$6),U$6)","v":"                         "},{"$f":"LEFT('WMBW-WH'!V9&REPT(\" \",V$6),V$6)","v":"                                                                                     "},{"$f":"LEFT('WMBW-WH'!W9&REPT(\" \",W$6),W$6)","v":"          "},{"$f":"LEFT('WMBW-WH'!X9&REPT(\" \",X$6),X$6)","v":"                         "},{"$f":"LEFT('WMBW-WH'!Y9&REPT(\" \",Y$6),Y$6)","v":"          "},{"$f":"LEFT('WMBW-WH'!Z9&REPT(\" \",Z$6),Z$6)","v":"        "},{"$f":"LEFT('WMBW-WH'!AA9&REPT(\" \",AA$6),AA$6)","v":"  "},{"$f":"LEFT('WMBW-WH'!AB9&REPT(\" \",AB$6),AB$6)","v":"     "},{"$f":"LEFT('WMBW-WH'!AC9&REPT(\" \",AC$6),AC$6)","v":" "},{"$f":"LEFT('WMBW-WH'!AD9&REPT(\" \",AD$6),AD$6)","v":" "},{"$f":"LEFT('WMBW-WH'!AE9&REPT(\" \",AE$6),AE$6)","v":"               "},null,null,"OR                                                                                                                                                                                                                                                                                                                                                                                                                                                                                                                                           ",525,"ORO 202101WMBWPT1004021A    20210106                                   184453B                            64712                                      FORT COLLINS                                                                         2351 BUSCH DR                                               FORT COLLINS        CO80524USMB.Case                                 BUD LIGHT LIME                                                                       20                                 24        12      OZ5                     ",525,{"$f":"INDEX(AN18:UX18,MATCH(TRUE,INDEX((AN18:UX18<>\"\"),0),0))","v":3},3,"","",3,"",5,6,7,8,9,10,11,12,13,14,15,16,17,18,19,20,21,22,23,24,"","","","",29,30,31,32,33,34,35,36,"","","","","","","","","","","","","","","","","","","","","","","","","","","","","","","","","","","",72,73,74,75,76,77,78,"","","","","","","","","","","","","","","","","","","","","","","","","","","","",107,108,109,110,111,"","","","","","","","","","","","","","","","","","","","","","","","","","","","","","","","","","","","","","",150,151,152,153,"",155,"",157,158,159,160,161,"","","","","","","","","","","","","","","","","","","","","","","","","","","","","","","","","","","","","","","","","","","","","","","","","","","","","","","","","","","","","","","","","","","","","","","","","",235,236,237,"","",240,241,242,"",244,"",246,247,"","","","","","","","","","","","","","","","","","","","","","","","","","","","","","","","","","","","","","","","","","","","","","","",295,296,297,298,"",300,301,302,303,304,"",306,"","","","","","","","","","",317,318,319,320,321,322,323,324,325,326,327,328,329,330,"","","","","","","","","","","","","","","","","","","","","","","","","","","","","","","","","",364,365,366,"",368,369,"",371,372,"","","","","","","","","","","","","","","","","","","","","","","","","","","","","","","","","","","","","","","","","","","","","","","","","","","","","","","","","","","","","","","","","","","","","","","","","","","","",449,"","","","","","","","","","","","","","","","","","","","","","","","","","","","","","","","","","",484,485,"","","","","","","","",494,495,"","","","","","",502,503,504,"","","","","","","","","","","","","","","","","","","","","","","",""]
["OR",{"$f":"LEFT('WMBW-WH'!B10&REPT(\" \",B$6),B$6)","v":"  "},{"$f":"LEFT('WMBW-WH'!C10&REPT(\" \",C$6),C$6)","v":"      "},{"$f":"LEFT('WMBW-WH'!D10&REPT(\" \",D$6),D$6)","v":"    "},{"$f":"LEFT('WMBW-WH'!E10&REPT(\" \",E$6),E$6)","v":"        "},{"$f":"LEFT('WMBW-WH'!F10&REPT(\" \",F$6),F$6)","v":"   "},{"$f":"LEFT('WMBW-WH'!G10&REPT(\" \",G$6),G$6)","v":"  "},{"$f":"LEFT('WMBW-WH'!H10&REPT(\" \",H$6),H$6)","v":" "},{"$f":"LEFT('WMBW-WH'!I10&REPT(\" \",I$6),I$6)","v":"        "},{"$f":"LEFT('WMBW-WH'!J10&REPT(\" \",J$6),J$6)","v":"                                   "},{"$f":"LEFT('WMBW-WH'!K10&REPT(\" \",K$6),K$6)","v":"                                   "},{"$f":"LEFT('WMBW-WH'!L10&REPT(\" \",L$6),L$6)","v":"                                   "},{"$f":"LEFT('WMBW-WH'!M10&REPT(\" \",M$6),M$6)","v":"        "},{"$f":"LEFT('WMBW-WH'!N10&REPT(\" \",N$6),N$6)","v":"                                                                                     "},{"$f":"LEFT('WMBW-WH'!O10&REPT(\" \",O$6),O$6)","v":"                                                            "},{"$f":"LEFT('WMBW-WH'!P10&REPT(\" \",P$6),P$6)","v":"                    "},{"$f":"LEFT('WMBW-WH'!Q10&REPT(\" \",Q$6),Q$6)","v":"  "},{"$f":"LEFT('WMBW-WH'!R10&REPT(\" \",R$6),R$6)","v":"     "},{"$f":"LEFT('WMBW-WH'!S10&REPT(\" \",S$6),S$6)","v":"  "},{"$f":"LEFT('WMBW-WH'!T10&REPT(\" \",T$6),T$6)","v":"               "},{"$f":"LEFT('WMBW-WH'!U10&REPT(\" \",U$6),U$6)","v":"                         "},{"$f":"LEFT('WMBW-WH'!V10&REPT(\" \",V$6),V$6)","v":"                                                                                     "},{"$f":"LEFT('WMBW-WH'!W10&REPT(\" \",W$6),W$6)","v":"          "},{"$f":"LEFT('WMBW-WH'!X10&REPT(\" \",X$6),X$6)","v":"                         "},{"$f":"LEFT('WMBW-WH'!Y10&REPT(\" \",Y$6),Y$6)","v":"          "},{"$f":"LEFT('WMBW-WH'!Z10&REPT(\" \",Z$6),Z$6)","v":"        "},{"$f":"LEFT('WMBW-WH'!AA10&REPT(\" \",AA$6),AA$6)","v":"  "},{"$f":"LEFT('WMBW-WH'!AB10&REPT(\" \",AB$6),AB$6)","v":"     "},{"$f":"LEFT('WMBW-WH'!AC10&REPT(\" \",AC$6),AC$6)","v":" "},{"$f":"LEFT('WMBW-WH'!AD10&REPT(\" \",AD$6),AD$6)","v":" "},{"$f":"LEFT('WMBW-WH'!AE10&REPT(\" \",AE$6),AE$6)","v":"               "},null,null,"OR                                                                                                                                                                                                                                                                                                                                                                                                                                                                                                                                           ",525,"ORO 202101WMBWPT1004021A    20210106                                   184453B                            64712                                      FORT COLLINS                                                                         2351 BUSCH DR                                               FORT COLLINS        CO80524USMB.Case                                 BUDWEISER                                                                            79                                 24        16      OZ5                     ",525,{"$f":"INDEX(AN19:UX19,MATCH(TRUE,INDEX((AN19:UX19<>\"\"),0),0))","v":3},3,"","",3,"",5,6,7,8,9,10,11,12,13,14,15,16,17,18,19,20,21,22,23,24,"","","","",29,30,31,32,33,34,35,36,"","","","","","","","","","","","","","","","","","","","","","","","","","","","","","","","","","","",72,73,74,75,76,77,78,"","","","","","","","","","","","","","","","","","","","","","","","","","","","",107,108,109,110,111,"","","","","","","","","","","","","","","","","","","","","","","","","","","","","","","","","","","","","","",150,151,152,153,"",155,"",157,158,159,160,161,"","","","","","","","","","","","","","","","","","","","","","","","","","","","","","","","","","","","","","","","","","","","","","","","","","","","","","","","","","","","","","","","","","","","","","","","","",235,236,237,"","",240,241,242,"",244,"",246,247,"","","","","","","","","","","","","","","","","","","","","","","","","","","","","","","","","","","","","","","","","","","","","","","",295,296,297,298,"",300,301,302,303,304,"",306,"","","","","","","","","","",317,318,319,320,321,322,323,324,325,326,327,328,329,330,"","","","","","","","","","","","","","","","","","","","","","","","","","","","","","","","","",364,365,366,"",368,369,"",371,372,"","","","","","","","","","","","","","","","","","","","","","","","","","","","","","","","","","","","","","","","","","","","","","","","","","","","","","","","","","","","","","","","","","","","","","","","","","","","",449,"","","","","","","","","","","","","","","","","","","","","","","","","","","","","","","","","","",484,485,"","","","","","","","",494,495,"","","","","","",502,503,504,"","","","","","","","","","","","","","","","","","","","","","","",""]
["OR",{"$f":"LEFT('WMBW-WH'!B11&REPT(\" \",B$6),B$6)","v":"  "},{"$f":"LEFT('WMBW-WH'!C11&REPT(\" \",C$6),C$6)","v":"      "},{"$f":"LEFT('WMBW-WH'!D11&REPT(\" \",D$6),D$6)","v":"    "},{"$f":"LEFT('WMBW-WH'!E11&REPT(\" \",E$6),E$6)","v":"        "},{"$f":"LEFT('WMBW-WH'!F11&REPT(\" \",F$6),F$6)","v":"   "},{"$f":"LEFT('WMBW-WH'!G11&REPT(\" \",G$6),G$6)","v":"  "},{"$f":"LEFT('WMBW-WH'!H11&REPT(\" \",H$6),H$6)","v":" "},{"$f":"LEFT('WMBW-WH'!I11&REPT(\" \",I$6),I$6)","v":"        "},{"$f":"LEFT('WMBW-WH'!J11&REPT(\" \",J$6),J$6)","v":"                                   "},{"$f":"LEFT('WMBW-WH'!K11&REPT(\" \",K$6),K$6)","v":"                                   "},{"$f":"LEFT('WMBW-WH'!L11&REPT(\" \",L$6),L$6)","v":"                                   "},{"$f":"LEFT('WMBW-WH'!M11&REPT(\" \",M$6),M$6)","v":"        "},{"$f":"LEFT('WMBW-WH'!N11&REPT(\" \",N$6),N$6)","v":"                                                                                     "},{"$f":"LEFT('WMBW-WH'!O11&REPT(\" \",O$6),O$6)","v":"                                                            "},{"$f":"LEFT('WMBW-WH'!P11&REPT(\" \",P$6),P$6)","v":"                    "},{"$f":"LEFT('WMBW-WH'!Q11&REPT(\" \",Q$6),Q$6)","v":"  "},{"$f":"LEFT('WMBW-WH'!R11&REPT(\" \",R$6),R$6)","v":"     "},{"$f":"LEFT('WMBW-WH'!S11&REPT(\" \",S$6),S$6)","v":"  "},{"$f":"LEFT('WMBW-WH'!T11&REPT(\" \",T$6),T$6)","v":"               "},{"$f":"LEFT('WMBW-WH'!U11&REPT(\" \",U$6),U$6)","v":"                         "},{"$f":"LEFT('WMBW-WH'!V11&REPT(\" \",V$6),V$6)","v":"                                                                                     "},{"$f":"LEFT('WMBW-WH'!W11&REPT(\" \",W$6),W$6)","v":"          "},{"$f":"LEFT('WMBW-WH'!X11&REPT(\" \",X$6),X$6)","v":"                         "},{"$f":"LEFT('WMBW-WH'!Y11&REPT(\" \",Y$6),Y$6)","v":"          "},{"$f":"LEFT('WMBW-WH'!Z11&REPT(\" \",Z$6),Z$6)","v":"        "},{"$f":"LEFT('WMBW-WH'!AA11&REPT(\" \",AA$6),AA$6)","v":"  "},{"$f":"LEFT('WMBW-WH'!AB11&REPT(\" \",AB$6),AB$6)","v":"     "},{"$f":"LEFT('WMBW-WH'!AC11&REPT(\" \",AC$6),AC$6)","v":" "},{"$f":"LEFT('WMBW-WH'!AD11&REPT(\" \",AD$6),AD$6)","v":" "},{"$f":"LEFT('WMBW-WH'!AE11&REPT(\" \",AE$6),AE$6)","v":"               "},null,null,"OR                                                                                                                                                                                                                                                                                                                                                                                                                                                                                                                                           ",525,"ORO 202101WMBWPT1004021A    20210106                                   184453B                            64712                                      FORT COLLINS                                                                         2351 BUSCH DR                                               FORT COLLINS        CO80524USMB.Case                                 MICHELOB ULTRA                                                                       20                                 18        12      OZ5                     ",525,{"$f":"INDEX(AN20:UX20,MATCH(TRUE,INDEX((AN20:UX20<>\"\"),0),0))","v":3},3,"","",3,"",5,6,7,8,9,10,11,12,13,14,15,16,17,18,19,20,21,22,23,24,"","","","",29,30,31,32,33,34,35,36,"","","","","","","","","","","","","","","","","","","","","","","","","","","","",{"$f":"IF(MID($AH20,CZ$12,1)=MID($AJ20,CZ$12,1),\"\",CZ19)","v":""},"","","","","","",72,73,74,75,76,77,78,"","","","","","","","","","","","","","","","","","","","","","","","","","","","",107,108,109,110,111,"","","","","","","","","","","","","","","","","",{"$f":"IF(MID($AH20,FL$12,1)=MID($AJ20,FL$12,1),\"\",FL19)","v":""},"","","","","","","","","","","","","","","","","","","","",150,151,152,153,"",155,"",157,158,159,160,161,"","","","","","","","","","","","","","","","","","","","","","","","","","","","","","","",{"$f":"IF(MID($AH20,HX$12,1)=MID($AJ20,HX$12,1),\"\",HX19)","v":""},"","","","","","","","","","","","","","","","","","","","","","","","","","","","","","","","","","","","","","","","","",235,236,237,"","",240,241,242,"",244,"",246,247,"","","","","","","","","",{"$f":"IF(MID($AH20,KJ$12,1)=MID($AJ20,KJ$12,1),\"\",KJ19)","v":""},"","","","","","","","","","","","","","","","","","","","","","","","","","","","","","","","","","","","","",295,296,297,298,"",300,301,302,303,304,"",306,"","","","","","","","","","",317,318,319,320,{"$f":"IF(MID($AH20,MV$12,1)=MID($AJ20,MV$12,1),\"\",MV19)","v":321},322,323,324,325,326,327,328,329,330,"","","","","","","","","","","","","","","","","","","","","","","","","","","","","","","","","",364,365,366,"",368,369,"",371,"","","","","","","","","","","","","",{"$f":"IF(MID($AH20,PH$12,1)=MID($AJ20,PH$12,1),\"\",PH19)","v":""},"","","","","","","","","","","","","","","","","","","","","","","","","","","","","","","","","","","","","","","","","","","","","","","","","","","","","","","","","","","","","","","",{"$f":"IF(MID($AH20,RT$12,1)=MID($AJ20,RT$12,1),\"\",RT19)","v":449},"","","","","","","","","","","","","","","","","","","","","","","","","","","","","","","","","","",484,485,"","","","","","","","",494,495,"","","","","","",502,503,504,"","","","","","","","",{"$f":"IF(MID($AH20,UF$12,1)=MID($AJ20,UF$12,1),\"\",UF19)","v":""},"","","","","","","","","","","","","","",""]
["OR",{"$f":"LEFT('WMBW-WH'!B12&REPT(\" \",B$6),B$6)","v":"  "},{"$f":"LEFT('WMBW-WH'!C12&REPT(\" \",C$6),C$6)","v":"      "},{"$f":"LEFT('WMBW-WH'!D12&REPT(\" \",D$6),D$6)","v":"    "},{"$f":"LEFT('WMBW-WH'!E12&REPT(\" \",E$6),E$6)","v":"        "},{"$f":"LEFT('WMBW-WH'!F12&REPT(\" \",F$6),F$6)","v":"   "},{"$f":"LEFT('WMBW-WH'!G12&REPT(\" \",G$6),G$6)","v":"  "},{"$f":"LEFT('WMBW-WH'!H12&REPT(\" \",H$6),H$6)","v":" "},{"$f":"LEFT('WMBW-WH'!I12&REPT(\" \",I$6),I$6)","v":"        "},{"$f":"LEFT('WMBW-WH'!J12&REPT(\" \",J$6),J$6)","v":"                                   "},{"$f":"LEFT('WMBW-WH'!K12&REPT(\" \",K$6),K$6)","v":"                                   "},{"$f":"LEFT('WMBW-WH'!L12&REPT(\" \",L$6),L$6)","v":"                                   "},{"$f":"LEFT('WMBW-WH'!M12&REPT(\" \",M$6),M$6)","v":"        "},{"$f":"LEFT('WMBW-WH'!N12&REPT(\" \",N$6),N$6)","v":"                                                                                     "},{"$f":"LEFT('WMBW-WH'!O12&REPT(\" \",O$6),O$6)","v":"                                                            "},{"$f":"LEFT('WMBW-WH'!P12&REPT(\" \",P$6),P$6)","v":"                    "},{"$f":"LEFT('WMBW-WH'!Q12&REPT(\" \",Q$6),Q$6)","v":"  "},{"$f":"LEFT('WMBW-WH'!R12&REPT(\" \",R$6),R$6)","v":"     "},{"$f":"LEFT('WMBW-WH'!S12&REPT(\" \",S$6),S$6)","v":"  "},{"$f":"LEFT('WMBW-WH'!T12&REPT(\" \",T$6),T$6)","v":"               "},{"$f":"LEFT('WMBW-WH'!U12&REPT(\" \",U$6),U$6)","v":"                         "},{"$f":"LEFT('WMBW-WH'!V12&REPT(\" \",V$6),V$6)","v":"                                                                                     "},{"$f":"LEFT('WMBW-WH'!W12&REPT(\" \",W$6),W$6)","v":"          "},{"$f":"LEFT('WMBW-WH'!X12&REPT(\" \",X$6),X$6)","v":"                         "},{"$f":"LEFT('WMBW-WH'!Y12&REPT(\" \",Y$6),Y$6)","v":"          "},{"$f":"LEFT('WMBW-WH'!Z12&REPT(\" \",Z$6),Z$6)","v":"        "},{"$f":"LEFT('WMBW-WH'!AA12&REPT(\" \",AA$6),AA$6)","v":"  "},{"$f":"LEFT('WMBW-WH'!AB12&REPT(\" \",AB$6),AB$6)","v":"     "},{"$f":"LEFT('WMBW-WH'!AC12&REPT(\" \",AC$6),AC$6)","v":" "},{"$f":"LEFT('WMBW-WH'!AD12&REPT(\" \",AD$6),AD$6)","v":" "},{"$f":"LEFT('WMBW-WH'!AE12&REPT(\" \",AE$6),AE$6)","v":"               "},null,null,"OR                                                                                                                                                                                                                                                                                                                                                                                                                                                                                                                                           ",525,"ORO 202101WMBWPT1004021A    20210106                                   184621B                            42672                                      FAIRFIELD                                                                            3101 BUSCH DRIVE                                            FAIRFIELD           CA94534USMB.Case                                 BUD LIGHT                                                                            61                                 24        16      OZ5                     ",525,{"$f":"INDEX(AN21:UX21,MATCH(TRUE,INDEX((AN21:UX21<>\"\"),0),0))","v":3},3,"",{"$f":"IF(MID($AH21,AO$12,1)=MID($AJ21,AO$12,1),\"\",AO20)","v":""},3,"",5,6,7,8,9,10,11,12,13,14,15,16,17,18,19,20,21,22,23,24,"","","","",29,30,31,32,33,34,35,36,"","","","","","","","","","","","","","","","","","","","","","","","","","","","","",{"$f":"IF(MID($AH21,DA$12,1)=MID($AJ21,DA$12,1),\"\",DA20)","v":""},"","","","","",72,73,74,75,76,77,78,"","","","","","","","","","","","","","","","","","","","","","","","","","","","",107,108,109,110,111,"","","","","","","","","","","","","","","","","","",{"$f":"IF(MID($AH21,FM$12,1)=MID($AJ21,FM$12,1),\"\",FM20)","v":""},"","","","","","","","","","","","","","","","","","","",150,151,152,153,"",155,"",157,158,"","","","","","","","","","","","","","","","","","","","","","","","","","","","","","","","","","","",{"$f":"IF(MID($AH21,HY$12,1)=MID($AJ21,HY$12,1),\"\",HY20)","v":""},"","","","","","","","","","","","","","","","","","","","","","","","","","","","","","","","","","","","","","","","",235,236,237,"","",240,241,242,"",244,"",246,247,"","","","","","","","","","",{"$f":"IF(MID($AH21,KK$12,1)=MID($AJ21,KK$12,1),\"\",KK20)","v":""},"","","","","","","","","","","","","","","","","","","","","","","","","","","","","","","","","","","","",295,296,297,298,"",300,301,302,303,"","","","","","","","","","","","","",317,318,319,320,321,{"$f":"IF(MID($AH21,MW$12,1)=MID($AJ21,MW$12,1),\"\",MW20)","v":322},323,324,325,326,327,328,329,330,"","","","","","","","","","","","","","","","","","","","","","","","","","","","","","","","","",364,365,366,"",368,369,"",371,"","","","","","","","","","","","","","",{"$f":"IF(MID($AH21,PI$12,1)=MID($AJ21,PI$12,1),\"\",PI20)","v":""},"","","","","","","","","","","","","","","","","","","","","","","","","","","","","","","","","","","","","","","","","","","","","","","","","","","","","","","","","","","","","","",449,{"$f":"IF(MID($AH21,RU$12,1)=MID($AJ21,RU$12,1),\"\",RU20)","v":""},"","","","","","","","","","","","","","","","","","","","","","","","","","","","","","","","","",484,485,"","","","","","","","",494,495,"","","","","","",502,503,504,"","","","","","","","","","","","","","","","","","","","","","","",""]
["OR",{"$f":"LEFT('WMBW-WH'!B13&REPT(\" \",B$6),B$6)","v":"  "},{"$f":"LEFT('WMBW-WH'!C13&REPT(\" \",C$6),C$6)","v":"      "},{"$f":"LEFT('WMBW-WH'!D13&REPT(\" \",D$6),D$6)","v":"    "},{"$f":"LEFT('WMBW-WH'!E13&REPT(\" \",E$6),E$6)","v":"        "},{"$f":"LEFT('WMBW-WH'!F13&REPT(\" \",F$6),F$6)","v":"   "},{"$f":"LEFT('WMBW-WH'!G13&REPT(\" \",G$6),G$6)","v":"  "},{"$f":"LEFT('WMBW-WH'!H13&REPT(\" \",H$6),H$6)","v":" "},{"$f":"LEFT('WMBW-WH'!I13&REPT(\" \",I$6),I$6)","v":"        "},{"$f":"LEFT('WMBW-WH'!J13&REPT(\" \",J$6),J$6)","v":"                                   "},{"$f":"LEFT('WMBW-WH'!K13&REPT(\" \",K$6),K$6)","v":"                                   "},{"$f":"LEFT('WMBW-WH'!L13&REPT(\" \",L$6),L$6)","v":"                                   "},{"$f":"LEFT('WMBW-WH'!M13&REPT(\" \",M$6),M$6)","v":"        "},{"$f":"LEFT('WMBW-WH'!N13&REPT(\" \",N$6),N$6)","v":"                                                                                     "},{"$f":"LEFT('WMBW-WH'!O13&REPT(\" \",O$6),O$6)","v":"                                                            "},{"$f":"LEFT('WMBW-WH'!P13&REPT(\" \",P$6),P$6)","v":"                    "},{"$f":"LEFT('WMBW-WH'!Q13&REPT(\" \",Q$6),Q$6)","v":"  "},{"$f":"LEFT('WMBW-WH'!R13&REPT(\" \",R$6),R$6)","v":"     "},{"$f":"LEFT('WMBW-WH'!S13&REPT(\" \",S$6),S$6)","v":"  "},{"$f":"LEFT('WMBW-WH'!T13&REPT(\" \",T$6),T$6)","v":"               "},{"$f":"LEFT('WMBW-WH'!U13&REPT(\" \",U$6),U$6)","v":"                         "},{"$f":"LEFT('WMBW-WH'!V13&REPT(\" \",V$6),V$6)","v":"                                                                                     "},{"$f":"LEFT('WMBW-WH'!W13&REPT(\" \",W$6),W$6)","v":"          "},{"$f":"LEFT('WMBW-WH'!X13&REPT(\" \",X$6),X$6)","v":"                         "},{"$f":"LEFT('WMBW-WH'!Y13&REPT(\" \",Y$6),Y$6)","v":"          "},{"$f":"LEFT('WMBW-WH'!Z13&REPT(\" \",Z$6),Z$6)","v":"        "},{"$f":"LEFT('WMBW-WH'!AA13&REPT(\" \",AA$6),AA$6)","v":"  "},{"$f":"LEFT('WMBW-WH'!AB13&REPT(\" \",AB$6),AB$6)","v":"     "},{"$f":"LEFT('WMBW-WH'!AC13&REPT(\" \",AC$6),AC$6)","v":" "},{"$f":"LEFT('WMBW-WH'!AD13&REPT(\" \",AD$6),AD$6)","v":" "},{"$f":"LEFT('WMBW-WH'!AE13&REPT(\" \",AE$6),AE$6)","v":"               "},null,null,"OR                                                                                                                                                                                                                                                                                                                                                                                                                                                                                                                                           ",525,"ORO 202101WMBWPT1004021A    20210106                                   184621B                            42672                                      FAIRFIELD                                                                            3101 BUSCH DRIVE                                            FAIRFIELD           CA94534USMB.Case                                 BUDWEISER                                                                            73                                 24        16      OZ5                     ",525,{"$f":"INDEX(AN22:UX22,MATCH(TRUE,INDEX((AN22:UX22<>\"\"),0),0))","v":3},3,"","",3,"",5,6,7,8,9,10,11,12,13,14,15,16,17,18,19,20,21,22,23,24,"","","","",29,30,31,32,33,34,35,36,"","","","","","","","","","","","","","","","","","","","","","","","","","","","","","","","","","","",72,73,74,75,76,77,78,"","","","","","","","","","","","","","","","","","","","","","","","","","","","",107,108,109,110,111,"","","","","","","","","","","","","","","","","","","","","","","","","","","","","","","","","","","","","","",150,151,152,153,"",155,"",157,158,"","","","","","","","","","","","","","","","","","","","","","","","","","","","","","","","","","","","","","","","","","","","","","","","","","","","","","","","","","","","","","","","","","","","","","","","","","","","",235,236,237,"","",240,241,242,"",244,"",246,247,"","","","","","","","","","","","","","","","","","","","","","","","","","","","","","","","","","","","","","","","","","","","","","","",295,296,297,298,"",300,301,302,303,"","","","","","","","","","","","","",317,318,319,320,321,322,323,324,325,326,327,328,329,330,"","","","","","","","","","","","","","","","","","","","","","","","","","","","","","","","","",364,365,366,"",368,369,"",371,"","","","","","","","","","","","","","","","","","","","","","","","","","","","","","","","","","","","","","","","","","","","","","","","","","","","","","","","","","","","","","","","","","","","","","","","","","","","","",449,"","","","","","","","","","","","","","","","","","","","","","","","","","","","","","","","","","",484,485,"","","","","","","","",494,495,"","","","","","",502,503,504,"","","","","","","","","","","","","","","","","","","","","","","",""]
["OR",{"$f":"LEFT('WMBW-WH'!#REF!&REPT(\" \",B$6),B$6)","v":{"$error":"#REF!"}},{"$f":"LEFT('WMBW-WH'!#REF!&REPT(\" \",C$6),C$6)","v":{"$error":"#REF!"}},{"$f":"LEFT('WMBW-WH'!#REF!&REPT(\" \",D$6),D$6)","v":{"$error":"#REF!"}},{"$f":"LEFT('WMBW-WH'!#REF!&REPT(\" \",E$6),E$6)","v":{"$error":"#REF!"}},{"$f":"LEFT('WMBW-WH'!#REF!&REPT(\" \",F$6),F$6)","v":{"$error":"#REF!"}},{"$f":"LEFT('WMBW-WH'!#REF!&REPT(\" \",G$6),G$6)","v":{"$error":"#REF!"}},{"$f":"LEFT('WMBW-WH'!#REF!&REPT(\" \",H$6),H$6)","v":{"$error":"#REF!"}},{"$f":"LEFT('WMBW-WH'!#REF!&REPT(\" \",I$6),I$6)","v":{"$error":"#REF!"}},{"$f":"LEFT('WMBW-WH'!#REF!&REPT(\" \",J$6),J$6)","v":{"$error":"#REF!"}},{"$f":"LEFT('WMBW-WH'!#REF!&REPT(\" \",K$6),K$6)","v":{"$error":"#REF!"}},{"$f":"LEFT('WMBW-WH'!#REF!&REPT(\" \",L$6),L$6)","v":{"$error":"#REF!"}},{"$f":"LEFT('WMBW-WH'!#REF!&REPT(\" \",M$6),M$6)","v":{"$error":"#REF!"}},{"$f":"LEFT('WMBW-WH'!#REF!&REPT(\" \",N$6),N$6)","v":{"$error":"#REF!"}},{"$f":"LEFT('WMBW-WH'!#REF!&REPT(\" \",O$6),O$6)","v":{"$error":"#REF!"}},{"$f":"LEFT('WMBW-WH'!#REF!&REPT(\" \",P$6),P$6)","v":{"$error":"#REF!"}},{"$f":"LEFT('WMBW-WH'!#REF!&REPT(\" \",Q$6),Q$6)","v":{"$error":"#REF!"}},{"$f":"LEFT('WMBW-WH'!#REF!&REPT(\" \",R$6),R$6)","v":{"$error":"#REF!"}},{"$f":"LEFT('WMBW-WH'!#REF!&REPT(\" \",S$6),S$6)","v":{"$error":"#REF!"}},{"$f":"LEFT('WMBW-WH'!#REF!&REPT(\" \",T$6),T$6)","v":{"$error":"#REF!"}},{"$f":"LEFT('WMBW-WH'!#REF!&REPT(\" \",U$6),U$6)","v":{"$error":"#REF!"}},{"$f":"LEFT('WMBW-WH'!#REF!&REPT(\" \",V$6),V$6)","v":{"$error":"#REF!"}},{"$f":"LEFT('WMBW-WH'!#REF!&REPT(\" \",W$6),W$6)","v":{"$error":"#REF!"}},{"$f":"LEFT('WMBW-WH'!#REF!&REPT(\" \",X$6),X$6)","v":{"$error":"#REF!"}},{"$f":"LEFT('WMBW-WH'!#REF!&REPT(\" \",Y$6),Y$6)","v":{"$error":"#REF!"}},{"$f":"LEFT('WMBW-WH'!#REF!&REPT(\" \",Z$6),Z$6)","v":{"$error":"#REF!"}},{"$f":"LEFT('WMBW-WH'!#REF!&REPT(\" \",AA$6),AA$6)","v":{"$error":"#REF!"}},{"$f":"LEFT('WMBW-WH'!#REF!&REPT(\" \",AB$6),AB$6)","v":{"$error":"#REF!"}},{"$f":"LEFT('WMBW-WH'!#REF!&REPT(\" \",AC$6),AC$6)","v":{"$error":"#REF!"}},{"$f":"LEFT('WMBW-WH'!#REF!&REPT(\" \",AD$6),AD$6)","v":{"$error":"#REF!"}},{"$f":"LEFT('WMBW-WH'!#REF!&REPT(\" \",AE$6),AE$6)","v":{"$error":"#REF!"}},null,null,{"$error":"#REF!"},{"$error":"#REF!"},"ORO 202101WMBWPT1004021A    20210106                                   184621B                            42672                                      FAIRFIELD                                                                            3101 BUSCH DRIVE                                            FAIRFIELD           CA94534USMB.Case                                 BUSCH                                                                                7                                  18        16      OZ5                     ",525,{"$f":"INDEX(AN23:UX23,MATCH(TRUE,INDEX((AN23:UX23<>\"\"),0),0))","v":{"$error":"#N/A"}},{"$error":"#REF!"},{"$error":"#REF!"},{"$error":"#REF!"},{"$error":"#REF!"},{"$error":"#REF!"},{"$error":"#REF!"},{"$error":"#REF!"},{"$error":"#REF!"},{"$error":"#REF!"},{"$error":"#REF!"},{"$error":"#REF!"},{"$error":"#REF!"},{"$error":"#REF!"},{"$error":"#REF!"},{"$error":"#REF!"},{"$error":"#REF!"},{"$error":"#REF!"},{"$error":"#REF!"},{"$error":"#REF!"},{"$error":"#REF!"},{"$error":"#REF!"},{"$error":"#REF!"},{"$error":"#REF!"},{"$error":"#REF!"},{"$error":"#REF!"},{"$error":"#REF!"},{"$error":"#REF!"},{"$error":"#REF!"},{"$error":"#REF!"},{"$error":"#REF!"},{"$error":"#REF!"},{"$error":"#REF!"},{"$error":"#REF!"},{"$error":"#REF!"},{"$error":"#REF!"},{"$error":"#REF!"},{"$error":"#REF!"},{"$error":"#REF!"},{"$error":"#REF!"},{"$error":"#REF!"},{"$error":"#REF!"},{"$error":"#REF!"},{"$error":"#REF!"},{"$error":"#REF!"},{"$error":"#REF!"},{"$error":"#REF!"},{"$error":"#REF!"},{"$error":"#REF!"},{"$error":"#REF!"},{"$error":"#REF!"},{"$error":"#REF!"},{"$error":"#REF!"},{"$error":"#REF!"},{"$error":"#REF!"},{"$error":"#REF!"},{"$error":"#REF!"},{"$error":"#REF!"},{"$error":"#REF!"},{"$error":"#REF!"},{"$error":"#REF!"},{"$error":"#REF!"},{"$error":"#REF!"},{"$error":"#REF!"},{"$error":"#REF!"},{"$error":"#REF!"},{"$error":"#REF!"},{"$error":"#REF!"},{"$error":"#REF!"},{"$error":"#REF!"},{"$error":"#REF!"},{"$error":"#REF!"},{"$error":"#REF!"},{"$error":"#REF!"},{"$error":"#REF!"},{"$error":"#REF!"},{"$error":"#REF!"},{"$error":"#REF!"},{"$error":"#REF!"},{"$error":"#REF!"},{"$error":"#REF!"},{"$error":"#REF!"},{"$error":"#REF!"},{"$error":"#REF!"},{"$error":"#REF!"},{"$error":"#REF!"},{"$error":"#REF!"},{"$error":"#REF!"},{"$error":"#REF!"},{"$error":"#REF!"},{"$error":"#REF!"},{"$error":"#REF!"},{"$error":"#REF!"},{"$error":"#REF!"},{"$error":"#REF!"},{"$error":"#REF!"},{"$error":"#REF!"},{"$error":"#REF!"},{"$error":"#REF!"},{"$error":"#REF!"},{"$error":"#REF!"},{"$error":"#REF!"},{"$error":"#REF!"},{"$error":"#REF!"},{"$error":"#REF!"},{"$error":"#REF!"},{"$error":"#REF!"},{"$error":"#REF!"},{"$error":"#REF!"},{"$error":"#REF!"},{"$error":"#REF!"},{"$error":"#REF!"},{"$error":"#REF!"},{"$error":"#REF!"},{"$error":"#REF!"},{"$error":"#REF!"},{"$error":"#REF!"},{"$error":"#REF!"},{"$error":"#REF!"},{"$error":"#REF!"},{"$error":"#REF!"},{"$error":"#REF!"},{"$error":"#REF!"},{"$error":"#REF!"},{"$error":"#REF!"},{"$error":"#REF!"},{"$error":"#REF!"},{"$error":"#REF!"},{"$error":"#REF!"},{"$error":"#REF!"},{"$error":"#REF!"},{"$error":"#REF!"},{"$error":"#REF!"},{"$error":"#REF!"},{"$error":"#REF!"},{"$error":"#REF!"},{"$error":"#REF!"},{"$error":"#REF!"},{"$error":"#REF!"},{"$error":"#REF!"},{"$error":"#REF!"},{"$error":"#REF!"},{"$error":"#REF!"},{"$error":"#REF!"},{"$error":"#REF!"},{"$error":"#REF!"},{"$error":"#REF!"},{"$error":"#REF!"},{"$error":"#REF!"},{"$error":"#REF!"},{"$error":"#REF!"},{"$error":"#REF!"},{"$error":"#REF!"},{"$error":"#REF!"},{"$error":"#REF!"},{"$error":"#REF!"},{"$error":"#REF!"},{"$error":"#REF!"},{"$error":"#REF!"},{"$error":"#REF!"},{"$error":"#REF!"},{"$error":"#REF!"},{"$error":"#REF!"},{"$error":"#REF!"},{"$error":"#REF!"},{"$error":"#REF!"},{"$error":"#REF!"},{"$error":"#REF!"},{"$error":"#REF!"},{"$error":"#REF!"},{"$error":"#REF!"},{"$error":"#REF!"},{"$error":"#REF!"},{"$error":"#REF!"},{"$error":"#REF!"},{"$error":"#REF!"},{"$error":"#REF!"},{"$error":"#REF!"},{"$error":"#REF!"},{"$error":"#REF!"},{"$error":"#REF!"},{"$error":"#REF!"},{"$error":"#REF!"},{"$error":"#REF!"},{"$error":"#REF!"},{"$error":"#REF!"},{"$error":"#REF!"},{"$error":"#REF!"},{"$error":"#REF!"},{"$error":"#REF!"},{"$error":"#REF!"},{"$error":"#REF!"},{"$error":"#REF!"},{"$error":"#REF!"},{"$error":"#REF!"},{"$error":"#REF!"},{"$error":"#REF!"},{"$error":"#REF!"},{"$error":"#REF!"},{"$error":"#REF!"},{"$error":"#REF!"},{"$error":"#REF!"},{"$error":"#REF!"},{"$error":"#REF!"},{"$error":"#REF!"},{"$error":"#REF!"},{"$error":"#REF!"},{"$error":"#REF!"},{"$error":"#REF!"},{"$error":"#REF!"},{"$error":"#REF!"},{"$error":"#REF!"},{"$error":"#REF!"},{"$error":"#REF!"},{"$error":"#REF!"},{"$error":"#REF!"},{"$error":"#REF!"},{"$error":"#REF!"},{"$error":"#REF!"},{"$error":"#REF!"},{"$error":"#REF!"},{"$error":"#REF!"},{"$error":"#REF!"},{"$error":"#REF!"},{"$error":"#REF!"},{"$error":"#REF!"},{"$error":"#REF!"},{"$error":"#REF!"},{"$error":"#REF!"},{"$error":"#REF!"},{"$error":"#REF!"},{"$error":"#REF!"},{"$error":"#REF!"},{"$error":"#REF!"},{"$error":"#REF!"},{"$error":"#REF!"},{"$error":"#REF!"},{"$error":"#REF!"},{"$error":"#REF!"},{"$error":"#REF!"},{"$error":"#REF!"},{"$error":"#REF!"},{"$error":"#REF!"},{"$error":"#REF!"},{"$error":"#REF!"},{"$error":"#REF!"},{"$error":"#REF!"},{"$error":"#REF!"},{"$error":"#REF!"},{"$error":"#REF!"},{"$error":"#REF!"},{"$error":"#REF!"},{"$error":"#REF!"},{"$error":"#REF!"},{"$error":"#REF!"},{"$error":"#REF!"},{"$error":"#REF!"},{"$error":"#REF!"},{"$error":"#REF!"},{"$error":"#REF!"},{"$error":"#REF!"},{"$error":"#REF!"},{"$error":"#REF!"},{"$error":"#REF!"},{"$error":"#REF!"},{"$error":"#REF!"},{"$error":"#REF!"},{"$error":"#REF!"},{"$error":"#REF!"},{"$error":"#REF!"},{"$error":"#REF!"},{"$error":"#REF!"},{"$error":"#REF!"},{"$error":"#REF!"},{"$error":"#REF!"},{"$error":"#REF!"},{"$error":"#REF!"},{"$error":"#REF!"},{"$error":"#REF!"},{"$error":"#REF!"},{"$error":"#REF!"},{"$error":"#REF!"},{"$error":"#REF!"},{"$error":"#REF!"},{"$error":"#REF!"},{"$error":"#REF!"},{"$error":"#REF!"},{"$error":"#REF!"},{"$error":"#REF!"},{"$error":"#REF!"},{"$error":"#REF!"},{"$error":"#REF!"},{"$error":"#REF!"},{"$error":"#REF!"},{"$error":"#REF!"},{"$error":"#REF!"},{"$error":"#REF!"},{"$error":"#REF!"},{"$error":"#REF!"},{"$error":"#REF!"},{"$error":"#REF!"},{"$error":"#REF!"},{"$error":"#REF!"},{"$error":"#REF!"},{"$error":"#REF!"},{"$error":"#REF!"},{"$error":"#REF!"},{"$error":"#REF!"},{"$error":"#REF!"},{"$error":"#REF!"},{"$error":"#REF!"},{"$error":"#REF!"},{"$error":"#REF!"},{"$error":"#REF!"},{"$error":"#REF!"},{"$error":"#REF!"},{"$error":"#REF!"},{"$error":"#REF!"},{"$error":"#REF!"},{"$error":"#REF!"},{"$error":"#REF!"},{"$error":"#REF!"},{"$error":"#REF!"},{"$error":"#REF!"},{"$error":"#REF!"},{"$error":"#REF!"},{"$error":"#REF!"},{"$error":"#REF!"},{"$error":"#REF!"},{"$error":"#REF!"},{"$error":"#REF!"},{"$error":"#REF!"},{"$error":"#REF!"},{"$error":"#REF!"},{"$error":"#REF!"},{"$error":"#REF!"},{"$error":"#REF!"},{"$error":"#REF!"},{"$error":"#REF!"},{"$error":"#REF!"},{"$error":"#REF!"},{"$error":"#REF!"},{"$error":"#REF!"},{"$error":"#REF!"},{"$error":"#REF!"},{"$error":"#REF!"},{"$error":"#REF!"},{"$error":"#REF!"},{"$error":"#REF!"},{"$error":"#REF!"},{"$error":"#REF!"},{"$error":"#REF!"},{"$error":"#REF!"},{"$error":"#REF!"},{"$error":"#REF!"},{"$error":"#REF!"},{"$error":"#REF!"},{"$error":"#REF!"},{"$error":"#REF!"},{"$error":"#REF!"},{"$error":"#REF!"},{"$error":"#REF!"},{"$error":"#REF!"},{"$error":"#REF!"},{"$error":"#REF!"},{"$error":"#REF!"},{"$error":"#REF!"},{"$error":"#REF!"},{"$error":"#REF!"},{"$error":"#REF!"},{"$error":"#REF!"},{"$error":"#REF!"},{"$error":"#REF!"},{"$error":"#REF!"},{"$error":"#REF!"},{"$error":"#REF!"},{"$error":"#REF!"},{"$error":"#REF!"},{"$error":"#REF!"},{"$error":"#REF!"},{"$error":"#REF!"},{"$error":"#REF!"},{"$error":"#REF!"},{"$error":"#REF!"},{"$error":"#REF!"},{"$error":"#REF!"},{"$error":"#REF!"},{"$error":"#REF!"},{"$error":"#REF!"},{"$error":"#REF!"},{"$error":"#REF!"},{"$error":"#REF!"},{"$error":"#REF!"},{"$error":"#REF!"},{"$error":"#REF!"},{"$error":"#REF!"},{"$error":"#REF!"},{"$error":"#REF!"},{"$error":"#REF!"},{"$error":"#REF!"},{"$error":"#REF!"},{"$error":"#REF!"},{"$error":"#REF!"},{"$error":"#REF!"},{"$error":"#REF!"},{"$error":"#REF!"},{"$error":"#REF!"},{"$error":"#REF!"},{"$error":"#REF!"},{"$error":"#REF!"},{"$error":"#REF!"},{"$error":"#REF!"},{"$error":"#REF!"},{"$error":"#REF!"},{"$error":"#REF!"},{"$error":"#REF!"},{"$error":"#REF!"},{"$error":"#REF!"},{"$error":"#REF!"},{"$error":"#REF!"},{"$error":"#REF!"},{"$error":"#REF!"},{"$error":"#REF!"},{"$error":"#REF!"},{"$error":"#REF!"},{"$error":"#REF!"},{"$error":"#REF!"},{"$error":"#REF!"},{"$error":"#REF!"},{"$error":"#REF!"},{"$error":"#REF!"},{"$error":"#REF!"},{"$error":"#REF!"},{"$error":"#REF!"},{"$error":"#REF!"},{"$error":"#REF!"},{"$error":"#REF!"},{"$error":"#REF!"},{"$error":"#REF!"},{"$error":"#REF!"},{"$error":"#REF!"},{"$error":"#REF!"},{"$error":"#REF!"},{"$error":"#REF!"},{"$error":"#REF!"},{"$error":"#REF!"},{"$error":"#REF!"},{"$error":"#REF!"},{"$error":"#REF!"},{"$error":"#REF!"},{"$error":"#REF!"},{"$error":"#REF!"},{"$error":"#REF!"},{"$error":"#REF!"},{"$error":"#REF!"},{"$error":"#REF!"},{"$error":"#REF!"},{"$error":"#REF!"},{"$error":"#REF!"},{"$error":"#REF!"},{"$error":"#REF!"},{"$error":"#REF!"},{"$error":"#REF!"},{"$error":"#REF!"},{"$error":"#REF!"},{"$error":"#REF!"},{"$error":"#REF!"},{"$error":"#REF!"},{"$error":"#REF!"},{"$error":"#REF!"},{"$error":"#REF!"},{"$error":"#REF!"},{"$error":"#REF!"},{"$error":"#REF!"},{"$error":"#REF!"},{"$error":"#REF!"},{"$error":"#REF!"},{"$error":"#REF!"},{"$error":"#REF!"},{"$error":"#REF!"},{"$error":"#REF!"},{"$error":"#REF!"},{"$error":"#REF!"},{"$error":"#REF!"},{"$error":"#REF!"},{"$error":"#REF!"},{"$error":"#REF!"},{"$error":"#REF!"},{"$error":"#REF!"},{"$error":"#REF!"},{"$error":"#REF!"},{"$error":"#REF!"},{"$error":"#REF!"},{"$error":"#REF!"},{"$error":"#REF!"},{"$error":"#REF!"},{"$error":"#REF!"},{"$error":"#REF!"},{"$error":"#REF!"},{"$error":"#REF!"},{"$error":"#REF!"},{"$error":"#REF!"},{"$error":"#REF!"},{"$error":"#REF!"},{"$error":"#REF!"},{"$error":"#REF!"},{"$error":"#REF!"},{"$error":"#REF!"},{"$error":"#REF!"},{"$error":"#REF!"},{"$error":"#REF!"},{"$error":"#REF!"},{"$error":"#REF!"},{"$error":"#REF!"},{"$error":"#REF!"},{"$error":"#REF!"},{"$error":"#REF!"},{"$error":"#REF!"},{"$error":"#REF!"},{"$error":"#REF!"},{"$error":"#REF!"},{"$error":"#REF!"},{"$error":"#REF!"},{"$error":"#REF!"},{"$error":"#REF!"},{"$error":"#REF!"},{"$error":"#REF!"},{"$error":"#REF!"},{"$error":"#REF!"},{"$error":"#REF!"}]
["OR",{"$f":"LEFT('WMBW-WH'!#REF!&REPT(\" \",B$6),B$6)","v":{"$error":"#REF!"}},{"$f":"LEFT('WMBW-WH'!#REF!&REPT(\" \",C$6),C$6)","v":{"$error":"#REF!"}},{"$f":"LEFT('WMBW-WH'!#REF!&REPT(\" \",D$6),D$6)","v":{"$error":"#REF!"}},{"$f":"LEFT('WMBW-WH'!#REF!&REPT(\" \",E$6),E$6)","v":{"$error":"#REF!"}},{"$f":"LEFT('WMBW-WH'!#REF!&REPT(\" \",F$6),F$6)","v":{"$error":"#REF!"}},{"$f":"LEFT('WMBW-WH'!#REF!&REPT(\" \",G$6),G$6)","v":{"$error":"#REF!"}},{"$f":"LEFT('WMBW-WH'!#REF!&REPT(\" \",H$6),H$6)","v":{"$error":"#REF!"}},{"$f":"LEFT('WMBW-WH'!#REF!&REPT(\" \",I$6),I$6)","v":{"$error":"#REF!"}},{"$f":"LEFT('WMBW-WH'!#REF!&REPT(\" \",J$6),J$6)","v":{"$error":"#REF!"}},{"$f":"LEFT('WMBW-WH'!#REF!&REPT(\" \",K$6),K$6)","v":{"$error":"#REF!"}},{"$f":"LEFT('WMBW-WH'!#REF!&REPT(\" \",L$6),L$6)","v":{"$error":"#REF!"}},{"$f":"LEFT('WMBW-WH'!#REF!&REPT(\" \",M$6),M$6)","v":{"$error":"#REF!"}},{"$f":"LEFT('WMBW-WH'!#REF!&REPT(\" \",N$6),N$6)","v":{"$error":"#REF!"}},{"$f":"LEFT('WMBW-WH'!#REF!&REPT(\" \",O$6),O$6)","v":{"$error":"#REF!"}},{"$f":"LEFT('WMBW-WH'!#REF!&REPT(\" \",P$6),P$6)","v":{"$error":"#REF!"}},{"$f":"LEFT('WMBW-WH'!#REF!&REPT(\" \",Q$6),Q$6)","v":{"$error":"#REF!"}},{"$f":"LEFT('WMBW-WH'!#REF!&REPT(\" \",R$6),R$6)","v":{"$error":"#REF!"}},{"$f":"LEFT('WMBW-WH'!#REF!&REPT(\" \",S$6),S$6)","v":{"$error":"#REF!"}},{"$f":"LEFT('WMBW-WH'!#REF!&REPT(\" \",T$6),T$6)","v":{"$error":"#REF!"}},{"$f":"LEFT('WMBW-WH'!#REF!&REPT(\" \",U$6),U$6)","v":{"$error":"#REF!"}},{"$f":"LEFT('WMBW-WH'!#REF!&REPT(\" \",V$6),V$6)","v":{"$error":"#REF!"}},{"$f":"LEFT('WMBW-WH'!#REF!&REPT(\" \",W$6),W$6)","v":{"$error":"#REF!"}},{"$f":"LEFT('WMBW-WH'!#REF!&REPT(\" \",X$6),X$6)","v":{"$error":"#REF!"}},{"$f":"LEFT('WMBW-WH'!#REF!&REPT(\" \",Y$6),Y$6)","v":{"$error":"#REF!"}},{"$f":"LEFT('WMBW-WH'!#REF!&REPT(\" \",Z$6),Z$6)","v":{"$error":"#REF!"}},{"$f":"LEFT('WMBW-WH'!#REF!&REPT(\" \",AA$6),AA$6)","v":{"$error":"#REF!"}},{"$f":"LEFT('WMBW-WH'!#REF!&REPT(\" \",AB$6),AB$6)","v":{"$error":"#REF!"}},{"$f":"LEFT('WMBW-WH'!#REF!&REPT(\" \",AC$6),AC$6)","v":{"$error":"#REF!"}},{"$f":"LEFT('WMBW-WH'!#REF!&REPT(\" \",AD$6),AD$6)","v":{"$error":"#REF!"}},{"$f":"LEFT('WMBW-WH'!#REF!&REPT(\" \",AE$6),AE$6)","v":{"$error":"#REF!"}},null,null,{"$error":"#REF!"},{"$error":"#REF!"},"ORO 202101WMBWPT1004021A    20210106                                   184621B                            42672                                      FAIRFIELD                                                                            3101 BUSCH DRIVE                                            FAIRFIELD           CA94534USMB.Case                                 BUSCH LIGHT                                                                          7                                  15        25      OZ5                     ",525,{"$f":"INDEX(AN24:UX24,MATCH(TRUE,INDEX((AN24:UX24<>\"\"),0),0))","v":{"$error":"#N/A"}},{"$error":"#REF!"},{"$error":"#REF!"},{"$error":"#REF!"},{"$error":"#REF!"},{"$error":"#REF!"},{"$error":"#REF!"},{"$error":"#REF!"},{"$error":"#REF!"},{"$error":"#REF!"},{"$error":"#REF!"},{"$error":"#REF!"},{"$error":"#REF!"},{"$error":"#REF!"},{"$error":"#REF!"},{"$error":"#REF!"},{"$error":"#REF!"},{"$error":"#REF!"},{"$error":"#REF!"},{"$error":"#REF!"},{"$error":"#REF!"},{"$error":"#REF!"},{"$error":"#REF!"},{"$error":"#REF!"},{"$error":"#REF!"},{"$error":"#REF!"},{"$error":"#REF!"},{"$error":"#REF!"},{"$error":"#REF!"},{"$error":"#REF!"},{"$error":"#REF!"},{"$error":"#REF!"},{"$error":"#REF!"},{"$error":"#REF!"},{"$error":"#REF!"},{"$error":"#REF!"},{"$error":"#REF!"},{"$error":"#REF!"},{"$error":"#REF!"},{"$error":"#REF!"},{"$error":"#REF!"},{"$error":"#REF!"},{"$error":"#REF!"},{"$error":"#REF!"},{"$error":"#REF!"},{"$error":"#REF!"},{"$error":"#REF!"},{"$error":"#REF!"},{"$error":"#REF!"},{"$error":"#REF!"},{"$error":"#REF!"},{"$error":"#REF!"},{"$error":"#REF!"},{"$error":"#REF!"},{"$error":"#REF!"},{"$error":"#REF!"},{"$error":"#REF!"},{"$error":"#REF!"},{"$error":"#REF!"},{"$error":"#REF!"},{"$error":"#REF!"},{"$error":"#REF!"},{"$error":"#REF!"},{"$error":"#REF!"},{"$error":"#REF!"},{"$error":"#REF!"},{"$f":"IF(MID($AH24,CZ$12,1)=MID($AJ24,CZ$12,1),\"\",CZ23)","v":{"$error":"#REF!"}},{"$error":"#REF!"},{"$error":"#REF!"},{"$error":"#REF!"},{"$error":"#REF!"},{"$error":"#REF!"},{"$error":"#REF!"},{"$error":"#REF!"},{"$error":"#REF!"},{"$error":"#REF!"},{"$error":"#REF!"},{"$error":"#REF!"},{"$error":"#REF!"},{"$error":"#REF!"},{"$error":"#REF!"},{"$error":"#REF!"},{"$error":"#REF!"},{"$error":"#REF!"},{"$error":"#REF!"},{"$error":"#REF!"},{"$error":"#REF!"},{"$error":"#REF!"},{"$error":"#REF!"},{"$error":"#REF!"},{"$error":"#REF!"},{"$error":"#REF!"},{"$error":"#REF!"},{"$error":"#REF!"},{"$error":"#REF!"},{"$error":"#REF!"},{"$error":"#REF!"},{"$error":"#REF!"},{"$error":"#REF!"},{"$error":"#REF!"},{"$error":"#REF!"},{"$error":"#REF!"},{"$error":"#REF!"},{"$error":"#REF!"},{"$error":"#REF!"},{"$error":"#REF!"},{"$error":"#REF!"},{"$error":"#REF!"},{"$error":"#REF!"},{"$error":"#REF!"},{"$error":"#REF!"},{"$error":"#REF!"},{"$error":"#REF!"},{"$error":"#REF!"},{"$error":"#REF!"},{"$error":"#REF!"},{"$error":"#REF!"},{"$error":"#REF!"},{"$error":"#REF!"},{"$error":"#REF!"},{"$error":"#REF!"},{"$error":"#REF!"},{"$error":"#REF!"},{"$error":"#REF!"},{"$error":"#REF!"},{"$error":"#REF!"},{"$error":"#REF!"},{"$error":"#REF!"},{"$error":"#REF!"},{"$error":"#REF!"},{"$f":"IF(MID($AH24,FL$12,1)=MID($AJ24,FL$12,1),\"\",FL23)","v":{"$error":"#REF!"}},{"$error":"#REF!"},{"$error":"#REF!"},{"$error":"#REF!"},{"$error":"#REF!"},{"$error":"#REF!"},{"$error":"#REF!"},{"$error":"#REF!"},{"$error":"#REF!"},{"$error":"#REF!"},{"$error":"#REF!"},{"$error":"#REF!"},{"$error":"#REF!"},{"$error":"#REF!"},{"$error":"#REF!"},{"$error":"#REF!"},{"$error":"#REF!"},{"$error":"#REF!"},{"$error":"#REF!"},{"$error":"#REF!"},{"$error":"#REF!"},{"$error":"#REF!"},{"$error":"#REF!"},{"$error":"#REF!"},{"$error":"#REF!"},{"$error":"#REF!"},{"$error":"#REF!"},{"$error":"#REF!"},{"$error":"#REF!"},{"$error":"#REF!"},{"$error":"#REF!"},{"$error":"#REF!"},{"$error":"#REF!"},{"$error":"#REF!"},{"$error":"#REF!"},{"$error":"#REF!"},{"$error":"#REF!"},{"$error":"#REF!"},{"$error":"#REF!"},{"$error":"#REF!"},{"$error":"#REF!"},{"$error":"#REF!"},{"$error":"#REF!"},{"$error":"#REF!"},{"$error":"#REF!"},{"$error":"#REF!"},{"$error":"#REF!"},{"$error":"#REF!"},{"$error":"#REF!"},{"$error":"#REF!"},{"$error":"#REF!"},{"$error":"#REF!"},{"$error":"#REF!"},{"$error":"#REF!"},{"$error":"#REF!"},{"$error":"#REF!"},{"$error":"#REF!"},{"$error":"#REF!"},{"$error":"#REF!"},{"$error":"#REF!"},{"$error":"#REF!"},{"$error":"#REF!"},{"$error":"#REF!"},{"$error":"#REF!"},{"$f":"IF(MID($AH24,HX$12,1)=MID($AJ24,HX$12,1),\"\",HX23)","v":{"$error":"#REF!"}},{"$error":"#REF!"},{"$error":"#REF!"},{"$error":"#REF!"},{"$error":"#REF!"},{"$error":"#REF!"},{"$error":"#REF!"},{"$error":"#REF!"},{"$error":"#REF!"},{"$error":"#REF!"},{"$error":"#REF!"},{"$error":"#REF!"},{"$error":"#REF!"},{"$error":"#REF!"},{"$error":"#REF!"},{"$error":"#REF!"},{"$error":"#REF!"},{"$error":"#REF!"},{"$error":"#REF!"},{"$error":"#REF!"},{"$error":"#REF!"},{"$error":"#REF!"},{"$error":"#REF!"},{"$error":"#REF!"},{"$error":"#REF!"},{"$error":"#REF!"},{"$error":"#REF!"},{"$error":"#REF!"},{"$error":"#REF!"},{"$error":"#REF!"},{"$error":"#REF!"},{"$error":"#REF!"},{"$error":"#REF!"},{"$error":"#REF!"},{"$error":"#REF!"},{"$error":"#REF!"},{"$error":"#REF!"},{"$error":"#REF!"},{"$error":"#REF!"},{"$error":"#REF!"},{"$error":"#REF!"},{"$error":"#REF!"},{"$error":"#REF!"},{"$error":"#REF!"},{"$error":"#REF!"},{"$error":"#REF!"},{"$error":"#REF!"},{"$error":"#REF!"},{"$error":"#REF!"},{"$error":"#REF!"},{"$error":"#REF!"},{"$error":"#REF!"},{"$error":"#REF!"},{"$error":"#REF!"},{"$error":"#REF!"},{"$error":"#REF!"},{"$error":"#REF!"},{"$error":"#REF!"},{"$error":"#REF!"},{"$error":"#REF!"},{"$error":"#REF!"},{"$error":"#REF!"},{"$error":"#REF!"},{"$error":"#REF!"},{"$f":"IF(MID($AH24,KJ$12,1)=MID($AJ24,KJ$12,1),\"\",KJ23)","v":{"$error":"#REF!"}},{"$error":"#REF!"},{"$error":"#REF!"},{"$error":"#REF!"},{"$error":"#REF!"},{"$error":"#REF!"},{"$error":"#REF!"},{"$error":"#REF!"},{"$error":"#REF!"},{"$error":"#REF!"},{"$error":"#REF!"},{"$error":"#REF!"},{"$error":"#REF!"},{"$error":"#REF!"},{"$error":"#REF!"},{"$error":"#REF!"},{"$error":"#REF!"},{"$error":"#REF!"},{"$error":"#REF!"},{"$error":"#REF!"},{"$error":"#REF!"},{"$error":"#REF!"},{"$error":"#REF!"},{"$error":"#REF!"},{"$error":"#REF!"},{"$error":"#REF!"},{"$error":"#REF!"},{"$error":"#REF!"},{"$error":"#REF!"},{"$error":"#REF!"},{"$error":"#REF!"},{"$error":"#REF!"},{"$error":"#REF!"},{"$error":"#REF!"},{"$error":"#REF!"},{"$error":"#REF!"},{"$error":"#REF!"},{"$error":"#REF!"},{"$error":"#REF!"},{"$error":"#REF!"},{"$error":"#REF!"},{"$error":"#REF!"},{"$error":"#REF!"},{"$error":"#REF!"},{"$error":"#REF!"},{"$error":"#REF!"},{"$error":"#REF!"},{"$error":"#REF!"},{"$error":"#REF!"},{"$error":"#REF!"},{"$error":"#REF!"},{"$error":"#REF!"},{"$error":"#REF!"},{"$error":"#REF!"},{"$error":"#REF!"},{"$error":"#REF!"},{"$error":"#REF!"},{"$error":"#REF!"},{"$error":"#REF!"},{"$error":"#REF!"},{"$error":"#REF!"},{"$error":"#REF!"},{"$error":"#REF!"},{"$error":"#REF!"},{"$f":"IF(MID($AH24,MV$12,1)=MID($AJ24,MV$12,1),\"\",MV23)","v":{"$error":"#REF!"}},{"$error":"#REF!"},{"$error":"#REF!"},{"$error":"#REF!"},{"$error":"#REF!"},{"$error":"#REF!"},{"$error":"#REF!"},{"$error":"#REF!"},{"$error":"#REF!"},{"$error":"#REF!"},{"$error":"#REF!"},{"$error":"#REF!"},{"$error":"#REF!"},{"$error":"#REF!"},{"$error":"#REF!"},{"$error":"#REF!"},{"$error":"#REF!"},{"$error":"#REF!"},{"$error":"#REF!"},{"$error":"#REF!"},{"$error":"#REF!"},{"$error":"#REF!"},{"$error":"#REF!"},{"$error":"#REF!"},{"$error":"#REF!"},{"$error":"#REF!"},{"$error":"#REF!"},{"$error":"#REF!"},{"$error":"#REF!"},{"$error":"#REF!"},{"$error":"#REF!"},{"$error":"#REF!"},{"$error":"#REF!"},{"$error":"#REF!"},{"$error":"#REF!"},{"$error":"#REF!"},{"$error":"#REF!"},{"$error":"#REF!"},{"$error":"#REF!"},{"$error":"#REF!"},{"$error":"#REF!"},{"$error":"#REF!"},{"$error":"#REF!"},{"$error":"#REF!"},{"$error":"#REF!"},{"$error":"#REF!"},{"$error":"#REF!"},{"$error":"#REF!"},{"$error":"#REF!"},{"$error":"#REF!"},{"$error":"#REF!"},{"$error":"#REF!"},{"$error":"#REF!"},{"$error":"#REF!"},{"$error":"#REF!"},{"$error":"#REF!"},{"$error":"#REF!"},{"$error":"#REF!"},{"$error":"#REF!"},{"$error":"#REF!"},{"$error":"#REF!"},{"$error":"#REF!"},{"$error":"#REF!"},{"$error":"#REF!"},{"$f":"IF(MID($AH24,PH$12,1)=MID($AJ24,PH$12,1),\"\",PH23)","v":{"$error":"#REF!"}},{"$error":"#REF!"},{"$error":"#REF!"},{"$error":"#REF!"},{"$error":"#REF!"},{"$error":"#REF!"},{"$error":"#REF!"},{"$error":"#REF!"},{"$error":"#REF!"},{"$error":"#REF!"},{"$error":"#REF!"},{"$error":"#REF!"},{"$error":"#REF!"},{"$error":"#REF!"},{"$error":"#REF!"},{"$error":"#REF!"},{"$error":"#REF!"},{"$error":"#REF!"},{"$error":"#REF!"},{"$error":"#REF!"},{"$error":"#REF!"},{"$error":"#REF!"},{"$error":"#REF!"},{"$error":"#REF!"},{"$error":"#REF!"},{"$error":"#REF!"},{"$error":"#REF!"},{"$error":"#REF!"},{"$error":"#REF!"},{"$error":"#REF!"},{"$error":"#REF!"},{"$error":"#REF!"},{"$error":"#REF!"},{"$error":"#REF!"},{"$error":"#REF!"},{"$error":"#REF!"},{"$error":"#REF!"},{"$error":"#REF!"},{"$error":"#REF!"},{"$error":"#REF!"},{"$error":"#REF!"},{"$error":"#REF!"},{"$error":"#REF!"},{"$error":"#REF!"},{"$error":"#REF!"},{"$error":"#REF!"},{"$error":"#REF!"},{"$error":"#REF!"},{"$error":"#REF!"},{"$error":"#REF!"},{"$error":"#REF!"},{"$error":"#REF!"},{"$error":"#REF!"},{"$error":"#REF!"},{"$error":"#REF!"},{"$error":"#REF!"},{"$error":"#REF!"},{"$error":"#REF!"},{"$error":"#REF!"},{"$error":"#REF!"},{"$error":"#REF!"},{"$error":"#REF!"},{"$error":"#REF!"},{"$error":"#REF!"},{"$f":"IF(MID($AH24,RT$12,1)=MID($AJ24,RT$12,1),\"\",RT23)","v":{"$error":"#REF!"}},{"$error":"#REF!"},{"$error":"#REF!"},{"$error":"#REF!"},{"$error":"#REF!"},{"$error":"#REF!"},{"$error":"#REF!"},{"$error":"#REF!"},{"$error":"#REF!"},{"$error":"#REF!"},{"$error":"#REF!"},{"$error":"#REF!"},{"$error":"#REF!"},{"$error":"#REF!"},{"$error":"#REF!"},{"$error":"#REF!"},{"$error":"#REF!"},{"$error":"#REF!"},{"$error":"#REF!"},{"$error":"#REF!"},{"$error":"#REF!"},{"$error":"#REF!"},{"$error":"#REF!"},{"$error":"#REF!"},{"$error":"#REF!"},{"$error":"#REF!"},{"$error":"#REF!"},{"$error":"#REF!"},{"$error":"#REF!"},{"$error":"#REF!"},{"$error":"#REF!"},{"$error":"#REF!"},{"$error":"#REF!"},{"$error":"#REF!"},{"$error":"#REF!"},{"$error":"#REF!"},{"$error":"#REF!"},{"$error":"#REF!"},{"$error":"#REF!"},{"$error":"#REF!"},{"$error":"#REF!"},{"$error":"#REF!"},{"$error":"#REF!"},{"$error":"#REF!"},{"$error":"#REF!"},{"$error":"#REF!"},{"$error":"#REF!"},{"$error":"#REF!"},{"$error":"#REF!"},{"$error":"#REF!"},{"$error":"#REF!"},{"$error":"#REF!"},{"$error":"#REF!"},{"$error":"#REF!"},{"$error":"#REF!"},{"$error":"#REF!"},{"$error":"#REF!"},{"$error":"#REF!"},{"$error":"#REF!"},{"$error":"#REF!"},{"$error":"#REF!"},{"$error":"#REF!"},{"$error":"#REF!"},{"$error":"#REF!"},{"$f":"IF(MID($AH24,UF$12,1)=MID($AJ24,UF$12,1),\"\",UF23)","v":{"$error":"#REF!"}},{"$error":"#REF!"},{"$error":"#REF!"},{"$error":"#REF!"},{"$error":"#REF!"},{"$error":"#REF!"},{"$error":"#REF!"},{"$error":"#REF!"},{"$error":"#REF!"},{"$error":"#REF!"},{"$error":"#REF!"},{"$error":"#REF!"},{"$error":"#REF!"},{"$error":"#REF!"},{"$error":"#REF!"},{"$error":"#REF!"}]
["OR",{"$f":"LEFT('WMBW-WH'!#REF!&REPT(\" \",B$6),B$6)","v":{"$error":"#REF!"}},{"$f":"LEFT('WMBW-WH'!#REF!&REPT(\" \",C$6),C$6)","v":{"$error":"#REF!"}},{"$f":"LEFT('WMBW-WH'!#REF!&REPT(\" \",D$6),D$6)","v":{"$error":"#REF!"}},{"$f":"LEFT('WMBW-WH'!#REF!&REPT(\" \",E$6),E$6)","v":{"$error":"#REF!"}},{"$f":"LEFT('WMBW-WH'!#REF!&REPT(\" \",F$6),F$6)","v":{"$error":"#REF!"}},{"$f":"LEFT('WMBW-WH'!#REF!&REPT(\" \",G$6),G$6)","v":{"$error":"#REF!"}},{"$f":"LEFT('WMBW-WH'!#REF!&REPT(\" \",H$6),H$6)","v":{"$error":"#REF!"}},{"$f":"LEFT('WMBW-WH'!#REF!&REPT(\" \",I$6),I$6)","v":{"$error":"#REF!"}},{"$f":"LEFT('WMBW-WH'!#REF!&REPT(\" \",J$6),J$6)","v":{"$error":"#REF!"}},{"$f":"LEFT('WMBW-WH'!#REF!&REPT(\" \",K$6),K$6)","v":{"$error":"#REF!"}},{"$f":"LEFT('WMBW-WH'!#REF!&REPT(\" \",L$6),L$6)","v":{"$error":"#REF!"}},{"$f":"LEFT('WMBW-WH'!#REF!&REPT(\" \",M$6),M$6)","v":{"$error":"#REF!"}},{"$f":"LEFT('WMBW-WH'!#REF!&REPT(\" \",N$6),N$6)","v":{"$error":"#REF!"}},{"$f":"LEFT('WMBW-WH'!#REF!&REPT(\" \",O$6),O$6)","v":{"$error":"#REF!"}},{"$f":"LEFT('WMBW-WH'!#REF!&REPT(\" \",P$6),P$6)","v":{"$error":"#REF!"}},{"$f":"LEFT('WMBW-WH'!#REF!&REPT(\" \",Q$6),Q$6)","v":{"$error":"#REF!"}},{"$f":"LEFT('WMBW-WH'!#REF!&REPT(\" \",R$6),R$6)","v":{"$error":"#REF!"}},{"$f":"LEFT('WMBW-WH'!#REF!&REPT(\" \",S$6),S$6)","v":{"$error":"#REF!"}},{"$f":"LEFT('WMBW-WH'!#REF!&REPT(\" \",T$6),T$6)","v":{"$error":"#REF!"}},{"$f":"LEFT('WMBW-WH'!#REF!&REPT(\" \",U$6),U$6)","v":{"$error":"#REF!"}},{"$f":"LEFT('WMBW-WH'!#REF!&REPT(\" \",V$6),V$6)","v":{"$error":"#REF!"}},{"$f":"LEFT('WMBW-WH'!#REF!&REPT(\" \",W$6),W$6)","v":{"$error":"#REF!"}},{"$f":"LEFT('WMBW-WH'!#REF!&REPT(\" \",X$6),X$6)","v":{"$error":"#REF!"}},{"$f":"LEFT('WMBW-WH'!#REF!&REPT(\" \",Y$6),Y$6)","v":{"$error":"#REF!"}},{"$f":"LEFT('WMBW-WH'!#REF!&REPT(\" \",Z$6),Z$6)","v":{"$error":"#REF!"}},{"$f":"LEFT('WMBW-WH'!#REF!&REPT(\" \",AA$6),AA$6)","v":{"$error":"#REF!"}},{"$f":"LEFT('WMBW-WH'!#REF!&REPT(\" \",AB$6),AB$6)","v":{"$error":"#REF!"}},{"$f":"LEFT('WMBW-WH'!#REF!&REPT(\" \",AC$6),AC$6)","v":{"$error":"#REF!"}},{"$f":"LEFT('WMBW-WH'!#REF!&REPT(\" \",AD$6),AD$6)","v":{"$error":"#REF!"}},{"$f":"LEFT('WMBW-WH'!#REF!&REPT(\" \",AE$6),AE$6)","v":{"$error":"#REF!"}},null,null,{"$error":"#REF!"},{"$error":"#REF!"},"ORO 202101WMBWPT1004021A    20210106                                   184622B                            43930                                      FAIRFIELD                                                                            3101 BUSCH DRIVE                                            FAIRFIELD           CA94534USMB.Case                                 BODDINGTON'S PUB ALE                                                                 2                                  24        16      OZ5                     ",525,{"$f":"INDEX(AN25:UX25,MATCH(TRUE,INDEX((AN25:UX25<>\"\"),0),0))","v":{"$error":"#N/A"}},{"$error":"#REF!"},{"$error":"#REF!"},{"$f":"IF(MID($AH25,AO$12,1)=MID($AJ25,AO$12,1),\"\",AO24)","v":{"$error":"#REF!"}},{"$error":"#REF!"},{"$error":"#REF!"},{"$error":"#REF!"},{"$error":"#REF!"},{"$error":"#REF!"},{"$error":"#REF!"},{"$error":"#REF!"},{"$error":"#REF!"},{"$error":"#REF!"},{"$error":"#REF!"},{"$error":"#REF!"},{"$error":"#REF!"},{"$error":"#REF!"},{"$error":"#REF!"},{"$error":"#REF!"},{"$error":"#REF!"},{"$error":"#REF!"},{"$error":"#REF!"},{"$error":"#REF!"},{"$error":"#REF!"},{"$error":"#REF!"},{"$error":"#REF!"},{"$error":"#REF!"},{"$error":"#REF!"},{"$error":"#REF!"},{"$error":"#REF!"},{"$error":"#REF!"},{"$error":"#REF!"},{"$error":"#REF!"},{"$error":"#REF!"},{"$error":"#REF!"},{"$error":"#REF!"},{"$error":"#REF!"},{"$error":"#REF!"},{"$error":"#REF!"},{"$error":"#REF!"},{"$error":"#REF!"},{"$error":"#REF!"},{"$error":"#REF!"},{"$error":"#REF!"},{"$error":"#REF!"},{"$error":"#REF!"},{"$error":"#REF!"},{"$error":"#REF!"},{"$error":"#REF!"},{"$error":"#REF!"},{"$error":"#REF!"},{"$error":"#REF!"},{"$error":"#REF!"},{"$error":"#REF!"},{"$error":"#REF!"},{"$error":"#REF!"},{"$error":"#REF!"},{"$error":"#REF!"},{"$error":"#REF!"},{"$error":"#REF!"},{"$error":"#REF!"},{"$error":"#REF!"},{"$error":"#REF!"},{"$error":"#REF!"},{"$error":"#REF!"},{"$error":"#REF!"},{"$error":"#REF!"},{"$f":"IF(MID($AH25,DA$12,1)=MID($AJ25,DA$12,1),\"\",DA24)","v":{"$error":"#REF!"}},{"$error":"#REF!"},{"$error":"#REF!"},{"$error":"#REF!"},{"$error":"#REF!"},{"$error":"#REF!"},{"$error":"#REF!"},{"$error":"#REF!"},{"$error":"#REF!"},{"$error":"#REF!"},{"$error":"#REF!"},{"$error":"#REF!"},{"$error":"#REF!"},{"$error":"#REF!"},{"$error":"#REF!"},{"$error":"#REF!"},{"$error":"#REF!"},{"$error":"#REF!"},{"$error":"#REF!"},{"$error":"#REF!"},{"$error":"#REF!"},{"$error":"#REF!"},{"$error":"#REF!"},{"$error":"#REF!"},{"$error":"#REF!"},{"$error":"#REF!"},{"$error":"#REF!"},{"$error":"#REF!"},{"$error":"#REF!"},{"$error":"#REF!"},{"$error":"#REF!"},{"$error":"#REF!"},{"$error":"#REF!"},{"$error":"#REF!"},{"$error":"#REF!"},{"$error":"#REF!"},{"$error":"#REF!"},{"$error":"#REF!"},{"$error":"#REF!"},{"$error":"#REF!"},{"$error":"#REF!"},{"$error":"#REF!"},{"$error":"#REF!"},{"$error":"#REF!"},{"$error":"#REF!"},{"$error":"#REF!"},{"$error":"#REF!"},{"$error":"#REF!"},{"$error":"#REF!"},{"$error":"#REF!"},{"$error":"#REF!"},{"$error":"#REF!"},{"$error":"#REF!"},{"$error":"#REF!"},{"$error":"#REF!"},{"$error":"#REF!"},{"$error":"#REF!"},{"$error":"#REF!"},{"$error":"#REF!"},{"$error":"#REF!"},{"$error":"#REF!"},{"$error":"#REF!"},{"$error":"#REF!"},{"$error":"#REF!"},{"$f":"IF(MID($AH25,FM$12,1)=MID($AJ25,FM$12,1),\"\",FM24)","v":{"$error":"#REF!"}},{"$error":"#REF!"},{"$error":"#REF!"},{"$error":"#REF!"},{"$error":"#REF!"},{"$error":"#REF!"},{"$error":"#REF!"},{"$error":"#REF!"},{"$error":"#REF!"},{"$error":"#REF!"},{"$error":"#REF!"},{"$error":"#REF!"},{"$error":"#REF!"},{"$error":"#REF!"},{"$error":"#REF!"},{"$error":"#REF!"},{"$error":"#REF!"},{"$error":"#REF!"},{"$error":"#REF!"},{"$error":"#REF!"},{"$error":"#REF!"},{"$error":"#REF!"},{"$error":"#REF!"},{"$error":"#REF!"},{"$error":"#REF!"},{"$error":"#REF!"},{"$error":"#REF!"},{"$error":"#REF!"},{"$error":"#REF!"},{"$error":"#REF!"},{"$error":"#REF!"},{"$error":"#REF!"},{"$error":"#REF!"},{"$error":"#REF!"},{"$error":"#REF!"},{"$error":"#REF!"},{"$error":"#REF!"},{"$error":"#REF!"},{"$error":"#REF!"},{"$error":"#REF!"},{"$error":"#REF!"},{"$error":"#REF!"},{"$error":"#REF!"},{"$error":"#REF!"},{"$error":"#REF!"},{"$error":"#REF!"},{"$error":"#REF!"},{"$error":"#REF!"},{"$error":"#REF!"},{"$error":"#REF!"},{"$error":"#REF!"},{"$error":"#REF!"},{"$error":"#REF!"},{"$error":"#REF!"},{"$error":"#REF!"},{"$error":"#REF!"},{"$error":"#REF!"},{"$error":"#REF!"},{"$error":"#REF!"},{"$error":"#REF!"},{"$error":"#REF!"},{"$error":"#REF!"},{"$error":"#REF!"},{"$error":"#REF!"},{"$f":"IF(MID($AH25,HY$12,1)=MID($AJ25,HY$12,1),\"\",HY24)","v":{"$error":"#REF!"}},{"$error":"#REF!"},{"$error":"#REF!"},{"$error":"#REF!"},{"$error":"#REF!"},{"$error":"#REF!"},{"$error":"#REF!"},{"$error":"#REF!"},{"$error":"#REF!"},{"$error":"#REF!"},{"$error":"#REF!"},{"$error":"#REF!"},{"$error":"#REF!"},{"$error":"#REF!"},{"$error":"#REF!"},{"$error":"#REF!"},{"$error":"#REF!"},{"$error":"#REF!"},{"$error":"#REF!"},{"$error":"#REF!"},{"$error":"#REF!"},{"$error":"#REF!"},{"$error":"#REF!"},{"$error":"#REF!"},{"$error":"#REF!"},{"$error":"#REF!"},{"$error":"#REF!"},{"$error":"#REF!"},{"$error":"#REF!"},{"$error":"#REF!"},{"$error":"#REF!"},{"$error":"#REF!"},{"$error":"#REF!"},{"$error":"#REF!"},{"$error":"#REF!"},{"$error":"#REF!"},{"$error":"#REF!"},{"$error":"#REF!"},{"$error":"#REF!"},{"$error":"#REF!"},{"$error":"#REF!"},{"$error":"#REF!"},{"$error":"#REF!"},{"$error":"#REF!"},{"$error":"#REF!"},{"$error":"#REF!"},{"$error":"#REF!"},{"$error":"#REF!"},{"$error":"#REF!"},{"$error":"#REF!"},{"$error":"#REF!"},{"$error":"#REF!"},{"$error":"#REF!"},{"$error":"#REF!"},{"$error":"#REF!"},{"$error":"#REF!"},{"$error":"#REF!"},{"$error":"#REF!"},{"$error":"#REF!"},{"$error":"#REF!"},{"$error":"#REF!"},{"$error":"#REF!"},{"$error":"#REF!"},{"$error":"#REF!"},{"$f":"IF(MID($AH25,KK$12,1)=MID($AJ25,KK$12,1),\"\",KK24)","v":{"$error":"#REF!"}},{"$error":"#REF!"},{"$error":"#REF!"},{"$error":"#REF!"},{"$error":"#REF!"},{"$error":"#REF!"},{"$error":"#REF!"},{"$error":"#REF!"},{"$error":"#REF!"},{"$error":"#REF!"},{"$error":"#REF!"},{"$error":"#REF!"},{"$error":"#REF!"},{"$error":"#REF!"},{"$error":"#REF!"},{"$error":"#REF!"},{"$error":"#REF!"},{"$error":"#REF!"},{"$error":"#REF!"},{"$error":"#REF!"},{"$error":"#REF!"},{"$error":"#REF!"},{"$error":"#REF!"},{"$error":"#REF!"},{"$error":"#REF!"},{"$error":"#REF!"},{"$error":"#REF!"},{"$error":"#REF!"},{"$error":"#REF!"},{"$error":"#REF!"},{"$error":"#REF!"},{"$error":"#REF!"},{"$error":"#REF!"},{"$error":"#REF!"},{"$error":"#REF!"},{"$error":"#REF!"},{"$error":"#REF!"},{"$error":"#REF!"},{"$error":"#REF!"},{"$error":"#REF!"},{"$error":"#REF!"},{"$error":"#REF!"},{"$error":"#REF!"},{"$error":"#REF!"},{"$error":"#REF!"},{"$error":"#REF!"},{"$error":"#REF!"},{"$error":"#REF!"},{"$error":"#REF!"},{"$error":"#REF!"},{"$error":"#REF!"},{"$error":"#REF!"},{"$error":"#REF!"},{"$error":"#REF!"},{"$error":"#REF!"},{"$error":"#REF!"},{"$error":"#REF!"},{"$error":"#REF!"},{"$error":"#REF!"},{"$error":"#REF!"},{"$error":"#REF!"},{"$error":"#REF!"},{"$error":"#REF!"},{"$error":"#REF!"},{"$f":"IF(MID($AH25,MW$12,1)=MID($AJ25,MW$12,1),\"\",MW24)","v":{"$error":"#REF!"}},{"$error":"#REF!"},{"$error":"#REF!"},{"$error":"#REF!"},{"$error":"#REF!"},{"$error":"#REF!"},{"$error":"#REF!"},{"$error":"#REF!"},{"$error":"#REF!"},{"$error":"#REF!"},{"$error":"#REF!"},{"$error":"#REF!"},{"$error":"#REF!"},{"$error":"#REF!"},{"$error":"#REF!"},{"$error":"#REF!"},{"$error":"#REF!"},{"$error":"#REF!"},{"$error":"#REF!"},{"$error":"#REF!"},{"$error":"#REF!"},{"$error":"#REF!"},{"$error":"#REF!"},{"$error":"#REF!"},{"$error":"#REF!"},{"$error":"#REF!"},{"$error":"#REF!"},{"$error":"#REF!"},{"$error":"#REF!"},{"$error":"#REF!"},{"$error":"#REF!"},{"$error":"#REF!"},{"$error":"#REF!"},{"$error":"#REF!"},{"$error":"#REF!"},{"$error":"#REF!"},{"$error":"#REF!"},{"$error":"#REF!"},{"$error":"#REF!"},{"$error":"#REF!"},{"$error":"#REF!"},{"$error":"#REF!"},{"$error":"#REF!"},{"$error":"#REF!"},{"$error":"#REF!"},{"$error":"#REF!"},{"$error":"#REF!"},{"$error":"#REF!"},{"$error":"#REF!"},{"$error":"#REF!"},{"$error":"#REF!"},{"$error":"#REF!"},{"$error":"#REF!"},{"$error":"#REF!"},{"$error":"#REF!"},{"$error":"#REF!"},{"$error":"#REF!"},{"$error":"#REF!"},{"$error":"#REF!"},{"$error":"#REF!"},{"$error":"#REF!"},{"$error":"#REF!"},{"$error":"#REF!"},{"$error":"#REF!"},{"$f":"IF(MID($AH25,PI$12,1)=MID($AJ25,PI$12,1),\"\",PI24)","v":{"$error":"#REF!"}},{"$error":"#REF!"},{"$error":"#REF!"},{"$error":"#REF!"},{"$error":"#REF!"},{"$error":"#REF!"},{"$error":"#REF!"},{"$error":"#REF!"},{"$error":"#REF!"},{"$error":"#REF!"},{"$error":"#REF!"},{"$error":"#REF!"},{"$error":"#REF!"},{"$error":"#REF!"},{"$error":"#REF!"},{"$error":"#REF!"},{"$error":"#REF!"},{"$error":"#REF!"},{"$error":"#REF!"},{"$error":"#REF!"},{"$error":"#REF!"},{"$error":"#REF!"},{"$error":"#REF!"},{"$error":"#REF!"},{"$error":"#REF!"},{"$error":"#REF!"},{"$error":"#REF!"},{"$error":"#REF!"},{"$error":"#REF!"},{"$error":"#REF!"},{"$error":"#REF!"},{"$error":"#REF!"},{"$error":"#REF!"},{"$error":"#REF!"},{"$error":"#REF!"},{"$error":"#REF!"},{"$error":"#REF!"},{"$error":"#REF!"},{"$error":"#REF!"},{"$error":"#REF!"},{"$error":"#REF!"},{"$error":"#REF!"},{"$error":"#REF!"},{"$error":"#REF!"},{"$error":"#REF!"},{"$error":"#REF!"},{"$error":"#REF!"},{"$error":"#REF!"},{"$error":"#REF!"},{"$error":"#REF!"},{"$error":"#REF!"},{"$error":"#REF!"},{"$error":"#REF!"},{"$error":"#REF!"},{"$error":"#REF!"},{"$error":"#REF!"},{"$error":"#REF!"},{"$error":"#REF!"},{"$error":"#REF!"},{"$error":"#REF!"},{"$error":"#REF!"},{"$error":"#REF!"},{"$error":"#REF!"},{"$error":"#REF!"},{"$f":"IF(MID($AH25,RU$12,1)=MID($AJ25,RU$12,1),\"\",RU24)","v":{"$error":"#REF!"}},{"$error":"#REF!"},{"$error":"#REF!"},{"$error":"#REF!"},{"$error":"#REF!"},{"$error":"#REF!"},{"$error":"#REF!"},{"$error":"#REF!"},{"$error":"#REF!"},{"$error":"#REF!"},{"$error":"#REF!"},{"$error":"#REF!"},{"$error":"#REF!"},{"$error":"#REF!"},{"$error":"#REF!"},{"$error":"#REF!"},{"$error":"#REF!"},{"$error":"#REF!"},{"$error":"#REF!"},{"$error":"#REF!"},{"$error":"#REF!"},{"$error":"#REF!"},{"$error":"#REF!"},{"$error":"#REF!"},{"$error":"#REF!"},{"$error":"#REF!"},{"$error":"#REF!"},{"$error":"#REF!"},{"$error":"#REF!"},{"$error":"#REF!"},{"$error":"#REF!"},{"$error":"#REF!"},{"$error":"#REF!"},{"$error":"#REF!"},{"$error":"#REF!"},{"$error":"#REF!"},{"$error":"#REF!"},{"$error":"#REF!"},{"$error":"#REF!"},{"$error":"#REF!"},{"$error":"#REF!"},{"$error":"#REF!"},{"$error":"#REF!"},{"$error":"#REF!"},{"$error":"#REF!"},{"$error":"#REF!"},{"$error":"#REF!"},{"$error":"#REF!"},{"$error":"#REF!"},{"$error":"#REF!"},{"$error":"#REF!"},{"$error":"#REF!"},{"$error":"#REF!"},{"$error":"#REF!"},{"$error":"#REF!"},{"$error":"#REF!"},{"$error":"#REF!"},{"$error":"#REF!"},{"$error":"#REF!"},{"$error":"#REF!"},{"$error":"#REF!"},{"$error":"#REF!"},{"$error":"#REF!"},{"$error":"#REF!"},{"$error":"#REF!"},{"$error":"#REF!"},{"$error":"#REF!"},{"$error":"#REF!"},{"$error":"#REF!"},{"$error":"#REF!"},{"$error":"#REF!"},{"$error":"#REF!"},{"$error":"#REF!"},{"$error":"#REF!"},{"$error":"#REF!"},{"$error":"#REF!"},{"$error":"#REF!"},{"$error":"#REF!"},{"$error":"#REF!"}]
["OR",{"$f":"LEFT('WMBW-WH'!#REF!&REPT(\" \",B$6),B$6)","v":{"$error":"#REF!"}},{"$f":"LEFT('WMBW-WH'!#REF!&REPT(\" \",C$6),C$6)","v":{"$error":"#REF!"}},{"$f":"LEFT('WMBW-WH'!#REF!&REPT(\" \",D$6),D$6)","v":{"$error":"#REF!"}},{"$f":"LEFT('WMBW-WH'!#REF!&REPT(\" \",E$6),E$6)","v":{"$error":"#REF!"}},{"$f":"LEFT('WMBW-WH'!#REF!&REPT(\" \",F$6),F$6)","v":{"$error":"#REF!"}},{"$f":"LEFT('WMBW-WH'!#REF!&REPT(\" \",G$6),G$6)","v":{"$error":"#REF!"}},{"$f":"LEFT('WMBW-WH'!#REF!&REPT(\" \",H$6),H$6)","v":{"$error":"#REF!"}},{"$f":"LEFT('WMBW-WH'!#REF!&REPT(\" \",I$6),I$6)","v":{"$error":"#REF!"}},{"$f":"LEFT('WMBW-WH'!#REF!&REPT(\" \",J$6),J$6)","v":{"$error":"#REF!"}},{"$f":"LEFT('WMBW-WH'!#REF!&REPT(\" \",K$6),K$6)","v":{"$error":"#REF!"}},{"$f":"LEFT('WMBW-WH'!#REF!&REPT(\" \",L$6),L$6)","v":{"$error":"#REF!"}},{"$f":"LEFT('WMBW-WH'!#REF!&REPT(\" \",M$6),M$6)","v":{"$error":"#REF!"}},{"$f":"LEFT('WMBW-WH'!#REF!&REPT(\" \",N$6),N$6)","v":{"$error":"#REF!"}},{"$f":"LEFT('WMBW-WH'!#REF!&REPT(\" \",O$6),O$6)","v":{"$error":"#REF!"}},{"$f":"LEFT('WMBW-WH'!#REF!&REPT(\" \",P$6),P$6)","v":{"$error":"#REF!"}},{"$f":"LEFT('WMBW-WH'!#REF!&REPT(\" \",Q$6),Q$6)","v":{"$error":"#REF!"}},{"$f":"LEFT('WMBW-WH'!#REF!&REPT(\" \",R$6),R$6)","v":{"$error":"#REF!"}},{"$f":"LEFT('WMBW-WH'!#REF!&REPT(\" \",S$6),S$6)","v":{"$error":"#REF!"}},{"$f":"LEFT('WMBW-WH'!#REF!&REPT(\" \",T$6),T$6)","v":{"$error":"#REF!"}},{"$f":"LEFT('WMBW-WH'!#REF!&REPT(\" \",U$6),U$6)","v":{"$error":"#REF!"}},{"$f":"LEFT('WMBW-WH'!#REF!&REPT(\" \",V$6),V$6)","v":{"$error":"#REF!"}},{"$f":"LEFT('WMBW-WH'!#REF!&REPT(\" \",W$6),W$6)","v":{"$error":"#REF!"}},{"$f":"LEFT('WMBW-WH'!#REF!&REPT(\" \",X$6),X$6)","v":{"$error":"#REF!"}},{"$f":"LEFT('WMBW-WH'!#REF!&REPT(\" \",Y$6),Y$6)","v":{"$error":"#REF!"}},{"$f":"LEFT('WMBW-WH'!#REF!&REPT(\" \",Z$6),Z$6)","v":{"$error":"#REF!"}},{"$f":"LEFT('WMBW-WH'!#REF!&REPT(\" \",AA$6),AA$6)","v":{"$error":"#REF!"}},{"$f":"LEFT('WMBW-WH'!#REF!&REPT(\" \",AB$6),AB$6)","v":{"$error":"#REF!"}},{"$f":"LEFT('WMBW-WH'!#REF!&REPT(\" \",AC$6),AC$6)","v":{"$error":"#REF!"}},{"$f":"LEFT('WMBW-WH'!#REF!&REPT(\" \",AD$6),AD$6)","v":{"$error":"#REF!"}},{"$f":"LEFT('WMBW-WH'!#REF!&REPT(\" \",AE$6),AE$6)","v":{"$error":"#REF!"}},null,null,{"$error":"#REF!"},{"$error":"#REF!"},"ORO 202101WMBWPT1004021A    20210106                                   184623B                            48371                                      FAIRFIELD                                                                            3101 BUSCH DRIVE                                            FAIRFIELD           CA94534USMB.Case                                 ELYSIAN SPACE DUST IPA                                                               4                                  24        12      OZ9                     ",525,{"$f":"INDEX(AN26:UX26,MATCH(TRUE,INDEX((AN26:UX26<>\"\"),0),0))","v":{"$error":"#N/A"}},{"$error":"#REF!"},{"$error":"#REF!"},{"$error":"#REF!"},{"$error":"#REF!"},{"$error":"#REF!"},{"$error":"#REF!"},{"$error":"#REF!"},{"$error":"#REF!"},{"$error":"#REF!"},{"$error":"#REF!"},{"$error":"#REF!"},{"$error":"#REF!"},{"$error":"#REF!"},{"$error":"#REF!"},{"$error":"#REF!"},{"$error":"#REF!"},{"$error":"#REF!"},{"$error":"#REF!"},{"$error":"#REF!"},{"$error":"#REF!"},{"$error":"#REF!"},{"$error":"#REF!"},{"$error":"#REF!"},{"$error":"#REF!"},{"$error":"#REF!"},{"$error":"#REF!"},{"$error":"#REF!"},{"$error":"#REF!"},{"$error":"#REF!"},{"$error":"#REF!"},{"$error":"#REF!"},{"$error":"#REF!"},{"$error":"#REF!"},{"$error":"#REF!"},{"$error":"#REF!"},{"$error":"#REF!"},{"$error":"#REF!"},{"$error":"#REF!"},{"$error":"#REF!"},{"$error":"#REF!"},{"$error":"#REF!"},{"$error":"#REF!"},{"$error":"#REF!"},{"$error":"#REF!"},{"$error":"#REF!"},{"$error":"#REF!"},{"$error":"#REF!"},{"$error":"#REF!"},{"$error":"#REF!"},{"$error":"#REF!"},{"$error":"#REF!"},{"$error":"#REF!"},{"$error":"#REF!"},{"$error":"#REF!"},{"$error":"#REF!"},{"$error":"#REF!"},{"$error":"#REF!"},{"$error":"#REF!"},{"$error":"#REF!"},{"$error":"#REF!"},{"$error":"#REF!"},{"$error":"#REF!"},{"$error":"#REF!"},{"$error":"#REF!"},{"$error":"#REF!"},{"$error":"#REF!"},{"$error":"#REF!"},{"$error":"#REF!"},{"$error":"#REF!"},{"$error":"#REF!"},{"$error":"#REF!"},{"$error":"#REF!"},{"$error":"#REF!"},{"$error":"#REF!"},{"$error":"#REF!"},{"$error":"#REF!"},{"$error":"#REF!"},{"$error":"#REF!"},{"$error":"#REF!"},{"$error":"#REF!"},{"$error":"#REF!"},{"$error":"#REF!"},{"$error":"#REF!"},{"$error":"#REF!"},{"$error":"#REF!"},{"$error":"#REF!"},{"$error":"#REF!"},{"$error":"#REF!"},{"$error":"#REF!"},{"$error":"#REF!"},{"$error":"#REF!"},{"$error":"#REF!"},{"$error":"#REF!"},{"$error":"#REF!"},{"$error":"#REF!"},{"$error":"#REF!"},{"$error":"#REF!"},{"$error":"#REF!"},{"$error":"#REF!"},{"$error":"#REF!"},{"$error":"#REF!"},{"$error":"#REF!"},{"$error":"#REF!"},{"$error":"#REF!"},{"$error":"#REF!"},{"$error":"#REF!"},{"$error":"#REF!"},{"$error":"#REF!"},{"$error":"#REF!"},{"$error":"#REF!"},{"$error":"#REF!"},{"$error":"#REF!"},{"$error":"#REF!"},{"$error":"#REF!"},{"$error":"#REF!"},{"$error":"#REF!"},{"$error":"#REF!"},{"$error":"#REF!"},{"$error":"#REF!"},{"$error":"#REF!"},{"$error":"#REF!"},{"$error":"#REF!"},{"$error":"#REF!"},{"$error":"#REF!"},{"$error":"#REF!"},{"$error":"#REF!"},{"$error":"#REF!"},{"$error":"#REF!"},{"$error":"#REF!"},{"$error":"#REF!"},{"$error":"#REF!"},{"$error":"#REF!"},{"$error":"#REF!"},{"$error":"#REF!"},{"$error":"#REF!"},{"$error":"#REF!"},{"$error":"#REF!"},{"$error":"#REF!"},{"$error":"#REF!"},{"$error":"#REF!"},{"$error":"#REF!"},{"$error":"#REF!"},{"$error":"#REF!"},{"$error":"#REF!"},{"$error":"#REF!"},{"$error":"#REF!"},{"$error":"#REF!"},{"$error":"#REF!"},{"$error":"#REF!"},{"$error":"#REF!"},{"$error":"#REF!"},{"$error":"#REF!"},{"$error":"#REF!"},{"$error":"#REF!"},{"$error":"#REF!"},{"$error":"#REF!"},{"$error":"#REF!"},{"$error":"#REF!"},{"$error":"#REF!"},{"$error":"#REF!"},{"$error":"#REF!"},{"$error":"#REF!"},{"$error":"#REF!"},{"$error":"#REF!"},{"$error":"#REF!"},{"$error":"#REF!"},{"$error":"#REF!"},{"$error":"#REF!"},{"$error":"#REF!"},{"$error":"#REF!"},{"$error":"#REF!"},{"$error":"#REF!"},{"$error":"#REF!"},{"$error":"#REF!"},{"$error":"#REF!"},{"$error":"#REF!"},{"$error":"#REF!"},{"$error":"#REF!"},{"$error":"#REF!"},{"$error":"#REF!"},{"$error":"#REF!"},{"$error":"#REF!"},{"$error":"#REF!"},{"$error":"#REF!"},{"$error":"#REF!"},{"$error":"#REF!"},{"$error":"#REF!"},{"$error":"#REF!"},{"$error":"#REF!"},{"$error":"#REF!"},{"$error":"#REF!"},{"$error":"#REF!"},{"$error":"#REF!"},{"$error":"#REF!"},{"$error":"#REF!"},{"$error":"#REF!"},{"$error":"#REF!"},{"$error":"#REF!"},{"$error":"#REF!"},{"$error":"#REF!"},{"$error":"#REF!"},{"$error":"#REF!"},{"$error":"#REF!"},{"$error":"#REF!"},{"$error":"#REF!"},{"$error":"#REF!"},{"$error":"#REF!"},{"$error":"#REF!"},{"$error":"#REF!"},{"$error":"#REF!"},{"$error":"#REF!"},{"$error":"#REF!"},{"$error":"#REF!"},{"$error":"#REF!"},{"$error":"#REF!"},{"$error":"#REF!"},{"$error":"#REF!"},{"$error":"#REF!"},{"$error":"#REF!"},{"$error":"#REF!"},{"$error":"#REF!"},{"$error":"#REF!"},{"$error":"#REF!"},{"$error":"#REF!"},{"$error":"#REF!"},{"$error":"#REF!"},{"$error":"#REF!"},{"$error":"#REF!"},{"$error":"#REF!"},{"$error":"#REF!"},{"$error":"#REF!"},{"$error":"#REF!"},{"$error":"#REF!"},{"$error":"#REF!"},{"$error":"#REF!"},{"$error":"#REF!"},{"$error":"#REF!"},{"$error":"#REF!"},{"$error":"#REF!"},{"$error":"#REF!"},{"$error":"#REF!"},{"$error":"#REF!"},{"$error":"#REF!"},{"$error":"#REF!"},{"$error":"#REF!"},{"$error":"#REF!"},{"$error":"#REF!"},{"$error":"#REF!"},{"$error":"#REF!"},{"$error":"#REF!"},{"$error":"#REF!"},{"$error":"#REF!"},{"$error":"#REF!"},{"$error":"#REF!"},{"$error":"#REF!"},{"$error":"#REF!"},{"$error":"#REF!"},{"$error":"#REF!"},{"$error":"#REF!"},{"$error":"#REF!"},{"$error":"#REF!"},{"$error":"#REF!"},{"$error":"#REF!"},{"$error":"#REF!"},{"$error":"#REF!"},{"$error":"#REF!"},{"$error":"#REF!"},{"$error":"#REF!"},{"$error":"#REF!"},{"$error":"#REF!"},{"$error":"#REF!"},{"$error":"#REF!"},{"$error":"#REF!"},{"$error":"#REF!"},{"$error":"#REF!"},{"$error":"#REF!"},{"$error":"#REF!"},{"$error":"#REF!"},{"$error":"#REF!"},{"$error":"#REF!"},{"$error":"#REF!"},{"$error":"#REF!"},{"$error":"#REF!"},{"$error":"#REF!"},{"$error":"#REF!"},{"$error":"#REF!"},{"$error":"#REF!"},{"$error":"#REF!"},{"$error":"#REF!"},{"$error":"#REF!"},{"$error":"#REF!"},{"$error":"#REF!"},{"$error":"#REF!"},{"$error":"#REF!"},{"$error":"#REF!"},{"$error":"#REF!"},{"$error":"#REF!"},{"$error":"#REF!"},{"$error":"#REF!"},{"$error":"#REF!"},{"$error":"#REF!"},{"$error":"#REF!"},{"$error":"#REF!"},{"$error":"#REF!"},{"$error":"#REF!"},{"$error":"#REF!"},{"$error":"#REF!"},{"$error":"#REF!"},{"$error":"#REF!"},{"$error":"#REF!"},{"$error":"#REF!"},{"$error":"#REF!"},{"$error":"#REF!"},{"$error":"#REF!"},{"$error":"#REF!"},{"$error":"#REF!"},{"$error":"#REF!"},{"$error":"#REF!"},{"$error":"#REF!"},{"$error":"#REF!"},{"$error":"#REF!"},{"$error":"#REF!"},{"$error":"#REF!"},{"$error":"#REF!"},{"$error":"#REF!"},{"$error":"#REF!"},{"$error":"#REF!"},{"$error":"#REF!"},{"$error":"#REF!"},{"$error":"#REF!"},{"$error":"#REF!"},{"$error":"#REF!"},{"$error":"#REF!"},{"$error":"#REF!"},{"$error":"#REF!"},{"$error":"#REF!"},{"$error":"#REF!"},{"$error":"#REF!"},{"$error":"#REF!"},{"$error":"#REF!"},{"$error":"#REF!"},{"$error":"#REF!"},{"$error":"#REF!"},{"$error":"#REF!"},{"$error":"#REF!"},{"$error":"#REF!"},{"$error":"#REF!"},{"$error":"#REF!"},{"$error":"#REF!"},{"$error":"#REF!"},{"$error":"#REF!"},{"$error":"#REF!"},{"$error":"#REF!"},{"$error":"#REF!"},{"$error":"#REF!"},{"$error":"#REF!"},{"$error":"#REF!"},{"$error":"#REF!"},{"$error":"#REF!"},{"$error":"#REF!"},{"$error":"#REF!"},{"$error":"#REF!"},{"$error":"#REF!"},{"$error":"#REF!"},{"$error":"#REF!"},{"$error":"#REF!"},{"$error":"#REF!"},{"$error":"#REF!"},{"$error":"#REF!"},{"$error":"#REF!"},{"$error":"#REF!"},{"$error":"#REF!"},{"$error":"#REF!"},{"$error":"#REF!"},{"$error":"#REF!"},{"$error":"#REF!"},{"$error":"#REF!"},{"$error":"#REF!"},{"$error":"#REF!"},{"$error":"#REF!"},{"$error":"#REF!"},{"$error":"#REF!"},{"$error":"#REF!"},{"$error":"#REF!"},{"$error":"#REF!"},{"$error":"#REF!"},{"$error":"#REF!"},{"$error":"#REF!"},{"$error":"#REF!"},{"$error":"#REF!"},{"$error":"#REF!"},{"$error":"#REF!"},{"$error":"#REF!"},{"$error":"#REF!"},{"$error":"#REF!"},{"$error":"#REF!"},{"$error":"#REF!"},{"$error":"#REF!"},{"$error":"#REF!"},{"$error":"#REF!"},{"$error":"#REF!"},{"$error":"#REF!"},{"$error":"#REF!"},{"$error":"#REF!"},{"$error":"#REF!"},{"$error":"#REF!"},{"$error":"#REF!"},{"$error":"#REF!"},{"$error":"#REF!"},{"$error":"#REF!"},{"$error":"#REF!"},{"$error":"#REF!"},{"$error":"#REF!"},{"$error":"#REF!"},{"$error":"#REF!"},{"$error":"#REF!"},{"$error":"#REF!"},{"$error":"#REF!"},{"$error":"#REF!"},{"$error":"#REF!"},{"$error":"#REF!"},{"$error":"#REF!"},{"$error":"#REF!"},{"$error":"#REF!"},{"$error":"#REF!"},{"$error":"#REF!"},{"$error":"#REF!"},{"$error":"#REF!"},{"$error":"#REF!"},{"$error":"#REF!"},{"$error":"#REF!"},{"$error":"#REF!"},{"$error":"#REF!"},{"$error":"#REF!"},{"$error":"#REF!"},{"$error":"#REF!"},{"$error":"#REF!"},{"$error":"#REF!"},{"$error":"#REF!"},{"$error":"#REF!"},{"$error":"#REF!"},{"$error":"#REF!"},{"$error":"#REF!"},{"$error":"#REF!"},{"$error":"#REF!"},{"$error":"#REF!"},{"$error":"#REF!"},{"$error":"#REF!"},{"$error":"#REF!"},{"$error":"#REF!"},{"$error":"#REF!"},{"$error":"#REF!"},{"$error":"#REF!"},{"$error":"#REF!"},{"$error":"#REF!"},{"$error":"#REF!"},{"$error":"#REF!"},{"$error":"#REF!"},{"$error":"#REF!"},{"$error":"#REF!"},{"$error":"#REF!"},{"$error":"#REF!"},{"$error":"#REF!"},{"$error":"#REF!"},{"$error":"#REF!"},{"$error":"#REF!"},{"$error":"#REF!"},{"$error":"#REF!"},{"$error":"#REF!"},{"$error":"#REF!"},{"$error":"#REF!"},{"$error":"#REF!"},{"$error":"#REF!"},{"$error":"#REF!"},{"$error":"#REF!"},{"$error":"#REF!"},{"$error":"#REF!"},{"$error":"#REF!"},{"$error":"#REF!"},{"$error":"#REF!"},{"$error":"#REF!"},{"$error":"#REF!"},{"$error":"#REF!"},{"$error":"#REF!"},{"$error":"#REF!"},{"$error":"#REF!"},{"$error":"#REF!"},{"$error":"#REF!"},{"$error":"#REF!"},{"$error":"#REF!"},{"$error":"#REF!"},{"$error":"#REF!"},{"$error":"#REF!"},{"$error":"#REF!"},{"$error":"#REF!"},{"$error":"#REF!"},{"$error":"#REF!"},{"$error":"#REF!"},{"$error":"#REF!"},{"$error":"#REF!"},{"$error":"#REF!"},{"$error":"#REF!"},{"$error":"#REF!"},{"$error":"#REF!"},{"$error":"#REF!"},{"$error":"#REF!"},{"$error":"#REF!"},{"$error":"#REF!"},{"$error":"#REF!"},{"$error":"#REF!"},{"$error":"#REF!"},{"$error":"#REF!"},{"$error":"#REF!"},{"$error":"#REF!"},{"$error":"#REF!"},{"$error":"#REF!"},{"$error":"#REF!"},{"$error":"#REF!"},{"$error":"#REF!"},{"$error":"#REF!"},{"$error":"#REF!"},{"$error":"#REF!"},{"$error":"#REF!"},{"$error":"#REF!"},{"$error":"#REF!"},{"$error":"#REF!"},{"$error":"#REF!"},{"$error":"#REF!"},{"$error":"#REF!"}]
["OR",{"$f":"LEFT('WMBW-WH'!#REF!&REPT(\" \",B$6),B$6)","v":{"$error":"#REF!"}},{"$f":"LEFT('WMBW-WH'!#REF!&REPT(\" \",C$6),C$6)","v":{"$error":"#REF!"}},{"$f":"LEFT('WMBW-WH'!#REF!&REPT(\" \",D$6),D$6)","v":{"$error":"#REF!"}},{"$f":"LEFT('WMBW-WH'!#REF!&REPT(\" \",E$6),E$6)","v":{"$error":"#REF!"}},{"$f":"LEFT('WMBW-WH'!#REF!&REPT(\" \",F$6),F$6)","v":{"$error":"#REF!"}},{"$f":"LEFT('WMBW-WH'!#REF!&REPT(\" \",G$6),G$6)","v":{"$error":"#REF!"}},{"$f":"LEFT('WMBW-WH'!#REF!&REPT(\" \",H$6),H$6)","v":{"$error":"#REF!"}},{"$f":"LEFT('WMBW-WH'!#REF!&REPT(\" \",I$6),I$6)","v":{"$error":"#REF!"}},{"$f":"LEFT('WMBW-WH'!#REF!&REPT(\" \",J$6),J$6)","v":{"$error":"#REF!"}},{"$f":"LEFT('WMBW-WH'!#REF!&REPT(\" \",K$6),K$6)","v":{"$error":"#REF!"}},{"$f":"LEFT('WMBW-WH'!#REF!&REPT(\" \",L$6),L$6)","v":{"$error":"#REF!"}},{"$f":"LEFT('WMBW-WH'!#REF!&REPT(\" \",M$6),M$6)","v":{"$error":"#REF!"}},{"$f":"LEFT('WMBW-WH'!#REF!&REPT(\" \",N$6),N$6)","v":{"$error":"#REF!"}},{"$f":"LEFT('WMBW-WH'!#REF!&REPT(\" \",O$6),O$6)","v":{"$error":"#REF!"}},{"$f":"LEFT('WMBW-WH'!#REF!&REPT(\" \",P$6),P$6)","v":{"$error":"#REF!"}},{"$f":"LEFT('WMBW-WH'!#REF!&REPT(\" \",Q$6),Q$6)","v":{"$error":"#REF!"}},{"$f":"LEFT('WMBW-WH'!#REF!&REPT(\" \",R$6),R$6)","v":{"$error":"#REF!"}},{"$f":"LEFT('WMBW-WH'!#REF!&REPT(\" \",S$6),S$6)","v":{"$error":"#REF!"}},{"$f":"LEFT('WMBW-WH'!#REF!&REPT(\" \",T$6),T$6)","v":{"$error":"#REF!"}},{"$f":"LEFT('WMBW-WH'!#REF!&REPT(\" \",U$6),U$6)","v":{"$error":"#REF!"}},{"$f":"LEFT('WMBW-WH'!#REF!&REPT(\" \",V$6),V$6)","v":{"$error":"#REF!"}},{"$f":"LEFT('WMBW-WH'!#REF!&REPT(\" \",W$6),W$6)","v":{"$error":"#REF!"}},{"$f":"LEFT('WMBW-WH'!#REF!&REPT(\" \",X$6),X$6)","v":{"$error":"#REF!"}},{"$f":"LEFT('WMBW-WH'!#REF!&REPT(\" \",Y$6),Y$6)","v":{"$error":"#REF!"}},{"$f":"LEFT('WMBW-WH'!#REF!&REPT(\" \",Z$6),Z$6)","v":{"$error":"#REF!"}},{"$f":"LEFT('WMBW-WH'!#REF!&REPT(\" \",AA$6),AA$6)","v":{"$error":"#REF!"}},{"$f":"LEFT('WMBW-WH'!#REF!&REPT(\" \",AB$6),AB$6)","v":{"$error":"#REF!"}},{"$f":"LEFT('WMBW-WH'!#REF!&REPT(\" \",AC$6),AC$6)","v":{"$error":"#REF!"}},{"$f":"LEFT('WMBW-WH'!#REF!&REPT(\" \",AD$6),AD$6)","v":{"$error":"#REF!"}},{"$f":"LEFT('WMBW-WH'!#REF!&REPT(\" \",AE$6),AE$6)","v":{"$error":"#REF!"}},null,null,{"$error":"#REF!"},{"$error":"#REF!"},"ORO 202101WMBWPT1004021A    20210106                                   184624B                            57153                                      FAIRFIELD                                                                            3101 BUSCH DRIVE                                            FAIRFIELD           CA94534USMB.Case                                 BUDWEISER                                                                            30                                 24        16      OZ5                     ",525,{"$f":"INDEX(AN27:UX27,MATCH(TRUE,INDEX((AN27:UX27<>\"\"),0),0))","v":{"$error":"#N/A"}},{"$error":"#REF!"},{"$error":"#REF!"},{"$error":"#REF!"},{"$error":"#REF!"},{"$error":"#REF!"},{"$error":"#REF!"},{"$error":"#REF!"},{"$error":"#REF!"},{"$error":"#REF!"},{"$error":"#REF!"},{"$error":"#REF!"},{"$error":"#REF!"},{"$error":"#REF!"},{"$error":"#REF!"},{"$error":"#REF!"},{"$error":"#REF!"},{"$error":"#REF!"},{"$error":"#REF!"},{"$error":"#REF!"},{"$error":"#REF!"},{"$error":"#REF!"},{"$error":"#REF!"},{"$error":"#REF!"},{"$error":"#REF!"},{"$error":"#REF!"},{"$error":"#REF!"},{"$error":"#REF!"},{"$error":"#REF!"},{"$error":"#REF!"},{"$error":"#REF!"},{"$error":"#REF!"},{"$error":"#REF!"},{"$error":"#REF!"},{"$error":"#REF!"},{"$error":"#REF!"},{"$error":"#REF!"},{"$error":"#REF!"},{"$error":"#REF!"},{"$error":"#REF!"},{"$error":"#REF!"},{"$error":"#REF!"},{"$error":"#REF!"},{"$error":"#REF!"},{"$error":"#REF!"},{"$error":"#REF!"},{"$error":"#REF!"},{"$error":"#REF!"},{"$error":"#REF!"},{"$error":"#REF!"},{"$error":"#REF!"},{"$error":"#REF!"},{"$error":"#REF!"},{"$error":"#REF!"},{"$error":"#REF!"},{"$error":"#REF!"},{"$error":"#REF!"},{"$error":"#REF!"},{"$error":"#REF!"},{"$error":"#REF!"},{"$error":"#REF!"},{"$error":"#REF!"},{"$error":"#REF!"},{"$error":"#REF!"},{"$error":"#REF!"},{"$error":"#REF!"},{"$error":"#REF!"},{"$error":"#REF!"},{"$error":"#REF!"},{"$error":"#REF!"},{"$error":"#REF!"},{"$error":"#REF!"},{"$error":"#REF!"},{"$error":"#REF!"},{"$error":"#REF!"},{"$error":"#REF!"},{"$error":"#REF!"},{"$error":"#REF!"},{"$error":"#REF!"},{"$error":"#REF!"},{"$error":"#REF!"},{"$error":"#REF!"},{"$error":"#REF!"},{"$error":"#REF!"},{"$error":"#REF!"},{"$error":"#REF!"},{"$error":"#REF!"},{"$error":"#REF!"},{"$error":"#REF!"},{"$error":"#REF!"},{"$error":"#REF!"},{"$error":"#REF!"},{"$error":"#REF!"},{"$error":"#REF!"},{"$error":"#REF!"},{"$error":"#REF!"},{"$error":"#REF!"},{"$error":"#REF!"},{"$error":"#REF!"},{"$error":"#REF!"},{"$error":"#REF!"},{"$error":"#REF!"},{"$error":"#REF!"},{"$error":"#REF!"},{"$error":"#REF!"},{"$error":"#REF!"},{"$error":"#REF!"},{"$error":"#REF!"},{"$error":"#REF!"},{"$error":"#REF!"},{"$error":"#REF!"},{"$error":"#REF!"},{"$error":"#REF!"},{"$error":"#REF!"},{"$error":"#REF!"},{"$error":"#REF!"},{"$error":"#REF!"},{"$error":"#REF!"},{"$error":"#REF!"},{"$error":"#REF!"},{"$error":"#REF!"},{"$error":"#REF!"},{"$error":"#REF!"},{"$error":"#REF!"},{"$error":"#REF!"},{"$error":"#REF!"},{"$error":"#REF!"},{"$error":"#REF!"},{"$error":"#REF!"},{"$error":"#REF!"},{"$error":"#REF!"},{"$error":"#REF!"},{"$error":"#REF!"},{"$error":"#REF!"},{"$error":"#REF!"},{"$error":"#REF!"},{"$error":"#REF!"},{"$error":"#REF!"},{"$error":"#REF!"},{"$error":"#REF!"},{"$error":"#REF!"},{"$error":"#REF!"},{"$error":"#REF!"},{"$error":"#REF!"},{"$error":"#REF!"},{"$error":"#REF!"},{"$error":"#REF!"},{"$error":"#REF!"},{"$error":"#REF!"},{"$error":"#REF!"},{"$error":"#REF!"},{"$error":"#REF!"},{"$error":"#REF!"},{"$error":"#REF!"},{"$error":"#REF!"},{"$error":"#REF!"},{"$error":"#REF!"},{"$error":"#REF!"},{"$error":"#REF!"},{"$error":"#REF!"},{"$error":"#REF!"},{"$error":"#REF!"},{"$error":"#REF!"},{"$error":"#REF!"},{"$error":"#REF!"},{"$error":"#REF!"},{"$error":"#REF!"},{"$error":"#REF!"},{"$error":"#REF!"},{"$error":"#REF!"},{"$error":"#REF!"},{"$error":"#REF!"},{"$error":"#REF!"},{"$error":"#REF!"},{"$error":"#REF!"},{"$error":"#REF!"},{"$error":"#REF!"},{"$error":"#REF!"},{"$error":"#REF!"},{"$error":"#REF!"},{"$error":"#REF!"},{"$error":"#REF!"},{"$error":"#REF!"},{"$error":"#REF!"},{"$error":"#REF!"},{"$error":"#REF!"},{"$error":"#REF!"},{"$error":"#REF!"},{"$error":"#REF!"},{"$error":"#REF!"},{"$error":"#REF!"},{"$error":"#REF!"},{"$error":"#REF!"},{"$error":"#REF!"},{"$error":"#REF!"},{"$error":"#REF!"},{"$error":"#REF!"},{"$error":"#REF!"},{"$error":"#REF!"},{"$error":"#REF!"},{"$error":"#REF!"},{"$error":"#REF!"},{"$error":"#REF!"},{"$error":"#REF!"},{"$error":"#REF!"},{"$error":"#REF!"},{"$error":"#REF!"},{"$error":"#REF!"},{"$error":"#REF!"},{"$error":"#REF!"},{"$error":"#REF!"},{"$error":"#REF!"},{"$error":"#REF!"},{"$error":"#REF!"},{"$error":"#REF!"},{"$error":"#REF!"},{"$error":"#REF!"},{"$error":"#REF!"},{"$error":"#REF!"},{"$error":"#REF!"},{"$error":"#REF!"},{"$error":"#REF!"},{"$error":"#REF!"},{"$error":"#REF!"},{"$error":"#REF!"},{"$error":"#REF!"},{"$error":"#REF!"},{"$error":"#REF!"},{"$error":"#REF!"},{"$error":"#REF!"},{"$error":"#REF!"},{"$error":"#REF!"},{"$error":"#REF!"},{"$error":"#REF!"},{"$error":"#REF!"},{"$error":"#REF!"},{"$error":"#REF!"},{"$error":"#REF!"},{"$error":"#REF!"},{"$error":"#REF!"},{"$error":"#REF!"},{"$error":"#REF!"},{"$error":"#REF!"},{"$error":"#REF!"},{"$error":"#REF!"},{"$error":"#REF!"},{"$error":"#REF!"},{"$error":"#REF!"},{"$error":"#REF!"},{"$error":"#REF!"},{"$error":"#REF!"},{"$error":"#REF!"},{"$error":"#REF!"},{"$error":"#REF!"},{"$error":"#REF!"},{"$error":"#REF!"},{"$error":"#REF!"},{"$error":"#REF!"},{"$error":"#REF!"},{"$error":"#REF!"},{"$error":"#REF!"},{"$error":"#REF!"},{"$error":"#REF!"},{"$error":"#REF!"},{"$error":"#REF!"},{"$error":"#REF!"},{"$error":"#REF!"},{"$error":"#REF!"},{"$error":"#REF!"},{"$error":"#REF!"},{"$error":"#REF!"},{"$error":"#REF!"},{"$error":"#REF!"},{"$error":"#REF!"},{"$error":"#REF!"},{"$error":"#REF!"},{"$error":"#REF!"},{"$error":"#REF!"},{"$error":"#REF!"},{"$error":"#REF!"},{"$error":"#REF!"},{"$error":"#REF!"},{"$error":"#REF!"},{"$error":"#REF!"},{"$error":"#REF!"},{"$error":"#REF!"},{"$error":"#REF!"},{"$error":"#REF!"},{"$error":"#REF!"},{"$error":"#REF!"},{"$error":"#REF!"},{"$error":"#REF!"},{"$error":"#REF!"},{"$error":"#REF!"},{"$error":"#REF!"},{"$error":"#REF!"},{"$error":"#REF!"},{"$error":"#REF!"},{"$error":"#REF!"},{"$error":"#REF!"},{"$error":"#REF!"},{"$error":"#REF!"},{"$error":"#REF!"},{"$error":"#REF!"},{"$error":"#REF!"},{"$error":"#REF!"},{"$error":"#REF!"},{"$error":"#REF!"},{"$error":"#REF!"},{"$error":"#REF!"},{"$error":"#REF!"},{"$error":"#REF!"},{"$error":"#REF!"},{"$error":"#REF!"},{"$error":"#REF!"},{"$error":"#REF!"},{"$error":"#REF!"},{"$error":"#REF!"},{"$error":"#REF!"},{"$error":"#REF!"},{"$error":"#REF!"},{"$error":"#REF!"},{"$error":"#REF!"},{"$error":"#REF!"},{"$error":"#REF!"},{"$error":"#REF!"},{"$error":"#REF!"},{"$error":"#REF!"},{"$error":"#REF!"},{"$error":"#REF!"},{"$error":"#REF!"},{"$error":"#REF!"},{"$error":"#REF!"},{"$error":"#REF!"},{"$error":"#REF!"},{"$error":"#REF!"},{"$error":"#REF!"},{"$error":"#REF!"},{"$error":"#REF!"},{"$error":"#REF!"},{"$error":"#REF!"},{"$error":"#REF!"},{"$error":"#REF!"},{"$error":"#REF!"},{"$error":"#REF!"},{"$error":"#REF!"},{"$error":"#REF!"},{"$error":"#REF!"},{"$error":"#REF!"},{"$error":"#REF!"},{"$error":"#REF!"},{"$error":"#REF!"},{"$error":"#REF!"},{"$error":"#REF!"},{"$error":"#REF!"},{"$error":"#REF!"},{"$error":"#REF!"},{"$error":"#REF!"},{"$error":"#REF!"},{"$error":"#REF!"},{"$error":"#REF!"},{"$error":"#REF!"},{"$error":"#REF!"},{"$error":"#REF!"},{"$error":"#REF!"},{"$error":"#REF!"},{"$error":"#REF!"},{"$error":"#REF!"},{"$error":"#REF!"},{"$error":"#REF!"},{"$error":"#REF!"},{"$error":"#REF!"},{"$error":"#REF!"},{"$error":"#REF!"},{"$error":"#REF!"},{"$error":"#REF!"},{"$error":"#REF!"},{"$error":"#REF!"},{"$error":"#REF!"},{"$error":"#REF!"},{"$error":"#REF!"},{"$error":"#REF!"},{"$error":"#REF!"},{"$error":"#REF!"},{"$error":"#REF!"},{"$error":"#REF!"},{"$error":"#REF!"},{"$error":"#REF!"},{"$error":"#REF!"},{"$error":"#REF!"},{"$error":"#REF!"},{"$error":"#REF!"},{"$error":"#REF!"},{"$error":"#REF!"},{"$error":"#REF!"},{"$error":"#REF!"},{"$error":"#REF!"},{"$error":"#REF!"},{"$error":"#REF!"},{"$error":"#REF!"},{"$error":"#REF!"},{"$error":"#REF!"},{"$error":"#REF!"},{"$error":"#REF!"},{"$error":"#REF!"},{"$error":"#REF!"},{"$error":"#REF!"},{"$error":"#REF!"},{"$error":"#REF!"},{"$error":"#REF!"},{"$error":"#REF!"},{"$error":"#REF!"},{"$error":"#REF!"},{"$error":"#REF!"},{"$error":"#REF!"},{"$error":"#REF!"},{"$error":"#REF!"},{"$error":"#REF!"},{"$error":"#REF!"},{"$error":"#REF!"},{"$error":"#REF!"},{"$error":"#REF!"},{"$error":"#REF!"},{"$error":"#REF!"},{"$error":"#REF!"},{"$error":"#REF!"},{"$error":"#REF!"},{"$error":"#REF!"},{"$error":"#REF!"},{"$error":"#REF!"},{"$error":"#REF!"},{"$error":"#REF!"},{"$error":"#REF!"},{"$error":"#REF!"},{"$error":"#REF!"},{"$error":"#REF!"},{"$error":"#REF!"},{"$error":"#REF!"},{"$error":"#REF!"},{"$error":"#REF!"},{"$error":"#REF!"},{"$error":"#REF!"},{"$error":"#REF!"},{"$error":"#REF!"},{"$error":"#REF!"},{"$error":"#REF!"},{"$error":"#REF!"},{"$error":"#REF!"},{"$error":"#REF!"},{"$error":"#REF!"},{"$error":"#REF!"},{"$error":"#REF!"},{"$error":"#REF!"},{"$error":"#REF!"},{"$error":"#REF!"},{"$error":"#REF!"},{"$error":"#REF!"},{"$error":"#REF!"},{"$error":"#REF!"},{"$error":"#REF!"},{"$error":"#REF!"},{"$error":"#REF!"},{"$error":"#REF!"},{"$error":"#REF!"},{"$error":"#REF!"},{"$error":"#REF!"},{"$error":"#REF!"},{"$error":"#REF!"},{"$error":"#REF!"},{"$error":"#REF!"},{"$error":"#REF!"},{"$error":"#REF!"},{"$error":"#REF!"},{"$error":"#REF!"},{"$error":"#REF!"},{"$error":"#REF!"},{"$error":"#REF!"},{"$error":"#REF!"},{"$error":"#REF!"},{"$error":"#REF!"},{"$error":"#REF!"},{"$error":"#REF!"},{"$error":"#REF!"},{"$error":"#REF!"},{"$error":"#REF!"},{"$error":"#REF!"},{"$error":"#REF!"},{"$error":"#REF!"},{"$error":"#REF!"},{"$error":"#REF!"},{"$error":"#REF!"},{"$error":"#REF!"},{"$error":"#REF!"},{"$error":"#REF!"},{"$error":"#REF!"},{"$error":"#REF!"},{"$error":"#REF!"},{"$error":"#REF!"},{"$error":"#REF!"},{"$error":"#REF!"},{"$error":"#REF!"},{"$error":"#REF!"},{"$error":"#REF!"},{"$error":"#REF!"},{"$error":"#REF!"},{"$error":"#REF!"},{"$error":"#REF!"},{"$error":"#REF!"},{"$error":"#REF!"},{"$error":"#REF!"},{"$error":"#REF!"},{"$error":"#REF!"},{"$error":"#REF!"},{"$error":"#REF!"},{"$error":"#REF!"},{"$error":"#REF!"},{"$error":"#REF!"},{"$error":"#REF!"},{"$error":"#REF!"},{"$error":"#REF!"},{"$error":"#REF!"},{"$error":"#REF!"},{"$error":"#REF!"},{"$error":"#REF!"},{"$error":"#REF!"},{"$error":"#REF!"},{"$error":"#REF!"},{"$error":"#REF!"},{"$error":"#REF!"},{"$error":"#REF!"}]
["OR",{"$f":"LEFT('WMBW-WH'!#REF!&REPT(\" \",B$6),B$6)","v":{"$error":"#REF!"}},{"$f":"LEFT('WMBW-WH'!#REF!&REPT(\" \",C$6),C$6)","v":{"$error":"#REF!"}},{"$f":"LEFT('WMBW-WH'!#REF!&REPT(\" \",D$6),D$6)","v":{"$error":"#REF!"}},{"$f":"LEFT('WMBW-WH'!#REF!&REPT(\" \",E$6),E$6)","v":{"$error":"#REF!"}},{"$f":"LEFT('WMBW-WH'!#REF!&REPT(\" \",F$6),F$6)","v":{"$error":"#REF!"}},{"$f":"LEFT('WMBW-WH'!#REF!&REPT(\" \",G$6),G$6)","v":{"$error":"#REF!"}},{"$f":"LEFT('WMBW-WH'!#REF!&REPT(\" \",H$6),H$6)","v":{"$error":"#REF!"}},{"$f":"LEFT('WMBW-WH'!#REF!&REPT(\" \",I$6),I$6)","v":{"$error":"#REF!"}},{"$f":"LEFT('WMBW-WH'!#REF!&REPT(\" \",J$6),J$6)","v":{"$error":"#REF!"}},{"$f":"LEFT('WMBW-WH'!#REF!&REPT(\" \",K$6),K$6)","v":{"$error":"#REF!"}},{"$f":"LEFT('WMBW-WH'!#REF!&REPT(\" \",L$6),L$6)","v":{"$error":"#REF!"}},{"$f":"LEFT('WMBW-WH'!#REF!&REPT(\" \",M$6),M$6)","v":{"$error":"#REF!"}},{"$f":"LEFT('WMBW-WH'!#REF!&REPT(\" \",N$6),N$6)","v":{"$error":"#REF!"}},{"$f":"LEFT('WMBW-WH'!#REF!&REPT(\" \",O$6),O$6)","v":{"$error":"#REF!"}},{"$f":"LEFT('WMBW-WH'!#REF!&REPT(\" \",P$6),P$6)","v":{"$error":"#REF!"}},{"$f":"LEFT('WMBW-WH'!#REF!&REPT(\" \",Q$6),Q$6)","v":{"$error":"#REF!"}},{"$f":"LEFT('WMBW-WH'!#REF!&REPT(\" \",R$6),R$6)","v":{"$error":"#REF!"}},{"$f":"LEFT('WMBW-WH'!#REF!&REPT(\" \",S$6),S$6)","v":{"$error":"#REF!"}},{"$f":"LEFT('WMBW-WH'!#REF!&REPT(\" \",T$6),T$6)","v":{"$error":"#REF!"}},{"$f":"LEFT('WMBW-WH'!#REF!&REPT(\" \",U$6),U$6)","v":{"$error":"#REF!"}},{"$f":"LEFT('WMBW-WH'!#REF!&REPT(\" \",V$6),V$6)","v":{"$error":"#REF!"}},{"$f":"LEFT('WMBW-WH'!#REF!&REPT(\" \",W$6),W$6)","v":{"$error":"#REF!"}},{"$f":"LEFT('WMBW-WH'!#REF!&REPT(\" \",X$6),X$6)","v":{"$error":"#REF!"}},{"$f":"LEFT('WMBW-WH'!#REF!&REPT(\" \",Y$6),Y$6)","v":{"$error":"#REF!"}},{"$f":"LEFT('WMBW-WH'!#REF!&REPT(\" \",Z$6),Z$6)","v":{"$error":"#REF!"}},{"$f":"LEFT('WMBW-WH'!#REF!&REPT(\" \",AA$6),AA$6)","v":{"$error":"#REF!"}},{"$f":"LEFT('WMBW-WH'!#REF!&REPT(\" \",AB$6),AB$6)","v":{"$error":"#REF!"}},{"$f":"LEFT('WMBW-WH'!#REF!&REPT(\" \",AC$6),AC$6)","v":{"$error":"#REF!"}},{"$f":"LEFT('WMBW-WH'!#REF!&REPT(\" \",AD$6),AD$6)","v":{"$error":"#REF!"}},{"$f":"LEFT('WMBW-WH'!#REF!&REPT(\" \",AE$6),AE$6)","v":{"$error":"#REF!"}},null,null,{"$error":"#REF!"},{"$error":"#REF!"},"ORO 202101WMBWPT1004021A    20210106                                   184624B                            57153                                      FAIRFIELD                                                                            3101 BUSCH DRIVE                                            FAIRFIELD           CA94534USMB.Case                                 BUSCH LIGHT                                                                          91                                 18        16      OZ5                     ",525,{"$f":"INDEX(AN28:UX28,MATCH(TRUE,INDEX((AN28:UX28<>\"\"),0),0))","v":{"$error":"#N/A"}},{"$error":"#REF!"},{"$error":"#REF!"},{"$error":"#REF!"},{"$error":"#REF!"},{"$error":"#REF!"},{"$error":"#REF!"},{"$error":"#REF!"},{"$error":"#REF!"},{"$error":"#REF!"},{"$error":"#REF!"},{"$error":"#REF!"},{"$error":"#REF!"},{"$error":"#REF!"},{"$error":"#REF!"},{"$error":"#REF!"},{"$error":"#REF!"},{"$error":"#REF!"},{"$error":"#REF!"},{"$error":"#REF!"},{"$error":"#REF!"},{"$error":"#REF!"},{"$error":"#REF!"},{"$error":"#REF!"},{"$error":"#REF!"},{"$error":"#REF!"},{"$error":"#REF!"},{"$error":"#REF!"},{"$error":"#REF!"},{"$error":"#REF!"},{"$error":"#REF!"},{"$error":"#REF!"},{"$error":"#REF!"},{"$error":"#REF!"},{"$error":"#REF!"},{"$error":"#REF!"},{"$error":"#REF!"},{"$error":"#REF!"},{"$error":"#REF!"},{"$error":"#REF!"},{"$error":"#REF!"},{"$error":"#REF!"},{"$error":"#REF!"},{"$error":"#REF!"},{"$error":"#REF!"},{"$error":"#REF!"},{"$error":"#REF!"},{"$error":"#REF!"},{"$error":"#REF!"},{"$error":"#REF!"},{"$error":"#REF!"},{"$error":"#REF!"},{"$error":"#REF!"},{"$error":"#REF!"},{"$error":"#REF!"},{"$error":"#REF!"},{"$error":"#REF!"},{"$error":"#REF!"},{"$error":"#REF!"},{"$error":"#REF!"},{"$error":"#REF!"},{"$error":"#REF!"},{"$error":"#REF!"},{"$error":"#REF!"},{"$error":"#REF!"},{"$error":"#REF!"},{"$f":"IF(MID($AH28,CZ$12,1)=MID($AJ28,CZ$12,1),\"\",CZ27)","v":{"$error":"#REF!"}},{"$error":"#REF!"},{"$error":"#REF!"},{"$error":"#REF!"},{"$error":"#REF!"},{"$error":"#REF!"},{"$error":"#REF!"},{"$error":"#REF!"},{"$error":"#REF!"},{"$error":"#REF!"},{"$error":"#REF!"},{"$error":"#REF!"},{"$error":"#REF!"},{"$error":"#REF!"},{"$error":"#REF!"},{"$error":"#REF!"},{"$error":"#REF!"},{"$error":"#REF!"},{"$error":"#REF!"},{"$error":"#REF!"},{"$error":"#REF!"},{"$error":"#REF!"},{"$error":"#REF!"},{"$error":"#REF!"},{"$error":"#REF!"},{"$error":"#REF!"},{"$error":"#REF!"},{"$error":"#REF!"},{"$error":"#REF!"},{"$error":"#REF!"},{"$error":"#REF!"},{"$error":"#REF!"},{"$error":"#REF!"},{"$error":"#REF!"},{"$error":"#REF!"},{"$error":"#REF!"},{"$error":"#REF!"},{"$error":"#REF!"},{"$error":"#REF!"},{"$error":"#REF!"},{"$error":"#REF!"},{"$error":"#REF!"},{"$error":"#REF!"},{"$error":"#REF!"},{"$error":"#REF!"},{"$error":"#REF!"},{"$error":"#REF!"},{"$error":"#REF!"},{"$error":"#REF!"},{"$error":"#REF!"},{"$error":"#REF!"},{"$error":"#REF!"},{"$error":"#REF!"},{"$error":"#REF!"},{"$error":"#REF!"},{"$error":"#REF!"},{"$error":"#REF!"},{"$error":"#REF!"},{"$error":"#REF!"},{"$error":"#REF!"},{"$error":"#REF!"},{"$error":"#REF!"},{"$error":"#REF!"},{"$error":"#REF!"},{"$f":"IF(MID($AH28,FL$12,1)=MID($AJ28,FL$12,1),\"\",FL27)","v":{"$error":"#REF!"}},{"$error":"#REF!"},{"$error":"#REF!"},{"$error":"#REF!"},{"$error":"#REF!"},{"$error":"#REF!"},{"$error":"#REF!"},{"$error":"#REF!"},{"$error":"#REF!"},{"$error":"#REF!"},{"$error":"#REF!"},{"$error":"#REF!"},{"$error":"#REF!"},{"$error":"#REF!"},{"$error":"#REF!"},{"$error":"#REF!"},{"$error":"#REF!"},{"$error":"#REF!"},{"$error":"#REF!"},{"$error":"#REF!"},{"$error":"#REF!"},{"$error":"#REF!"},{"$error":"#REF!"},{"$error":"#REF!"},{"$error":"#REF!"},{"$error":"#REF!"},{"$error":"#REF!"},{"$error":"#REF!"},{"$error":"#REF!"},{"$error":"#REF!"},{"$error":"#REF!"},{"$error":"#REF!"},{"$error":"#REF!"},{"$error":"#REF!"},{"$error":"#REF!"},{"$error":"#REF!"},{"$error":"#REF!"},{"$error":"#REF!"},{"$error":"#REF!"},{"$error":"#REF!"},{"$error":"#REF!"},{"$error":"#REF!"},{"$error":"#REF!"},{"$error":"#REF!"},{"$error":"#REF!"},{"$error":"#REF!"},{"$error":"#REF!"},{"$error":"#REF!"},{"$error":"#REF!"},{"$error":"#REF!"},{"$error":"#REF!"},{"$error":"#REF!"},{"$error":"#REF!"},{"$error":"#REF!"},{"$error":"#REF!"},{"$error":"#REF!"},{"$error":"#REF!"},{"$error":"#REF!"},{"$error":"#REF!"},{"$error":"#REF!"},{"$error":"#REF!"},{"$error":"#REF!"},{"$error":"#REF!"},{"$error":"#REF!"},{"$f":"IF(MID($AH28,HX$12,1)=MID($AJ28,HX$12,1),\"\",HX27)","v":{"$error":"#REF!"}},{"$error":"#REF!"},{"$error":"#REF!"},{"$error":"#REF!"},{"$error":"#REF!"},{"$error":"#REF!"},{"$error":"#REF!"},{"$error":"#REF!"},{"$error":"#REF!"},{"$error":"#REF!"},{"$error":"#REF!"},{"$error":"#REF!"},{"$error":"#REF!"},{"$error":"#REF!"},{"$error":"#REF!"},{"$error":"#REF!"},{"$error":"#REF!"},{"$error":"#REF!"},{"$error":"#REF!"},{"$error":"#REF!"},{"$error":"#REF!"},{"$error":"#REF!"},{"$error":"#REF!"},{"$error":"#REF!"},{"$error":"#REF!"},{"$error":"#REF!"},{"$error":"#REF!"},{"$error":"#REF!"},{"$error":"#REF!"},{"$error":"#REF!"},{"$error":"#REF!"},{"$error":"#REF!"},{"$error":"#REF!"},{"$error":"#REF!"},{"$error":"#REF!"},{"$error":"#REF!"},{"$error":"#REF!"},{"$error":"#REF!"},{"$error":"#REF!"},{"$error":"#REF!"},{"$error":"#REF!"},{"$error":"#REF!"},{"$error":"#REF!"},{"$error":"#REF!"},{"$error":"#REF!"},{"$error":"#REF!"},{"$error":"#REF!"},{"$error":"#REF!"},{"$error":"#REF!"},{"$error":"#REF!"},{"$error":"#REF!"},{"$error":"#REF!"},{"$error":"#REF!"},{"$error":"#REF!"},{"$error":"#REF!"},{"$error":"#REF!"},{"$error":"#REF!"},{"$error":"#REF!"},{"$error":"#REF!"},{"$error":"#REF!"},{"$error":"#REF!"},{"$error":"#REF!"},{"$error":"#REF!"},{"$error":"#REF!"},{"$f":"IF(MID($AH28,KJ$12,1)=MID($AJ28,KJ$12,1),\"\",KJ27)","v":{"$error":"#REF!"}},{"$error":"#REF!"},{"$error":"#REF!"},{"$error":"#REF!"},{"$error":"#REF!"},{"$error":"#REF!"},{"$error":"#REF!"},{"$error":"#REF!"},{"$error":"#REF!"},{"$error":"#REF!"},{"$error":"#REF!"},{"$error":"#REF!"},{"$error":"#REF!"},{"$error":"#REF!"},{"$error":"#REF!"},{"$error":"#REF!"},{"$error":"#REF!"},{"$error":"#REF!"},{"$error":"#REF!"},{"$error":"#REF!"},{"$error":"#REF!"},{"$error":"#REF!"},{"$error":"#REF!"},{"$error":"#REF!"},{"$error":"#REF!"},{"$error":"#REF!"},{"$error":"#REF!"},{"$error":"#REF!"},{"$error":"#REF!"},{"$error":"#REF!"},{"$error":"#REF!"},{"$error":"#REF!"},{"$error":"#REF!"},{"$error":"#REF!"},{"$error":"#REF!"},{"$error":"#REF!"},{"$error":"#REF!"},{"$error":"#REF!"},{"$error":"#REF!"},{"$error":"#REF!"},{"$error":"#REF!"},{"$error":"#REF!"},{"$error":"#REF!"},{"$error":"#REF!"},{"$error":"#REF!"},{"$error":"#REF!"},{"$error":"#REF!"},{"$error":"#REF!"},{"$error":"#REF!"},{"$error":"#REF!"},{"$error":"#REF!"},{"$error":"#REF!"},{"$error":"#REF!"},{"$error":"#REF!"},{"$error":"#REF!"},{"$error":"#REF!"},{"$error":"#REF!"},{"$error":"#REF!"},{"$error":"#REF!"},{"$error":"#REF!"},{"$error":"#REF!"},{"$error":"#REF!"},{"$error":"#REF!"},{"$error":"#REF!"},{"$f":"IF(MID($AH28,MV$12,1)=MID($AJ28,MV$12,1),\"\",MV27)","v":{"$error":"#REF!"}},{"$error":"#REF!"},{"$error":"#REF!"},{"$error":"#REF!"},{"$error":"#REF!"},{"$error":"#REF!"},{"$error":"#REF!"},{"$error":"#REF!"},{"$error":"#REF!"},{"$error":"#REF!"},{"$error":"#REF!"},{"$error":"#REF!"},{"$error":"#REF!"},{"$error":"#REF!"},{"$error":"#REF!"},{"$error":"#REF!"},{"$error":"#REF!"},{"$error":"#REF!"},{"$error":"#REF!"},{"$error":"#REF!"},{"$error":"#REF!"},{"$error":"#REF!"},{"$error":"#REF!"},{"$error":"#REF!"},{"$error":"#REF!"},{"$error":"#REF!"},{"$error":"#REF!"},{"$error":"#REF!"},{"$error":"#REF!"},{"$error":"#REF!"},{"$error":"#REF!"},{"$error":"#REF!"},{"$error":"#REF!"},{"$error":"#REF!"},{"$error":"#REF!"},{"$error":"#REF!"},{"$error":"#REF!"},{"$error":"#REF!"},{"$error":"#REF!"},{"$error":"#REF!"},{"$error":"#REF!"},{"$error":"#REF!"},{"$error":"#REF!"},{"$error":"#REF!"},{"$error":"#REF!"},{"$error":"#REF!"},{"$error":"#REF!"},{"$error":"#REF!"},{"$error":"#REF!"},{"$error":"#REF!"},{"$error":"#REF!"},{"$error":"#REF!"},{"$error":"#REF!"},{"$error":"#REF!"},{"$error":"#REF!"},{"$error":"#REF!"},{"$error":"#REF!"},{"$error":"#REF!"},{"$error":"#REF!"},{"$error":"#REF!"},{"$error":"#REF!"},{"$error":"#REF!"},{"$error":"#REF!"},{"$error":"#REF!"},{"$f":"IF(MID($AH28,PH$12,1)=MID($AJ28,PH$12,1),\"\",PH27)","v":{"$error":"#REF!"}},{"$error":"#REF!"},{"$error":"#REF!"},{"$error":"#REF!"},{"$error":"#REF!"},{"$error":"#REF!"},{"$error":"#REF!"},{"$error":"#REF!"},{"$error":"#REF!"},{"$error":"#REF!"},{"$error":"#REF!"},{"$error":"#REF!"},{"$error":"#REF!"},{"$error":"#REF!"},{"$error":"#REF!"},{"$error":"#REF!"},{"$error":"#REF!"},{"$error":"#REF!"},{"$error":"#REF!"},{"$error":"#REF!"},{"$error":"#REF!"},{"$error":"#REF!"},{"$error":"#REF!"},{"$error":"#REF!"},{"$error":"#REF!"},{"$error":"#REF!"},{"$error":"#REF!"},{"$error":"#REF!"},{"$error":"#REF!"},{"$error":"#REF!"},{"$error":"#REF!"},{"$error":"#REF!"},{"$error":"#REF!"},{"$error":"#REF!"},{"$error":"#REF!"},{"$error":"#REF!"},{"$error":"#REF!"},{"$error":"#REF!"},{"$error":"#REF!"},{"$error":"#REF!"},{"$error":"#REF!"},{"$error":"#REF!"},{"$error":"#REF!"},{"$error":"#REF!"},{"$error":"#REF!"},{"$error":"#REF!"},{"$error":"#REF!"},{"$error":"#REF!"},{"$error":"#REF!"},{"$error":"#REF!"},{"$error":"#REF!"},{"$error":"#REF!"},{"$error":"#REF!"},{"$error":"#REF!"},{"$error":"#REF!"},{"$error":"#REF!"},{"$error":"#REF!"},{"$error":"#REF!"},{"$error":"#REF!"},{"$error":"#REF!"},{"$error":"#REF!"},{"$error":"#REF!"},{"$error":"#REF!"},{"$error":"#REF!"},{"$f":"IF(MID($AH28,RT$12,1)=MID($AJ28,RT$12,1),\"\",RT27)","v":{"$error":"#REF!"}},{"$error":"#REF!"},{"$error":"#REF!"},{"$error":"#REF!"},{"$error":"#REF!"},{"$error":"#REF!"},{"$error":"#REF!"},{"$error":"#REF!"},{"$error":"#REF!"},{"$error":"#REF!"},{"$error":"#REF!"},{"$error":"#REF!"},{"$error":"#REF!"},{"$error":"#REF!"},{"$error":"#REF!"},{"$error":"#REF!"},{"$error":"#REF!"},{"$error":"#REF!"},{"$error":"#REF!"},{"$error":"#REF!"},{"$error":"#REF!"},{"$error":"#REF!"},{"$error":"#REF!"},{"$error":"#REF!"},{"$error":"#REF!"},{"$error":"#REF!"},{"$error":"#REF!"},{"$error":"#REF!"},{"$error":"#REF!"},{"$error":"#REF!"},{"$error":"#REF!"},{"$error":"#REF!"},{"$error":"#REF!"},{"$error":"#REF!"},{"$error":"#REF!"},{"$error":"#REF!"},{"$error":"#REF!"},{"$error":"#REF!"},{"$error":"#REF!"},{"$error":"#REF!"},{"$error":"#REF!"},{"$error":"#REF!"},{"$error":"#REF!"},{"$error":"#REF!"},{"$error":"#REF!"},{"$error":"#REF!"},{"$error":"#REF!"},{"$error":"#REF!"},{"$error":"#REF!"},{"$error":"#REF!"},{"$error":"#REF!"},{"$error":"#REF!"},{"$error":"#REF!"},{"$error":"#REF!"},{"$error":"#REF!"},{"$error":"#REF!"},{"$error":"#REF!"},{"$error":"#REF!"},{"$error":"#REF!"},{"$error":"#REF!"},{"$error":"#REF!"},{"$error":"#REF!"},{"$error":"#REF!"},{"$error":"#REF!"},{"$f":"IF(MID($AH28,UF$12,1)=MID($AJ28,UF$12,1),\"\",UF27)","v":{"$error":"#REF!"}},{"$error":"#REF!"},{"$error":"#REF!"},{"$error":"#REF!"},{"$error":"#REF!"},{"$error":"#REF!"},{"$error":"#REF!"},{"$error":"#REF!"},{"$error":"#REF!"},{"$error":"#REF!"},{"$error":"#REF!"},{"$error":"#REF!"},{"$error":"#REF!"},{"$error":"#REF!"},{"$error":"#REF!"},{"$error":"#REF!"}]
["OR",{"$f":"LEFT('WMBW-WH'!#REF!&REPT(\" \",B$6),B$6)","v":{"$error":"#REF!"}},{"$f":"LEFT('WMBW-WH'!#REF!&REPT(\" \",C$6),C$6)","v":{"$error":"#REF!"}},{"$f":"LEFT('WMBW-WH'!#REF!&REPT(\" \",D$6),D$6)","v":{"$error":"#REF!"}},{"$f":"LEFT('WMBW-WH'!#REF!&REPT(\" \",E$6),E$6)","v":{"$error":"#REF!"}},{"$f":"LEFT('WMBW-WH'!#REF!&REPT(\" \",F$6),F$6)","v":{"$error":"#REF!"}},{"$f":"LEFT('WMBW-WH'!#REF!&REPT(\" \",G$6),G$6)","v":{"$error":"#REF!"}},{"$f":"LEFT('WMBW-WH'!#REF!&REPT(\" \",H$6),H$6)","v":{"$error":"#REF!"}},{"$f":"LEFT('WMBW-WH'!#REF!&REPT(\" \",I$6),I$6)","v":{"$error":"#REF!"}},{"$f":"LEFT('WMBW-WH'!#REF!&REPT(\" \",J$6),J$6)","v":{"$error":"#REF!"}},{"$f":"LEFT('WMBW-WH'!#REF!&REPT(\" \",K$6),K$6)","v":{"$error":"#REF!"}},{"$f":"LEFT('WMBW-WH'!#REF!&REPT(\" \",L$6),L$6)","v":{"$error":"#REF!"}},{"$f":"LEFT('WMBW-WH'!#REF!&REPT(\" \",M$6),M$6)","v":{"$error":"#REF!"}},{"$f":"LEFT('WMBW-WH'!#REF!&REPT(\" \",N$6),N$6)","v":{"$error":"#REF!"}},{"$f":"LEFT('WMBW-WH'!#REF!&REPT(\" \",O$6),O$6)","v":{"$error":"#REF!"}},{"$f":"LEFT('WMBW-WH'!#REF!&REPT(\" \",P$6),P$6)","v":{"$error":"#REF!"}},{"$f":"LEFT('WMBW-WH'!#REF!&REPT(\" \",Q$6),Q$6)","v":{"$error":"#REF!"}},{"$f":"LEFT('WMBW-WH'!#REF!&REPT(\" \",R$6),R$6)","v":{"$error":"#REF!"}},{"$f":"LEFT('WMBW-WH'!#REF!&REPT(\" \",S$6),S$6)","v":{"$error":"#REF!"}},{"$f":"LEFT('WMBW-WH'!#REF!&REPT(\" \",T$6),T$6)","v":{"$error":"#REF!"}},{"$f":"LEFT('WMBW-WH'!#REF!&REPT(\" \",U$6),U$6)","v":{"$error":"#REF!"}},{"$f":"LEFT('WMBW-WH'!#REF!&REPT(\" \",V$6),V$6)","v":{"$error":"#REF!"}},{"$f":"LEFT('WMBW-WH'!#REF!&REPT(\" \",W$6),W$6)","v":{"$error":"#REF!"}},{"$f":"LEFT('WMBW-WH'!#REF!&REPT(\" \",X$6),X$6)","v":{"$error":"#REF!"}},{"$f":"LEFT('WMBW-WH'!#REF!&REPT(\" \",Y$6),Y$6)","v":{"$error":"#REF!"}},{"$f":"LEFT('WMBW-WH'!#REF!&REPT(\" \",Z$6),Z$6)","v":{"$error":"#REF!"}},{"$f":"LEFT('WMBW-WH'!#REF!&REPT(\" \",AA$6),AA$6)","v":{"$error":"#REF!"}},{"$f":"LEFT('WMBW-WH'!#REF!&REPT(\" \",AB$6),AB$6)","v":{"$error":"#REF!"}},{"$f":"LEFT('WMBW-WH'!#REF!&REPT(\" \",AC$6),AC$6)","v":{"$error":"#REF!"}},{"$f":"LEFT('WMBW-WH'!#REF!&REPT(\" \",AD$6),AD$6)","v":{"$error":"#REF!"}},{"$f":"LEFT('WMBW-WH'!#REF!&REPT(\" \",AE$6),AE$6)","v":{"$error":"#REF!"}},null,null,{"$error":"#REF!"},{"$error":"#REF!"},"ORO 202101WMBWPT1004021A    20210106                                   184624B                            57153                                      FAIRFIELD                                                                            3101 BUSCH DRIVE                                            FAIRFIELD           CA94534USMB.Case                                 MICHELOB ULTRA                                                                       26                                 18        12      OZ5                     ",525,{"$f":"INDEX(AN29:UX29,MATCH(TRUE,INDEX((AN29:UX29<>\"\"),0),0))","v":{"$error":"#N/A"}},{"$error":"#REF!"},{"$error":"#REF!"},{"$f":"IF(MID($AH29,AO$12,1)=MID($AJ29,AO$12,1),\"\",AO28)","v":{"$error":"#REF!"}},{"$error":"#REF!"},{"$error":"#REF!"},{"$error":"#REF!"},{"$error":"#REF!"},{"$error":"#REF!"},{"$error":"#REF!"},{"$error":"#REF!"},{"$error":"#REF!"},{"$error":"#REF!"},{"$error":"#REF!"},{"$error":"#REF!"},{"$error":"#REF!"},{"$error":"#REF!"},{"$error":"#REF!"},{"$error":"#REF!"},{"$error":"#REF!"},{"$error":"#REF!"},{"$error":"#REF!"},{"$error":"#REF!"},{"$error":"#REF!"},{"$error":"#REF!"},{"$error":"#REF!"},{"$error":"#REF!"},{"$error":"#REF!"},{"$error":"#REF!"},{"$error":"#REF!"},{"$error":"#REF!"},{"$error":"#REF!"},{"$error":"#REF!"},{"$error":"#REF!"},{"$error":"#REF!"},{"$error":"#REF!"},{"$error":"#REF!"},{"$error":"#REF!"},{"$error":"#REF!"},{"$error":"#REF!"},{"$error":"#REF!"},{"$error":"#REF!"},{"$error":"#REF!"},{"$error":"#REF!"},{"$error":"#REF!"},{"$error":"#REF!"},{"$error":"#REF!"},{"$error":"#REF!"},{"$error":"#REF!"},{"$error":"#REF!"},{"$error":"#REF!"},{"$error":"#REF!"},{"$error":"#REF!"},{"$error":"#REF!"},{"$error":"#REF!"},{"$error":"#REF!"},{"$error":"#REF!"},{"$error":"#REF!"},{"$error":"#REF!"},{"$error":"#REF!"},{"$error":"#REF!"},{"$error":"#REF!"},{"$error":"#REF!"},{"$error":"#REF!"},{"$error":"#REF!"},{"$error":"#REF!"},{"$error":"#REF!"},{"$f":"IF(MID($AH29,DA$12,1)=MID($AJ29,DA$12,1),\"\",DA28)","v":{"$error":"#REF!"}},{"$error":"#REF!"},{"$error":"#REF!"},{"$error":"#REF!"},{"$error":"#REF!"},{"$error":"#REF!"},{"$error":"#REF!"},{"$error":"#REF!"},{"$error":"#REF!"},{"$error":"#REF!"},{"$error":"#REF!"},{"$error":"#REF!"},{"$error":"#REF!"},{"$error":"#REF!"},{"$error":"#REF!"},{"$error":"#REF!"},{"$error":"#REF!"},{"$error":"#REF!"},{"$error":"#REF!"},{"$error":"#REF!"},{"$error":"#REF!"},{"$error":"#REF!"},{"$error":"#REF!"},{"$error":"#REF!"},{"$error":"#REF!"},{"$error":"#REF!"},{"$error":"#REF!"},{"$error":"#REF!"},{"$error":"#REF!"},{"$error":"#REF!"},{"$error":"#REF!"},{"$error":"#REF!"},{"$error":"#REF!"},{"$error":"#REF!"},{"$error":"#REF!"},{"$error":"#REF!"},{"$error":"#REF!"},{"$error":"#REF!"},{"$error":"#REF!"},{"$error":"#REF!"},{"$error":"#REF!"},{"$error":"#REF!"},{"$error":"#REF!"},{"$error":"#REF!"},{"$error":"#REF!"},{"$error":"#REF!"},{"$error":"#REF!"},{"$error":"#REF!"},{"$error":"#REF!"},{"$error":"#REF!"},{"$error":"#REF!"},{"$error":"#REF!"},{"$error":"#REF!"},{"$error":"#REF!"},{"$error":"#REF!"},{"$error":"#REF!"},{"$error":"#REF!"},{"$error":"#REF!"},{"$error":"#REF!"},{"$error":"#REF!"},{"$error":"#REF!"},{"$error":"#REF!"},{"$error":"#REF!"},{"$error":"#REF!"},{"$f":"IF(MID($AH29,FM$12,1)=MID($AJ29,FM$12,1),\"\",FM28)","v":{"$error":"#REF!"}},{"$error":"#REF!"},{"$error":"#REF!"},{"$error":"#REF!"},{"$error":"#REF!"},{"$error":"#REF!"},{"$error":"#REF!"},{"$error":"#REF!"},{"$error":"#REF!"},{"$error":"#REF!"},{"$error":"#REF!"},{"$error":"#REF!"},{"$error":"#REF!"},{"$error":"#REF!"},{"$error":"#REF!"},{"$error":"#REF!"},{"$error":"#REF!"},{"$error":"#REF!"},{"$error":"#REF!"},{"$error":"#REF!"},{"$error":"#REF!"},{"$error":"#REF!"},{"$error":"#REF!"},{"$error":"#REF!"},{"$error":"#REF!"},{"$error":"#REF!"},{"$error":"#REF!"},{"$error":"#REF!"},{"$error":"#REF!"},{"$error":"#REF!"},{"$error":"#REF!"},{"$error":"#REF!"},{"$error":"#REF!"},{"$error":"#REF!"},{"$error":"#REF!"},{"$error":"#REF!"},{"$error":"#REF!"},{"$error":"#REF!"},{"$error":"#REF!"},{"$error":"#REF!"},{"$error":"#REF!"},{"$error":"#REF!"},{"$error":"#REF!"},{"$error":"#REF!"},{"$error":"#REF!"},{"$error":"#REF!"},{"$error":"#REF!"},{"$error":"#REF!"},{"$error":"#REF!"},{"$error":"#REF!"},{"$error":"#REF!"},{"$error":"#REF!"},{"$error":"#REF!"},{"$error":"#REF!"},{"$error":"#REF!"},{"$error":"#REF!"},{"$error":"#REF!"},{"$error":"#REF!"},{"$error":"#REF!"},{"$error":"#REF!"},{"$error":"#REF!"},{"$error":"#REF!"},{"$error":"#REF!"},{"$error":"#REF!"},{"$f":"IF(MID($AH29,HY$12,1)=MID($AJ29,HY$12,1),\"\",HY28)","v":{"$error":"#REF!"}},{"$error":"#REF!"},{"$error":"#REF!"},{"$error":"#REF!"},{"$error":"#REF!"},{"$error":"#REF!"},{"$error":"#REF!"},{"$error":"#REF!"},{"$error":"#REF!"},{"$error":"#REF!"},{"$error":"#REF!"},{"$error":"#REF!"},{"$error":"#REF!"},{"$error":"#REF!"},{"$error":"#REF!"},{"$error":"#REF!"},{"$error":"#REF!"},{"$error":"#REF!"},{"$error":"#REF!"},{"$error":"#REF!"},{"$error":"#REF!"},{"$error":"#REF!"},{"$error":"#REF!"},{"$error":"#REF!"},{"$error":"#REF!"},{"$error":"#REF!"},{"$error":"#REF!"},{"$error":"#REF!"},{"$error":"#REF!"},{"$error":"#REF!"},{"$error":"#REF!"},{"$error":"#REF!"},{"$error":"#REF!"},{"$error":"#REF!"},{"$error":"#REF!"},{"$error":"#REF!"},{"$error":"#REF!"},{"$error":"#REF!"},{"$error":"#REF!"},{"$error":"#REF!"},{"$error":"#REF!"},{"$error":"#REF!"},{"$error":"#REF!"},{"$error":"#REF!"},{"$error":"#REF!"},{"$error":"#REF!"},{"$error":"#REF!"},{"$error":"#REF!"},{"$error":"#REF!"},{"$error":"#REF!"},{"$error":"#REF!"},{"$error":"#REF!"},{"$error":"#REF!"},{"$error":"#REF!"},{"$error":"#REF!"},{"$error":"#REF!"},{"$error":"#REF!"},{"$error":"#REF!"},{"$error":"#REF!"},{"$error":"#REF!"},{"$error":"#REF!"},{"$error":"#REF!"},{"$error":"#REF!"},{"$error":"#REF!"},{"$f":"IF(MID($AH29,KK$12,1)=MID($AJ29,KK$12,1),\"\",KK28)","v":{"$error":"#REF!"}},{"$error":"#REF!"},{"$error":"#REF!"},{"$error":"#REF!"},{"$error":"#REF!"},{"$error":"#REF!"},{"$error":"#REF!"},{"$error":"#REF!"},{"$error":"#REF!"},{"$error":"#REF!"},{"$error":"#REF!"},{"$error":"#REF!"},{"$error":"#REF!"},{"$error":"#REF!"},{"$error":"#REF!"},{"$error":"#REF!"},{"$error":"#REF!"},{"$error":"#REF!"},{"$error":"#REF!"},{"$error":"#REF!"},{"$error":"#REF!"},{"$error":"#REF!"},{"$error":"#REF!"},{"$error":"#REF!"},{"$error":"#REF!"},{"$error":"#REF!"},{"$error":"#REF!"},{"$error":"#REF!"},{"$error":"#REF!"},{"$error":"#REF!"},{"$error":"#REF!"},{"$error":"#REF!"},{"$error":"#REF!"},{"$error":"#REF!"},{"$error":"#REF!"},{"$error":"#REF!"},{"$error":"#REF!"},{"$error":"#REF!"},{"$error":"#REF!"},{"$error":"#REF!"},{"$error":"#REF!"},{"$error":"#REF!"},{"$error":"#REF!"},{"$error":"#REF!"},{"$error":"#REF!"},{"$error":"#REF!"},{"$error":"#REF!"},{"$error":"#REF!"},{"$error":"#REF!"},{"$error":"#REF!"},{"$error":"#REF!"},{"$error":"#REF!"},{"$error":"#REF!"},{"$error":"#REF!"},{"$error":"#REF!"},{"$error":"#REF!"},{"$error":"#REF!"},{"$error":"#REF!"},{"$error":"#REF!"},{"$error":"#REF!"},{"$error":"#REF!"},{"$error":"#REF!"},{"$error":"#REF!"},{"$error":"#REF!"},{"$f":"IF(MID($AH29,MW$12,1)=MID($AJ29,MW$12,1),\"\",MW28)","v":{"$error":"#REF!"}},{"$error":"#REF!"},{"$error":"#REF!"},{"$error":"#REF!"},{"$error":"#REF!"},{"$error":"#REF!"},{"$error":"#REF!"},{"$error":"#REF!"},{"$error":"#REF!"},{"$error":"#REF!"},{"$error":"#REF!"},{"$error":"#REF!"},{"$error":"#REF!"},{"$error":"#REF!"},{"$error":"#REF!"},{"$error":"#REF!"},{"$error":"#REF!"},{"$error":"#REF!"},{"$error":"#REF!"},{"$error":"#REF!"},{"$error":"#REF!"},{"$error":"#REF!"},{"$error":"#REF!"},{"$error":"#REF!"},{"$error":"#REF!"},{"$error":"#REF!"},{"$error":"#REF!"},{"$error":"#REF!"},{"$error":"#REF!"},{"$error":"#REF!"},{"$error":"#REF!"},{"$error":"#REF!"},{"$error":"#REF!"},{"$error":"#REF!"},{"$error":"#REF!"},{"$error":"#REF!"},{"$error":"#REF!"},{"$error":"#REF!"},{"$error":"#REF!"},{"$error":"#REF!"},{"$error":"#REF!"},{"$error":"#REF!"},{"$error":"#REF!"},{"$error":"#REF!"},{"$error":"#REF!"},{"$error":"#REF!"},{"$error":"#REF!"},{"$error":"#REF!"},{"$error":"#REF!"},{"$error":"#REF!"},{"$error":"#REF!"},{"$error":"#REF!"},{"$error":"#REF!"},{"$error":"#REF!"},{"$error":"#REF!"},{"$error":"#REF!"},{"$error":"#REF!"},{"$error":"#REF!"},{"$error":"#REF!"},{"$error":"#REF!"},{"$error":"#REF!"},{"$error":"#REF!"},{"$error":"#REF!"},{"$error":"#REF!"},{"$f":"IF(MID($AH29,PI$12,1)=MID($AJ29,PI$12,1),\"\",PI28)","v":{"$error":"#REF!"}},{"$error":"#REF!"},{"$error":"#REF!"},{"$error":"#REF!"},{"$error":"#REF!"},{"$error":"#REF!"},{"$error":"#REF!"},{"$error":"#REF!"},{"$error":"#REF!"},{"$error":"#REF!"},{"$error":"#REF!"},{"$error":"#REF!"},{"$error":"#REF!"},{"$error":"#REF!"},{"$error":"#REF!"},{"$error":"#REF!"},{"$error":"#REF!"},{"$error":"#REF!"},{"$error":"#REF!"},{"$error":"#REF!"},{"$error":"#REF!"},{"$error":"#REF!"},{"$error":"#REF!"},{"$error":"#REF!"},{"$error":"#REF!"},{"$error":"#REF!"},{"$error":"#REF!"},{"$error":"#REF!"},{"$error":"#REF!"},{"$error":"#REF!"},{"$error":"#REF!"},{"$error":"#REF!"},{"$error":"#REF!"},{"$error":"#REF!"},{"$error":"#REF!"},{"$error":"#REF!"},{"$error":"#REF!"},{"$error":"#REF!"},{"$error":"#REF!"},{"$error":"#REF!"},{"$error":"#REF!"},{"$error":"#REF!"},{"$error":"#REF!"},{"$error":"#REF!"},{"$error":"#REF!"},{"$error":"#REF!"},{"$error":"#REF!"},{"$error":"#REF!"},{"$error":"#REF!"},{"$error":"#REF!"},{"$error":"#REF!"},{"$error":"#REF!"},{"$error":"#REF!"},{"$error":"#REF!"},{"$error":"#REF!"},{"$error":"#REF!"},{"$error":"#REF!"},{"$error":"#REF!"},{"$error":"#REF!"},{"$error":"#REF!"},{"$error":"#REF!"},{"$error":"#REF!"},{"$error":"#REF!"},{"$error":"#REF!"},{"$f":"IF(MID($AH29,RU$12,1)=MID($AJ29,RU$12,1),\"\",RU28)","v":{"$error":"#REF!"}},{"$error":"#REF!"},{"$error":"#REF!"},{"$error":"#REF!"},{"$error":"#REF!"},{"$error":"#REF!"},{"$error":"#REF!"},{"$error":"#REF!"},{"$error":"#REF!"},{"$error":"#REF!"},{"$error":"#REF!"},{"$error":"#REF!"},{"$error":"#REF!"},{"$error":"#REF!"},{"$error":"#REF!"},{"$error":"#REF!"},{"$error":"#REF!"},{"$error":"#REF!"},{"$error":"#REF!"},{"$error":"#REF!"},{"$error":"#REF!"},{"$error":"#REF!"},{"$error":"#REF!"},{"$error":"#REF!"},{"$error":"#REF!"},{"$error":"#REF!"},{"$error":"#REF!"},{"$error":"#REF!"},{"$error":"#REF!"},{"$error":"#REF!"},{"$error":"#REF!"},{"$error":"#REF!"},{"$error":"#REF!"},{"$error":"#REF!"},{"$error":"#REF!"},{"$error":"#REF!"},{"$error":"#REF!"},{"$error":"#REF!"},{"$error":"#REF!"},{"$error":"#REF!"},{"$error":"#REF!"},{"$error":"#REF!"},{"$error":"#REF!"},{"$error":"#REF!"},{"$error":"#REF!"},{"$error":"#REF!"},{"$error":"#REF!"},{"$error":"#REF!"},{"$error":"#REF!"},{"$error":"#REF!"},{"$error":"#REF!"},{"$error":"#REF!"},{"$error":"#REF!"},{"$error":"#REF!"},{"$error":"#REF!"},{"$error":"#REF!"},{"$error":"#REF!"},{"$error":"#REF!"},{"$error":"#REF!"},{"$error":"#REF!"},{"$error":"#REF!"},{"$error":"#REF!"},{"$error":"#REF!"},{"$error":"#REF!"},{"$f":"IF(MID($AH29,UG$12,1)=MID($AJ29,UG$12,1),\"\",UG28)","v":{"$error":"#REF!"}},{"$error":"#REF!"},{"$error":"#REF!"},{"$error":"#REF!"},{"$error":"#REF!"},{"$error":"#REF!"},{"$error":"#REF!"},{"$error":"#REF!"},{"$error":"#REF!"},{"$error":"#REF!"},{"$error":"#REF!"},{"$error":"#REF!"},{"$error":"#REF!"},{"$error":"#REF!"},{"$error":"#REF!"}]
["OR",{"$f":"LEFT('WMBW-WH'!#REF!&REPT(\" \",B$6),B$6)","v":{"$error":"#REF!"}},{"$f":"LEFT('WMBW-WH'!#REF!&REPT(\" \",C$6),C$6)","v":{"$error":"#REF!"}},{"$f":"LEFT('WMBW-WH'!#REF!&REPT(\" \",D$6),D$6)","v":{"$error":"#REF!"}},{"$f":"LEFT('WMBW-WH'!#REF!&REPT(\" \",E$6),E$6)","v":{"$error":"#REF!"}},{"$f":"LEFT('WMBW-WH'!#REF!&REPT(\" \",F$6),F$6)","v":{"$error":"#REF!"}},{"$f":"LEFT('WMBW-WH'!#REF!&REPT(\" \",G$6),G$6)","v":{"$error":"#REF!"}},{"$f":"LEFT('WMBW-WH'!#REF!&REPT(\" \",H$6),H$6)","v":{"$error":"#REF!"}},{"$f":"LEFT('WMBW-WH'!#REF!&REPT(\" \",I$6),I$6)","v":{"$error":"#REF!"}},{"$f":"LEFT('WMBW-WH'!#REF!&REPT(\" \",J$6),J$6)","v":{"$error":"#REF!"}},{"$f":"LEFT('WMBW-WH'!#REF!&REPT(\" \",K$6),K$6)","v":{"$error":"#REF!"}},{"$f":"LEFT('WMBW-WH'!#REF!&REPT(\" \",L$6),L$6)","v":{"$error":"#REF!"}},{"$f":"LEFT('WMBW-WH'!#REF!&REPT(\" \",M$6),M$6)","v":{"$error":"#REF!"}},{"$f":"LEFT('WMBW-WH'!#REF!&REPT(\" \",N$6),N$6)","v":{"$error":"#REF!"}},{"$f":"LEFT('WMBW-WH'!#REF!&REPT(\" \",O$6),O$6)","v":{"$error":"#REF!"}},{"$f":"LEFT('WMBW-WH'!#REF!&REPT(\" \",P$6),P$6)","v":{"$error":"#REF!"}},{"$f":"LEFT('WMBW-WH'!#REF!&REPT(\" \",Q$6),Q$6)","v":{"$error":"#REF!"}},{"$f":"LEFT('WMBW-WH'!#REF!&REPT(\" \",R$6),R$6)","v":{"$error":"#REF!"}},{"$f":"LEFT('WMBW-WH'!#REF!&REPT(\" \",S$6),S$6)","v":{"$error":"#REF!"}},{"$f":"LEFT('WMBW-WH'!#REF!&REPT(\" \",T$6),T$6)","v":{"$error":"#REF!"}},{"$f":"LEFT('WMBW-WH'!#REF!&REPT(\" \",U$6),U$6)","v":{"$error":"#REF!"}},{"$f":"LEFT('WMBW-WH'!#REF!&REPT(\" \",V$6),V$6)","v":{"$error":"#REF!"}},{"$f":"LEFT('WMBW-WH'!#REF!&REPT(\" \",W$6),W$6)","v":{"$error":"#REF!"}},{"$f":"LEFT('WMBW-WH'!#REF!&REPT(\" \",X$6),X$6)","v":{"$error":"#REF!"}},{"$f":"LEFT('WMBW-WH'!#REF!&REPT(\" \",Y$6),Y$6)","v":{"$error":"#REF!"}},{"$f":"LEFT('WMBW-WH'!#REF!&REPT(\" \",Z$6),Z$6)","v":{"$error":"#REF!"}},{"$f":"LEFT('WMBW-WH'!#REF!&REPT(\" \",AA$6),AA$6)","v":{"$error":"#REF!"}},{"$f":"LEFT('WMBW-WH'!#REF!&REPT(\" \",AB$6),AB$6)","v":{"$error":"#REF!"}},{"$f":"LEFT('WMBW-WH'!#REF!&REPT(\" \",AC$6),AC$6)","v":{"$error":"#REF!"}},{"$f":"LEFT('WMBW-WH'!#REF!&REPT(\" \",AD$6),AD$6)","v":{"$error":"#REF!"}},{"$f":"LEFT('WMBW-WH'!#REF!&REPT(\" \",AE$6),AE$6)","v":{"$error":"#REF!"}},null,null,{"$error":"#REF!"},{"$error":"#REF!"},"ORO 202101WMBWPT1004021A    20210106                                   184625B                            66232                                      FAIRFIELD                                                                            3101 BUSCH DRIVE                                            FAIRFIELD           CA94534USMB.Case                                 BUSCH LIGHT                                                                          163                                18        16      OZ5                     ",525,{"$f":"INDEX(AN30:UX30,MATCH(TRUE,INDEX((AN30:UX30<>\"\"),0),0))","v":{"$error":"#N/A"}},{"$error":"#REF!"},{"$error":"#REF!"},{"$error":"#REF!"},{"$error":"#REF!"},{"$error":"#REF!"},{"$error":"#REF!"},{"$error":"#REF!"},{"$error":"#REF!"},{"$error":"#REF!"},{"$error":"#REF!"},{"$error":"#REF!"},{"$error":"#REF!"},{"$error":"#REF!"},{"$error":"#REF!"},{"$error":"#REF!"},{"$error":"#REF!"},{"$error":"#REF!"},{"$error":"#REF!"},{"$error":"#REF!"},{"$error":"#REF!"},{"$error":"#REF!"},{"$error":"#REF!"},{"$error":"#REF!"},{"$error":"#REF!"},{"$error":"#REF!"},{"$error":"#REF!"},{"$error":"#REF!"},{"$error":"#REF!"},{"$error":"#REF!"},{"$error":"#REF!"},{"$error":"#REF!"},{"$error":"#REF!"},{"$error":"#REF!"},{"$error":"#REF!"},{"$error":"#REF!"},{"$error":"#REF!"},{"$error":"#REF!"},{"$error":"#REF!"},{"$error":"#REF!"},{"$error":"#REF!"},{"$error":"#REF!"},{"$error":"#REF!"},{"$error":"#REF!"},{"$error":"#REF!"},{"$error":"#REF!"},{"$error":"#REF!"},{"$error":"#REF!"},{"$error":"#REF!"},{"$error":"#REF!"},{"$error":"#REF!"},{"$error":"#REF!"},{"$error":"#REF!"},{"$error":"#REF!"},{"$error":"#REF!"},{"$error":"#REF!"},{"$error":"#REF!"},{"$error":"#REF!"},{"$error":"#REF!"},{"$error":"#REF!"},{"$error":"#REF!"},{"$error":"#REF!"},{"$error":"#REF!"},{"$error":"#REF!"},{"$error":"#REF!"},{"$error":"#REF!"},{"$error":"#REF!"},{"$error":"#REF!"},{"$error":"#REF!"},{"$error":"#REF!"},{"$error":"#REF!"},{"$error":"#REF!"},{"$error":"#REF!"},{"$error":"#REF!"},{"$error":"#REF!"},{"$error":"#REF!"},{"$error":"#REF!"},{"$error":"#REF!"},{"$error":"#REF!"},{"$error":"#REF!"},{"$error":"#REF!"},{"$error":"#REF!"},{"$error":"#REF!"},{"$error":"#REF!"},{"$error":"#REF!"},{"$error":"#REF!"},{"$error":"#REF!"},{"$error":"#REF!"},{"$error":"#REF!"},{"$error":"#REF!"},{"$error":"#REF!"},{"$error":"#REF!"},{"$error":"#REF!"},{"$error":"#REF!"},{"$error":"#REF!"},{"$error":"#REF!"},{"$error":"#REF!"},{"$error":"#REF!"},{"$error":"#REF!"},{"$error":"#REF!"},{"$error":"#REF!"},{"$error":"#REF!"},{"$error":"#REF!"},{"$error":"#REF!"},{"$error":"#REF!"},{"$error":"#REF!"},{"$error":"#REF!"},{"$error":"#REF!"},{"$error":"#REF!"},{"$error":"#REF!"},{"$error":"#REF!"},{"$error":"#REF!"},{"$error":"#REF!"},{"$error":"#REF!"},{"$error":"#REF!"},{"$error":"#REF!"},{"$error":"#REF!"},{"$error":"#REF!"},{"$error":"#REF!"},{"$error":"#REF!"},{"$error":"#REF!"},{"$error":"#REF!"},{"$error":"#REF!"},{"$error":"#REF!"},{"$error":"#REF!"},{"$error":"#REF!"},{"$error":"#REF!"},{"$error":"#REF!"},{"$error":"#REF!"},{"$error":"#REF!"},{"$error":"#REF!"},{"$error":"#REF!"},{"$error":"#REF!"},{"$error":"#REF!"},{"$error":"#REF!"},{"$error":"#REF!"},{"$error":"#REF!"},{"$error":"#REF!"},{"$error":"#REF!"},{"$error":"#REF!"},{"$error":"#REF!"},{"$error":"#REF!"},{"$error":"#REF!"},{"$error":"#REF!"},{"$error":"#REF!"},{"$error":"#REF!"},{"$error":"#REF!"},{"$error":"#REF!"},{"$error":"#REF!"},{"$error":"#REF!"},{"$error":"#REF!"},{"$error":"#REF!"},{"$error":"#REF!"},{"$error":"#REF!"},{"$error":"#REF!"},{"$error":"#REF!"},{"$error":"#REF!"},{"$error":"#REF!"},{"$error":"#REF!"},{"$error":"#REF!"},{"$error":"#REF!"},{"$error":"#REF!"},{"$error":"#REF!"},{"$error":"#REF!"},{"$error":"#REF!"},{"$error":"#REF!"},{"$error":"#REF!"},{"$error":"#REF!"},{"$error":"#REF!"},{"$error":"#REF!"},{"$error":"#REF!"},{"$error":"#REF!"},{"$error":"#REF!"},{"$error":"#REF!"},{"$error":"#REF!"},{"$error":"#REF!"},{"$error":"#REF!"},{"$error":"#REF!"},{"$error":"#REF!"},{"$error":"#REF!"},{"$error":"#REF!"},{"$error":"#REF!"},{"$error":"#REF!"},{"$error":"#REF!"},{"$error":"#REF!"},{"$error":"#REF!"},{"$error":"#REF!"},{"$error":"#REF!"},{"$error":"#REF!"},{"$error":"#REF!"},{"$error":"#REF!"},{"$error":"#REF!"},{"$error":"#REF!"},{"$error":"#REF!"},{"$error":"#REF!"},{"$error":"#REF!"},{"$error":"#REF!"},{"$error":"#REF!"},{"$error":"#REF!"},{"$error":"#REF!"},{"$error":"#REF!"},{"$error":"#REF!"},{"$error":"#REF!"},{"$error":"#REF!"},{"$error":"#REF!"},{"$error":"#REF!"},{"$error":"#REF!"},{"$error":"#REF!"},{"$error":"#REF!"},{"$error":"#REF!"},{"$error":"#REF!"},{"$error":"#REF!"},{"$error":"#REF!"},{"$error":"#REF!"},{"$error":"#REF!"},{"$error":"#REF!"},{"$error":"#REF!"},{"$error":"#REF!"},{"$error":"#REF!"},{"$error":"#REF!"},{"$error":"#REF!"},{"$error":"#REF!"},{"$error":"#REF!"},{"$error":"#REF!"},{"$error":"#REF!"},{"$error":"#REF!"},{"$error":"#REF!"},{"$error":"#REF!"},{"$error":"#REF!"},{"$error":"#REF!"},{"$error":"#REF!"},{"$error":"#REF!"},{"$error":"#REF!"},{"$error":"#REF!"},{"$error":"#REF!"},{"$error":"#REF!"},{"$error":"#REF!"},{"$error":"#REF!"},{"$error":"#REF!"},{"$error":"#REF!"},{"$error":"#REF!"},{"$error":"#REF!"},{"$error":"#REF!"},{"$error":"#REF!"},{"$error":"#REF!"},{"$error":"#REF!"},{"$error":"#REF!"},{"$error":"#REF!"},{"$error":"#REF!"},{"$error":"#REF!"},{"$error":"#REF!"},{"$error":"#REF!"},{"$error":"#REF!"},{"$error":"#REF!"},{"$error":"#REF!"},{"$error":"#REF!"},{"$error":"#REF!"},{"$error":"#REF!"},{"$error":"#REF!"},{"$error":"#REF!"},{"$error":"#REF!"},{"$error":"#REF!"},{"$error":"#REF!"},{"$error":"#REF!"},{"$error":"#REF!"},{"$error":"#REF!"},{"$error":"#REF!"},{"$error":"#REF!"},{"$error":"#REF!"},{"$error":"#REF!"},{"$error":"#REF!"},{"$error":"#REF!"},{"$error":"#REF!"},{"$error":"#REF!"},{"$error":"#REF!"},{"$error":"#REF!"},{"$error":"#REF!"},{"$error":"#REF!"},{"$error":"#REF!"},{"$error":"#REF!"},{"$error":"#REF!"},{"$error":"#REF!"},{"$error":"#REF!"},{"$error":"#REF!"},{"$error":"#REF!"},{"$error":"#REF!"},{"$error":"#REF!"},{"$error":"#REF!"},{"$error":"#REF!"},{"$error":"#REF!"},{"$error":"#REF!"},{"$error":"#REF!"},{"$error":"#REF!"},{"$error":"#REF!"},{"$error":"#REF!"},{"$error":"#REF!"},{"$error":"#REF!"},{"$error":"#REF!"},{"$error":"#REF!"},{"$error":"#REF!"},{"$error":"#REF!"},{"$error":"#REF!"},{"$error":"#REF!"},{"$error":"#REF!"},{"$error":"#REF!"},{"$error":"#REF!"},{"$error":"#REF!"},{"$error":"#REF!"},{"$error":"#REF!"},{"$error":"#REF!"},{"$error":"#REF!"},{"$error":"#REF!"},{"$error":"#REF!"},{"$error":"#REF!"},{"$error":"#REF!"},{"$error":"#REF!"},{"$error":"#REF!"},{"$error":"#REF!"},{"$error":"#REF!"},{"$error":"#REF!"},{"$error":"#REF!"},{"$error":"#REF!"},{"$error":"#REF!"},{"$error":"#REF!"},{"$error":"#REF!"},{"$error":"#REF!"},{"$error":"#REF!"},{"$error":"#REF!"},{"$error":"#REF!"},{"$error":"#REF!"},{"$error":"#REF!"},{"$error":"#REF!"},{"$error":"#REF!"},{"$error":"#REF!"},{"$error":"#REF!"},{"$error":"#REF!"},{"$error":"#REF!"},{"$error":"#REF!"},{"$error":"#REF!"},{"$error":"#REF!"},{"$error":"#REF!"},{"$error":"#REF!"},{"$error":"#REF!"},{"$error":"#REF!"},{"$error":"#REF!"},{"$error":"#REF!"},{"$error":"#REF!"},{"$error":"#REF!"},{"$error":"#REF!"},{"$error":"#REF!"},{"$error":"#REF!"},{"$error":"#REF!"},{"$error":"#REF!"},{"$error":"#REF!"},{"$error":"#REF!"},{"$error":"#REF!"},{"$error":"#REF!"},{"$error":"#REF!"},{"$error":"#REF!"},{"$error":"#REF!"},{"$error":"#REF!"},{"$error":"#REF!"},{"$error":"#REF!"},{"$error":"#REF!"},{"$error":"#REF!"},{"$error":"#REF!"},{"$error":"#REF!"},{"$error":"#REF!"},{"$error":"#REF!"},{"$error":"#REF!"},{"$error":"#REF!"},{"$error":"#REF!"},{"$error":"#REF!"},{"$error":"#REF!"},{"$error":"#REF!"},{"$error":"#REF!"},{"$error":"#REF!"},{"$error":"#REF!"},{"$error":"#REF!"},{"$error":"#REF!"},{"$error":"#REF!"},{"$error":"#REF!"},{"$error":"#REF!"},{"$error":"#REF!"},{"$error":"#REF!"},{"$error":"#REF!"},{"$error":"#REF!"},{"$error":"#REF!"},{"$error":"#REF!"},{"$error":"#REF!"},{"$error":"#REF!"},{"$error":"#REF!"},{"$error":"#REF!"},{"$error":"#REF!"},{"$error":"#REF!"},{"$error":"#REF!"},{"$error":"#REF!"},{"$error":"#REF!"},{"$error":"#REF!"},{"$error":"#REF!"},{"$error":"#REF!"},{"$error":"#REF!"},{"$error":"#REF!"},{"$error":"#REF!"},{"$error":"#REF!"},{"$error":"#REF!"},{"$error":"#REF!"},{"$error":"#REF!"},{"$error":"#REF!"},{"$error":"#REF!"},{"$error":"#REF!"},{"$error":"#REF!"},{"$error":"#REF!"},{"$error":"#REF!"},{"$error":"#REF!"},{"$error":"#REF!"},{"$error":"#REF!"},{"$error":"#REF!"},{"$error":"#REF!"},{"$error":"#REF!"},{"$error":"#REF!"},{"$error":"#REF!"},{"$error":"#REF!"},{"$error":"#REF!"},{"$error":"#REF!"},{"$error":"#REF!"},{"$error":"#REF!"},{"$error":"#REF!"},{"$error":"#REF!"},{"$error":"#REF!"},{"$error":"#REF!"},{"$error":"#REF!"},{"$error":"#REF!"},{"$error":"#REF!"},{"$error":"#REF!"},{"$error":"#REF!"},{"$error":"#REF!"},{"$error":"#REF!"},{"$error":"#REF!"},{"$error":"#REF!"},{"$error":"#REF!"},{"$error":"#REF!"},{"$error":"#REF!"},{"$error":"#REF!"},{"$error":"#REF!"},{"$error":"#REF!"},{"$error":"#REF!"},{"$error":"#REF!"},{"$error":"#REF!"},{"$error":"#REF!"},{"$error":"#REF!"},{"$error":"#REF!"},{"$error":"#REF!"},{"$error":"#REF!"},{"$error":"#REF!"},{"$error":"#REF!"},{"$error":"#REF!"},{"$error":"#REF!"},{"$error":"#REF!"},{"$error":"#REF!"},{"$error":"#REF!"},{"$error":"#REF!"},{"$error":"#REF!"},{"$error":"#REF!"},{"$error":"#REF!"},{"$error":"#REF!"},{"$error":"#REF!"},{"$error":"#REF!"},{"$error":"#REF!"},{"$error":"#REF!"},{"$error":"#REF!"},{"$error":"#REF!"},{"$error":"#REF!"},{"$error":"#REF!"},{"$error":"#REF!"},{"$error":"#REF!"},{"$error":"#REF!"},{"$error":"#REF!"},{"$error":"#REF!"},{"$error":"#REF!"},{"$error":"#REF!"},{"$error":"#REF!"},{"$error":"#REF!"},{"$error":"#REF!"},{"$error":"#REF!"},{"$error":"#REF!"},{"$error":"#REF!"},{"$error":"#REF!"},{"$error":"#REF!"},{"$error":"#REF!"},{"$error":"#REF!"},{"$error":"#REF!"},{"$error":"#REF!"},{"$error":"#REF!"},{"$error":"#REF!"},{"$error":"#REF!"},{"$error":"#REF!"},{"$error":"#REF!"},{"$error":"#REF!"},{"$error":"#REF!"},{"$error":"#REF!"},{"$error":"#REF!"},{"$error":"#REF!"},{"$error":"#REF!"},{"$error":"#REF!"},{"$error":"#REF!"},{"$error":"#REF!"},{"$error":"#REF!"},{"$error":"#REF!"},{"$error":"#REF!"},{"$error":"#REF!"},{"$error":"#REF!"},{"$error":"#REF!"},{"$error":"#REF!"},{"$error":"#REF!"},{"$error":"#REF!"},{"$error":"#REF!"},{"$error":"#REF!"},{"$error":"#REF!"},{"$error":"#REF!"},{"$error":"#REF!"},{"$error":"#REF!"},{"$error":"#REF!"},{"$error":"#REF!"},{"$error":"#REF!"},{"$error":"#REF!"},{"$error":"#REF!"},{"$error":"#REF!"},{"$error":"#REF!"},{"$error":"#REF!"}]
["OR",{"$f":"LEFT('WMBW-WH'!#REF!&REPT(\" \",B$6),B$6)","v":{"$error":"#REF!"}},{"$f":"LEFT('WMBW-WH'!#REF!&REPT(\" \",C$6),C$6)","v":{"$error":"#REF!"}},{"$f":"LEFT('WMBW-WH'!#REF!&REPT(\" \",D$6),D$6)","v":{"$error":"#REF!"}},{"$f":"LEFT('WMBW-WH'!#REF!&REPT(\" \",E$6),E$6)","v":{"$error":"#REF!"}},{"$f":"LEFT('WMBW-WH'!#REF!&REPT(\" \",F$6),F$6)","v":{"$error":"#REF!"}},{"$f":"LEFT('WMBW-WH'!#REF!&REPT(\" \",G$6),G$6)","v":{"$error":"#REF!"}},{"$f":"LEFT('WMBW-WH'!#REF!&REPT(\" \",H$6),H$6)","v":{"$error":"#REF!"}},{"$f":"LEFT('WMBW-WH'!#REF!&REPT(\" \",I$6),I$6)","v":{"$error":"#REF!"}},{"$f":"LEFT('WMBW-WH'!#REF!&REPT(\" \",J$6),J$6)","v":{"$error":"#REF!"}},{"$f":"LEFT('WMBW-WH'!#REF!&REPT(\" \",K$6),K$6)","v":{"$error":"#REF!"}},{"$f":"LEFT('WMBW-WH'!#REF!&REPT(\" \",L$6),L$6)","v":{"$error":"#REF!"}},{"$f":"LEFT('WMBW-WH'!#REF!&REPT(\" \",M$6),M$6)","v":{"$error":"#REF!"}},{"$f":"LEFT('WMBW-WH'!#REF!&REPT(\" \",N$6),N$6)","v":{"$error":"#REF!"}},{"$f":"LEFT('WMBW-WH'!#REF!&REPT(\" \",O$6),O$6)","v":{"$error":"#REF!"}},{"$f":"LEFT('WMBW-WH'!#REF!&REPT(\" \",P$6),P$6)","v":{"$error":"#REF!"}},{"$f":"LEFT('WMBW-WH'!#REF!&REPT(\" \",Q$6),Q$6)","v":{"$error":"#REF!"}},{"$f":"LEFT('WMBW-WH'!#REF!&REPT(\" \",R$6),R$6)","v":{"$error":"#REF!"}},{"$f":"LEFT('WMBW-WH'!#REF!&REPT(\" \",S$6),S$6)","v":{"$error":"#REF!"}},{"$f":"LEFT('WMBW-WH'!#REF!&REPT(\" \",T$6),T$6)","v":{"$error":"#REF!"}},{"$f":"LEFT('WMBW-WH'!#REF!&REPT(\" \",U$6),U$6)","v":{"$error":"#REF!"}},{"$f":"LEFT('WMBW-WH'!#REF!&REPT(\" \",V$6),V$6)","v":{"$error":"#REF!"}},{"$f":"LEFT('WMBW-WH'!#REF!&REPT(\" \",W$6),W$6)","v":{"$error":"#REF!"}},{"$f":"LEFT('WMBW-WH'!#REF!&REPT(\" \",X$6),X$6)","v":{"$error":"#REF!"}},{"$f":"LEFT('WMBW-WH'!#REF!&REPT(\" \",Y$6),Y$6)","v":{"$error":"#REF!"}},{"$f":"LEFT('WMBW-WH'!#REF!&REPT(\" \",Z$6),Z$6)","v":{"$error":"#REF!"}},{"$f":"LEFT('WMBW-WH'!#REF!&REPT(\" \",AA$6),AA$6)","v":{"$error":"#REF!"}},{"$f":"LEFT('WMBW-WH'!#REF!&REPT(\" \",AB$6),AB$6)","v":{"$error":"#REF!"}},{"$f":"LEFT('WMBW-WH'!#REF!&REPT(\" \",AC$6),AC$6)","v":{"$error":"#REF!"}},{"$f":"LEFT('WMBW-WH'!#REF!&REPT(\" \",AD$6),AD$6)","v":{"$error":"#REF!"}},{"$f":"LEFT('WMBW-WH'!#REF!&REPT(\" \",AE$6),AE$6)","v":{"$error":"#REF!"}},null,null,{"$error":"#REF!"},{"$error":"#REF!"},"ORO 202101WMBWPT1004021A    20210107                                   188664B                            36273                                      FORT COLLINS                                                                         2351 BUSCH DR                                               FORT COLLINS        CO80524USMB.Case                                 BUD LIGHT                                                                            146                                24        16      OZ5                     ",525,{"$f":"INDEX(AN31:UX31,MATCH(TRUE,INDEX((AN31:UX31<>\"\"),0),0))","v":{"$error":"#N/A"}},{"$error":"#REF!"},{"$error":"#REF!"},{"$error":"#REF!"},{"$error":"#REF!"},{"$error":"#REF!"},{"$error":"#REF!"},{"$error":"#REF!"},{"$error":"#REF!"},{"$error":"#REF!"},{"$error":"#REF!"},{"$error":"#REF!"},{"$error":"#REF!"},{"$error":"#REF!"},{"$error":"#REF!"},{"$error":"#REF!"},{"$error":"#REF!"},{"$error":"#REF!"},{"$error":"#REF!"},{"$error":"#REF!"},{"$error":"#REF!"},{"$error":"#REF!"},{"$error":"#REF!"},{"$error":"#REF!"},{"$error":"#REF!"},{"$error":"#REF!"},{"$error":"#REF!"},{"$error":"#REF!"},{"$error":"#REF!"},{"$error":"#REF!"},{"$error":"#REF!"},{"$error":"#REF!"},{"$error":"#REF!"},{"$error":"#REF!"},{"$error":"#REF!"},{"$error":"#REF!"},{"$error":"#REF!"},{"$error":"#REF!"},{"$error":"#REF!"},{"$error":"#REF!"},{"$error":"#REF!"},{"$error":"#REF!"},{"$error":"#REF!"},{"$error":"#REF!"},{"$error":"#REF!"},{"$error":"#REF!"},{"$error":"#REF!"},{"$error":"#REF!"},{"$error":"#REF!"},{"$error":"#REF!"},{"$error":"#REF!"},{"$error":"#REF!"},{"$error":"#REF!"},{"$error":"#REF!"},{"$error":"#REF!"},{"$error":"#REF!"},{"$error":"#REF!"},{"$error":"#REF!"},{"$error":"#REF!"},{"$error":"#REF!"},{"$error":"#REF!"},{"$error":"#REF!"},{"$error":"#REF!"},{"$error":"#REF!"},{"$error":"#REF!"},{"$error":"#REF!"},{"$error":"#REF!"},{"$error":"#REF!"},{"$error":"#REF!"},{"$error":"#REF!"},{"$error":"#REF!"},{"$error":"#REF!"},{"$error":"#REF!"},{"$error":"#REF!"},{"$error":"#REF!"},{"$error":"#REF!"},{"$error":"#REF!"},{"$error":"#REF!"},{"$error":"#REF!"},{"$error":"#REF!"},{"$error":"#REF!"},{"$error":"#REF!"},{"$error":"#REF!"},{"$error":"#REF!"},{"$error":"#REF!"},{"$error":"#REF!"},{"$error":"#REF!"},{"$error":"#REF!"},{"$error":"#REF!"},{"$error":"#REF!"},{"$error":"#REF!"},{"$error":"#REF!"},{"$error":"#REF!"},{"$error":"#REF!"},{"$error":"#REF!"},{"$error":"#REF!"},{"$error":"#REF!"},{"$error":"#REF!"},{"$error":"#REF!"},{"$error":"#REF!"},{"$error":"#REF!"},{"$error":"#REF!"},{"$error":"#REF!"},{"$error":"#REF!"},{"$error":"#REF!"},{"$error":"#REF!"},{"$error":"#REF!"},{"$error":"#REF!"},{"$error":"#REF!"},{"$error":"#REF!"},{"$error":"#REF!"},{"$error":"#REF!"},{"$error":"#REF!"},{"$error":"#REF!"},{"$error":"#REF!"},{"$error":"#REF!"},{"$error":"#REF!"},{"$error":"#REF!"},{"$error":"#REF!"},{"$error":"#REF!"},{"$error":"#REF!"},{"$error":"#REF!"},{"$error":"#REF!"},{"$error":"#REF!"},{"$error":"#REF!"},{"$error":"#REF!"},{"$error":"#REF!"},{"$error":"#REF!"},{"$error":"#REF!"},{"$error":"#REF!"},{"$error":"#REF!"},{"$error":"#REF!"},{"$error":"#REF!"},{"$error":"#REF!"},{"$error":"#REF!"},{"$error":"#REF!"},{"$error":"#REF!"},{"$error":"#REF!"},{"$error":"#REF!"},{"$error":"#REF!"},{"$error":"#REF!"},{"$error":"#REF!"},{"$error":"#REF!"},{"$error":"#REF!"},{"$error":"#REF!"},{"$error":"#REF!"},{"$error":"#REF!"},{"$error":"#REF!"},{"$error":"#REF!"},{"$error":"#REF!"},{"$error":"#REF!"},{"$error":"#REF!"},{"$error":"#REF!"},{"$error":"#REF!"},{"$error":"#REF!"},{"$error":"#REF!"},{"$error":"#REF!"},{"$error":"#REF!"},{"$error":"#REF!"},{"$error":"#REF!"},{"$error":"#REF!"},{"$error":"#REF!"},{"$error":"#REF!"},{"$error":"#REF!"},{"$error":"#REF!"},{"$error":"#REF!"},{"$error":"#REF!"},{"$error":"#REF!"},{"$error":"#REF!"},{"$error":"#REF!"},{"$error":"#REF!"},{"$error":"#REF!"},{"$error":"#REF!"},{"$error":"#REF!"},{"$error":"#REF!"},{"$error":"#REF!"},{"$error":"#REF!"},{"$error":"#REF!"},{"$error":"#REF!"},{"$error":"#REF!"},{"$error":"#REF!"},{"$error":"#REF!"},{"$error":"#REF!"},{"$error":"#REF!"},{"$error":"#REF!"},{"$error":"#REF!"},{"$error":"#REF!"},{"$error":"#REF!"},{"$error":"#REF!"},{"$error":"#REF!"},{"$error":"#REF!"},{"$error":"#REF!"},{"$error":"#REF!"},{"$error":"#REF!"},{"$error":"#REF!"},{"$error":"#REF!"},{"$error":"#REF!"},{"$error":"#REF!"},{"$error":"#REF!"},{"$error":"#REF!"},{"$error":"#REF!"},{"$error":"#REF!"},{"$error":"#REF!"},{"$error":"#REF!"},{"$error":"#REF!"},{"$error":"#REF!"},{"$error":"#REF!"},{"$error":"#REF!"},{"$error":"#REF!"},{"$error":"#REF!"},{"$error":"#REF!"},{"$error":"#REF!"},{"$error":"#REF!"},{"$error":"#REF!"},{"$error":"#REF!"},{"$error":"#REF!"},{"$error":"#REF!"},{"$error":"#REF!"},{"$error":"#REF!"},{"$error":"#REF!"},{"$error":"#REF!"},{"$error":"#REF!"},{"$error":"#REF!"},{"$error":"#REF!"},{"$error":"#REF!"},{"$error":"#REF!"},{"$error":"#REF!"},{"$error":"#REF!"},{"$error":"#REF!"},{"$error":"#REF!"},{"$error":"#REF!"},{"$error":"#REF!"},{"$error":"#REF!"},{"$error":"#REF!"},{"$error":"#REF!"},{"$error":"#REF!"},{"$error":"#REF!"},{"$error":"#REF!"},{"$error":"#REF!"},{"$error":"#REF!"},{"$error":"#REF!"},{"$error":"#REF!"},{"$error":"#REF!"},{"$error":"#REF!"},{"$error":"#REF!"},{"$error":"#REF!"},{"$error":"#REF!"},{"$error":"#REF!"},{"$error":"#REF!"},{"$error":"#REF!"},{"$error":"#REF!"},{"$error":"#REF!"},{"$error":"#REF!"},{"$error":"#REF!"},{"$error":"#REF!"},{"$error":"#REF!"},{"$error":"#REF!"},{"$error":"#REF!"},{"$error":"#REF!"},{"$error":"#REF!"},{"$error":"#REF!"},{"$error":"#REF!"},{"$error":"#REF!"},{"$error":"#REF!"},{"$error":"#REF!"},{"$error":"#REF!"},{"$error":"#REF!"},{"$error":"#REF!"},{"$error":"#REF!"},{"$error":"#REF!"},{"$error":"#REF!"},{"$error":"#REF!"},{"$error":"#REF!"},{"$error":"#REF!"},{"$error":"#REF!"},{"$error":"#REF!"},{"$error":"#REF!"},{"$error":"#REF!"},{"$error":"#REF!"},{"$error":"#REF!"},{"$error":"#REF!"},{"$error":"#REF!"},{"$error":"#REF!"},{"$error":"#REF!"},{"$error":"#REF!"},{"$error":"#REF!"},{"$error":"#REF!"},{"$error":"#REF!"},{"$error":"#REF!"},{"$error":"#REF!"},{"$error":"#REF!"},{"$error":"#REF!"},{"$error":"#REF!"},{"$error":"#REF!"},{"$error":"#REF!"},{"$error":"#REF!"},{"$error":"#REF!"},{"$error":"#REF!"},{"$error":"#REF!"},{"$error":"#REF!"},{"$error":"#REF!"},{"$error":"#REF!"},{"$error":"#REF!"},{"$error":"#REF!"},{"$error":"#REF!"},{"$error":"#REF!"},{"$error":"#REF!"},{"$error":"#REF!"},{"$error":"#REF!"},{"$error":"#REF!"},{"$error":"#REF!"},{"$error":"#REF!"},{"$error":"#REF!"},{"$error":"#REF!"},{"$error":"#REF!"},{"$error":"#REF!"},{"$error":"#REF!"},{"$error":"#REF!"},{"$error":"#REF!"},{"$error":"#REF!"},{"$error":"#REF!"},{"$error":"#REF!"},{"$error":"#REF!"},{"$error":"#REF!"},{"$error":"#REF!"},{"$error":"#REF!"},{"$error":"#REF!"},{"$error":"#REF!"},{"$error":"#REF!"},{"$error":"#REF!"},{"$error":"#REF!"},{"$error":"#REF!"},{"$error":"#REF!"},{"$error":"#REF!"},{"$error":"#REF!"},{"$error":"#REF!"},{"$error":"#REF!"},{"$error":"#REF!"},{"$error":"#REF!"},{"$error":"#REF!"},{"$error":"#REF!"},{"$error":"#REF!"},{"$error":"#REF!"},{"$error":"#REF!"},{"$error":"#REF!"},{"$error":"#REF!"},{"$error":"#REF!"},{"$error":"#REF!"},{"$error":"#REF!"},{"$error":"#REF!"},{"$error":"#REF!"},{"$error":"#REF!"},{"$error":"#REF!"},{"$error":"#REF!"},{"$error":"#REF!"},{"$error":"#REF!"},{"$error":"#REF!"},{"$error":"#REF!"},{"$error":"#REF!"},{"$error":"#REF!"},{"$error":"#REF!"},{"$error":"#REF!"},{"$error":"#REF!"},{"$error":"#REF!"},{"$error":"#REF!"},{"$error":"#REF!"},{"$error":"#REF!"},{"$error":"#REF!"},{"$error":"#REF!"},{"$error":"#REF!"},{"$error":"#REF!"},{"$error":"#REF!"},{"$error":"#REF!"},{"$error":"#REF!"},{"$error":"#REF!"},{"$error":"#REF!"},{"$error":"#REF!"},{"$error":"#REF!"},{"$error":"#REF!"},{"$error":"#REF!"},{"$error":"#REF!"},{"$error":"#REF!"},{"$error":"#REF!"},{"$error":"#REF!"},{"$error":"#REF!"},{"$error":"#REF!"},{"$error":"#REF!"},{"$error":"#REF!"},{"$error":"#REF!"},{"$error":"#REF!"},{"$error":"#REF!"},{"$error":"#REF!"},{"$error":"#REF!"},{"$error":"#REF!"},{"$error":"#REF!"},{"$error":"#REF!"},{"$error":"#REF!"},{"$error":"#REF!"},{"$error":"#REF!"},{"$error":"#REF!"},{"$error":"#REF!"},{"$error":"#REF!"},{"$error":"#REF!"},{"$error":"#REF!"},{"$error":"#REF!"},{"$error":"#REF!"},{"$error":"#REF!"},{"$error":"#REF!"},{"$error":"#REF!"},{"$error":"#REF!"},{"$error":"#REF!"},{"$error":"#REF!"},{"$error":"#REF!"},{"$error":"#REF!"},{"$error":"#REF!"},{"$error":"#REF!"},{"$error":"#REF!"},{"$error":"#REF!"},{"$error":"#REF!"},{"$error":"#REF!"},{"$error":"#REF!"},{"$error":"#REF!"},{"$error":"#REF!"},{"$error":"#REF!"},{"$error":"#REF!"},{"$error":"#REF!"},{"$error":"#REF!"},{"$error":"#REF!"},{"$error":"#REF!"},{"$error":"#REF!"},{"$error":"#REF!"},{"$error":"#REF!"},{"$error":"#REF!"},{"$error":"#REF!"},{"$error":"#REF!"},{"$error":"#REF!"},{"$error":"#REF!"},{"$error":"#REF!"},{"$error":"#REF!"},{"$error":"#REF!"},{"$error":"#REF!"},{"$error":"#REF!"},{"$error":"#REF!"},{"$error":"#REF!"},{"$error":"#REF!"},{"$error":"#REF!"},{"$error":"#REF!"},{"$error":"#REF!"},{"$error":"#REF!"},{"$error":"#REF!"},{"$error":"#REF!"},{"$error":"#REF!"},{"$error":"#REF!"},{"$error":"#REF!"},{"$error":"#REF!"},{"$error":"#REF!"},{"$error":"#REF!"},{"$error":"#REF!"},{"$error":"#REF!"},{"$error":"#REF!"},{"$error":"#REF!"},{"$error":"#REF!"},{"$error":"#REF!"},{"$error":"#REF!"},{"$error":"#REF!"},{"$error":"#REF!"},{"$error":"#REF!"},{"$error":"#REF!"},{"$error":"#REF!"},{"$error":"#REF!"},{"$error":"#REF!"},{"$error":"#REF!"},{"$error":"#REF!"},{"$error":"#REF!"},{"$error":"#REF!"},{"$error":"#REF!"},{"$error":"#REF!"},{"$error":"#REF!"},{"$error":"#REF!"},{"$error":"#REF!"},{"$error":"#REF!"},{"$error":"#REF!"},{"$error":"#REF!"},{"$error":"#REF!"},{"$error":"#REF!"},{"$error":"#REF!"},{"$error":"#REF!"},{"$error":"#REF!"},{"$error":"#REF!"},{"$error":"#REF!"},{"$error":"#REF!"},{"$error":"#REF!"},{"$error":"#REF!"},{"$error":"#REF!"},{"$error":"#REF!"},{"$error":"#REF!"},{"$error":"#REF!"},{"$error":"#REF!"},{"$error":"#REF!"},{"$error":"#REF!"},{"$error":"#REF!"},{"$error":"#REF!"},{"$error":"#REF!"},{"$error":"#REF!"},{"$error":"#REF!"},{"$error":"#REF!"},{"$error":"#REF!"},{"$error":"#REF!"},{"$error":"#REF!"},{"$error":"#REF!"},{"$error":"#REF!"},{"$error":"#REF!"},{"$error":"#REF!"},{"$error":"#REF!"},{"$error":"#REF!"},{"$error":"#REF!"},{"$error":"#REF!"},{"$error":"#REF!"},{"$error":"#REF!"},{"$error":"#REF!"},{"$error":"#REF!"},{"$error":"#REF!"},{"$error":"#REF!"},{"$error":"#REF!"},{"$error":"#REF!"},{"$error":"#REF!"},{"$error":"#REF!"},{"$error":"#REF!"},{"$error":"#REF!"},{"$error":"#REF!"}]
["OR",{"$f":"LEFT('WMBW-WH'!#REF!&REPT(\" \",B$6),B$6)","v":{"$error":"#REF!"}},{"$f":"LEFT('WMBW-WH'!#REF!&REPT(\" \",C$6),C$6)","v":{"$error":"#REF!"}},{"$f":"LEFT('WMBW-WH'!#REF!&REPT(\" \",D$6),D$6)","v":{"$error":"#REF!"}},{"$f":"LEFT('WMBW-WH'!#REF!&REPT(\" \",E$6),E$6)","v":{"$error":"#REF!"}},{"$f":"LEFT('WMBW-WH'!#REF!&REPT(\" \",F$6),F$6)","v":{"$error":"#REF!"}},{"$f":"LEFT('WMBW-WH'!#REF!&REPT(\" \",G$6),G$6)","v":{"$error":"#REF!"}},{"$f":"LEFT('WMBW-WH'!#REF!&REPT(\" \",H$6),H$6)","v":{"$error":"#REF!"}},{"$f":"LEFT('WMBW-WH'!#REF!&REPT(\" \",I$6),I$6)","v":{"$error":"#REF!"}},{"$f":"LEFT('WMBW-WH'!#REF!&REPT(\" \",J$6),J$6)","v":{"$error":"#REF!"}},{"$f":"LEFT('WMBW-WH'!#REF!&REPT(\" \",K$6),K$6)","v":{"$error":"#REF!"}},{"$f":"LEFT('WMBW-WH'!#REF!&REPT(\" \",L$6),L$6)","v":{"$error":"#REF!"}},{"$f":"LEFT('WMBW-WH'!#REF!&REPT(\" \",M$6),M$6)","v":{"$error":"#REF!"}},{"$f":"LEFT('WMBW-WH'!#REF!&REPT(\" \",N$6),N$6)","v":{"$error":"#REF!"}},{"$f":"LEFT('WMBW-WH'!#REF!&REPT(\" \",O$6),O$6)","v":{"$error":"#REF!"}},{"$f":"LEFT('WMBW-WH'!#REF!&REPT(\" \",P$6),P$6)","v":{"$error":"#REF!"}},{"$f":"LEFT('WMBW-WH'!#REF!&REPT(\" \",Q$6),Q$6)","v":{"$error":"#REF!"}},{"$f":"LEFT('WMBW-WH'!#REF!&REPT(\" \",R$6),R$6)","v":{"$error":"#REF!"}},{"$f":"LEFT('WMBW-WH'!#REF!&REPT(\" \",S$6),S$6)","v":{"$error":"#REF!"}},{"$f":"LEFT('WMBW-WH'!#REF!&REPT(\" \",T$6),T$6)","v":{"$error":"#REF!"}},{"$f":"LEFT('WMBW-WH'!#REF!&REPT(\" \",U$6),U$6)","v":{"$error":"#REF!"}},{"$f":"LEFT('WMBW-WH'!#REF!&REPT(\" \",V$6),V$6)","v":{"$error":"#REF!"}},{"$f":"LEFT('WMBW-WH'!#REF!&REPT(\" \",W$6),W$6)","v":{"$error":"#REF!"}},{"$f":"LEFT('WMBW-WH'!#REF!&REPT(\" \",X$6),X$6)","v":{"$error":"#REF!"}},{"$f":"LEFT('WMBW-WH'!#REF!&REPT(\" \",Y$6),Y$6)","v":{"$error":"#REF!"}},{"$f":"LEFT('WMBW-WH'!#REF!&REPT(\" \",Z$6),Z$6)","v":{"$error":"#REF!"}},{"$f":"LEFT('WMBW-WH'!#REF!&REPT(\" \",AA$6),AA$6)","v":{"$error":"#REF!"}},{"$f":"LEFT('WMBW-WH'!#REF!&REPT(\" \",AB$6),AB$6)","v":{"$error":"#REF!"}},{"$f":"LEFT('WMBW-WH'!#REF!&REPT(\" \",AC$6),AC$6)","v":{"$error":"#REF!"}},{"$f":"LEFT('WMBW-WH'!#REF!&REPT(\" \",AD$6),AD$6)","v":{"$error":"#REF!"}},{"$f":"LEFT('WMBW-WH'!#REF!&REPT(\" \",AE$6),AE$6)","v":{"$error":"#REF!"}},null,null,{"$error":"#REF!"},{"$error":"#REF!"},"ORO 202101WMBWPT1004021A    20210107                                   188664B                            36273                                      FORT COLLINS                                                                         2351 BUSCH DR                                               FORT COLLINS        CO80524USMB.Case                                 BUD LIGHT LIME                                                                       4                                  24        12      OZ5                     ",525,{"$f":"INDEX(AN32:UX32,MATCH(TRUE,INDEX((AN32:UX32<>\"\"),0),0))","v":{"$error":"#N/A"}},{"$error":"#REF!"},{"$error":"#REF!"},{"$error":"#REF!"},{"$error":"#REF!"},{"$error":"#REF!"},{"$error":"#REF!"},{"$error":"#REF!"},{"$error":"#REF!"},{"$error":"#REF!"},{"$error":"#REF!"},{"$error":"#REF!"},{"$error":"#REF!"},{"$error":"#REF!"},{"$error":"#REF!"},{"$error":"#REF!"},{"$error":"#REF!"},{"$error":"#REF!"},{"$error":"#REF!"},{"$error":"#REF!"},{"$error":"#REF!"},{"$error":"#REF!"},{"$error":"#REF!"},{"$error":"#REF!"},{"$error":"#REF!"},{"$error":"#REF!"},{"$error":"#REF!"},{"$error":"#REF!"},{"$error":"#REF!"},{"$error":"#REF!"},{"$error":"#REF!"},{"$error":"#REF!"},{"$error":"#REF!"},{"$error":"#REF!"},{"$error":"#REF!"},{"$error":"#REF!"},{"$error":"#REF!"},{"$error":"#REF!"},{"$error":"#REF!"},{"$error":"#REF!"},{"$error":"#REF!"},{"$error":"#REF!"},{"$error":"#REF!"},{"$error":"#REF!"},{"$error":"#REF!"},{"$error":"#REF!"},{"$error":"#REF!"},{"$error":"#REF!"},{"$error":"#REF!"},{"$error":"#REF!"},{"$error":"#REF!"},{"$error":"#REF!"},{"$error":"#REF!"},{"$error":"#REF!"},{"$error":"#REF!"},{"$error":"#REF!"},{"$error":"#REF!"},{"$error":"#REF!"},{"$error":"#REF!"},{"$error":"#REF!"},{"$error":"#REF!"},{"$error":"#REF!"},{"$error":"#REF!"},{"$error":"#REF!"},{"$error":"#REF!"},{"$error":"#REF!"},{"$f":"IF(MID($AH32,CZ$12,1)=MID($AJ32,CZ$12,1),\"\",CZ31)","v":{"$error":"#REF!"}},{"$error":"#REF!"},{"$error":"#REF!"},{"$error":"#REF!"},{"$error":"#REF!"},{"$error":"#REF!"},{"$error":"#REF!"},{"$error":"#REF!"},{"$error":"#REF!"},{"$error":"#REF!"},{"$error":"#REF!"},{"$error":"#REF!"},{"$error":"#REF!"},{"$error":"#REF!"},{"$error":"#REF!"},{"$error":"#REF!"},{"$error":"#REF!"},{"$error":"#REF!"},{"$error":"#REF!"},{"$error":"#REF!"},{"$error":"#REF!"},{"$error":"#REF!"},{"$error":"#REF!"},{"$error":"#REF!"},{"$error":"#REF!"},{"$error":"#REF!"},{"$error":"#REF!"},{"$error":"#REF!"},{"$error":"#REF!"},{"$error":"#REF!"},{"$error":"#REF!"},{"$error":"#REF!"},{"$error":"#REF!"},{"$error":"#REF!"},{"$error":"#REF!"},{"$error":"#REF!"},{"$error":"#REF!"},{"$error":"#REF!"},{"$error":"#REF!"},{"$error":"#REF!"},{"$error":"#REF!"},{"$error":"#REF!"},{"$error":"#REF!"},{"$error":"#REF!"},{"$error":"#REF!"},{"$error":"#REF!"},{"$error":"#REF!"},{"$error":"#REF!"},{"$error":"#REF!"},{"$error":"#REF!"},{"$error":"#REF!"},{"$error":"#REF!"},{"$error":"#REF!"},{"$error":"#REF!"},{"$error":"#REF!"},{"$error":"#REF!"},{"$error":"#REF!"},{"$error":"#REF!"},{"$error":"#REF!"},{"$error":"#REF!"},{"$error":"#REF!"},{"$error":"#REF!"},{"$error":"#REF!"},{"$error":"#REF!"},{"$f":"IF(MID($AH32,FL$12,1)=MID($AJ32,FL$12,1),\"\",FL31)","v":{"$error":"#REF!"}},{"$error":"#REF!"},{"$error":"#REF!"},{"$error":"#REF!"},{"$error":"#REF!"},{"$error":"#REF!"},{"$error":"#REF!"},{"$error":"#REF!"},{"$error":"#REF!"},{"$error":"#REF!"},{"$error":"#REF!"},{"$error":"#REF!"},{"$error":"#REF!"},{"$error":"#REF!"},{"$error":"#REF!"},{"$error":"#REF!"},{"$error":"#REF!"},{"$error":"#REF!"},{"$error":"#REF!"},{"$error":"#REF!"},{"$error":"#REF!"},{"$error":"#REF!"},{"$error":"#REF!"},{"$error":"#REF!"},{"$error":"#REF!"},{"$error":"#REF!"},{"$error":"#REF!"},{"$error":"#REF!"},{"$error":"#REF!"},{"$error":"#REF!"},{"$error":"#REF!"},{"$error":"#REF!"},{"$error":"#REF!"},{"$error":"#REF!"},{"$error":"#REF!"},{"$error":"#REF!"},{"$error":"#REF!"},{"$error":"#REF!"},{"$error":"#REF!"},{"$error":"#REF!"},{"$error":"#REF!"},{"$error":"#REF!"},{"$error":"#REF!"},{"$error":"#REF!"},{"$error":"#REF!"},{"$error":"#REF!"},{"$error":"#REF!"},{"$error":"#REF!"},{"$error":"#REF!"},{"$error":"#REF!"},{"$error":"#REF!"},{"$error":"#REF!"},{"$error":"#REF!"},{"$error":"#REF!"},{"$error":"#REF!"},{"$error":"#REF!"},{"$error":"#REF!"},{"$error":"#REF!"},{"$error":"#REF!"},{"$error":"#REF!"},{"$error":"#REF!"},{"$error":"#REF!"},{"$error":"#REF!"},{"$error":"#REF!"},{"$f":"IF(MID($AH32,HX$12,1)=MID($AJ32,HX$12,1),\"\",HX31)","v":{"$error":"#REF!"}},{"$error":"#REF!"},{"$error":"#REF!"},{"$error":"#REF!"},{"$error":"#REF!"},{"$error":"#REF!"},{"$error":"#REF!"},{"$error":"#REF!"},{"$error":"#REF!"},{"$error":"#REF!"},{"$error":"#REF!"},{"$error":"#REF!"},{"$error":"#REF!"},{"$error":"#REF!"},{"$error":"#REF!"},{"$error":"#REF!"},{"$error":"#REF!"},{"$error":"#REF!"},{"$error":"#REF!"},{"$error":"#REF!"},{"$error":"#REF!"},{"$error":"#REF!"},{"$error":"#REF!"},{"$error":"#REF!"},{"$error":"#REF!"},{"$error":"#REF!"},{"$error":"#REF!"},{"$error":"#REF!"},{"$error":"#REF!"},{"$error":"#REF!"},{"$error":"#REF!"},{"$error":"#REF!"},{"$error":"#REF!"},{"$error":"#REF!"},{"$error":"#REF!"},{"$error":"#REF!"},{"$error":"#REF!"},{"$error":"#REF!"},{"$error":"#REF!"},{"$error":"#REF!"},{"$error":"#REF!"},{"$error":"#REF!"},{"$error":"#REF!"},{"$error":"#REF!"},{"$error":"#REF!"},{"$error":"#REF!"},{"$error":"#REF!"},{"$error":"#REF!"},{"$error":"#REF!"},{"$error":"#REF!"},{"$error":"#REF!"},{"$error":"#REF!"},{"$error":"#REF!"},{"$error":"#REF!"},{"$error":"#REF!"},{"$error":"#REF!"},{"$error":"#REF!"},{"$error":"#REF!"},{"$error":"#REF!"},{"$error":"#REF!"},{"$error":"#REF!"},{"$error":"#REF!"},{"$error":"#REF!"},{"$error":"#REF!"},{"$f":"IF(MID($AH32,KJ$12,1)=MID($AJ32,KJ$12,1),\"\",KJ31)","v":{"$error":"#REF!"}},{"$error":"#REF!"},{"$error":"#REF!"},{"$error":"#REF!"},{"$error":"#REF!"},{"$error":"#REF!"},{"$error":"#REF!"},{"$error":"#REF!"},{"$error":"#REF!"},{"$error":"#REF!"},{"$error":"#REF!"},{"$error":"#REF!"},{"$error":"#REF!"},{"$error":"#REF!"},{"$error":"#REF!"},{"$error":"#REF!"},{"$error":"#REF!"},{"$error":"#REF!"},{"$error":"#REF!"},{"$error":"#REF!"},{"$error":"#REF!"},{"$error":"#REF!"},{"$error":"#REF!"},{"$error":"#REF!"},{"$error":"#REF!"},{"$error":"#REF!"},{"$error":"#REF!"},{"$error":"#REF!"},{"$error":"#REF!"},{"$error":"#REF!"},{"$error":"#REF!"},{"$error":"#REF!"},{"$error":"#REF!"},{"$error":"#REF!"},{"$error":"#REF!"},{"$error":"#REF!"},{"$error":"#REF!"},{"$error":"#REF!"},{"$error":"#REF!"},{"$error":"#REF!"},{"$error":"#REF!"},{"$error":"#REF!"},{"$error":"#REF!"},{"$error":"#REF!"},{"$error":"#REF!"},{"$error":"#REF!"},{"$error":"#REF!"},{"$error":"#REF!"},{"$error":"#REF!"},{"$error":"#REF!"},{"$error":"#REF!"},{"$error":"#REF!"},{"$error":"#REF!"},{"$error":"#REF!"},{"$error":"#REF!"},{"$error":"#REF!"},{"$error":"#REF!"},{"$error":"#REF!"},{"$error":"#REF!"},{"$error":"#REF!"},{"$error":"#REF!"},{"$error":"#REF!"},{"$error":"#REF!"},{"$error":"#REF!"},{"$f":"IF(MID($AH32,MV$12,1)=MID($AJ32,MV$12,1),\"\",MV31)","v":{"$error":"#REF!"}},{"$error":"#REF!"},{"$error":"#REF!"},{"$error":"#REF!"},{"$error":"#REF!"},{"$error":"#REF!"},{"$error":"#REF!"},{"$error":"#REF!"},{"$error":"#REF!"},{"$error":"#REF!"},{"$error":"#REF!"},{"$error":"#REF!"},{"$error":"#REF!"},{"$error":"#REF!"},{"$error":"#REF!"},{"$error":"#REF!"},{"$error":"#REF!"},{"$error":"#REF!"},{"$error":"#REF!"},{"$error":"#REF!"},{"$error":"#REF!"},{"$error":"#REF!"},{"$error":"#REF!"},{"$error":"#REF!"},{"$error":"#REF!"},{"$error":"#REF!"},{"$error":"#REF!"},{"$error":"#REF!"},{"$error":"#REF!"},{"$error":"#REF!"},{"$error":"#REF!"},{"$error":"#REF!"},{"$error":"#REF!"},{"$error":"#REF!"},{"$error":"#REF!"},{"$error":"#REF!"},{"$error":"#REF!"},{"$error":"#REF!"},{"$error":"#REF!"},{"$error":"#REF!"},{"$error":"#REF!"},{"$error":"#REF!"},{"$error":"#REF!"},{"$error":"#REF!"},{"$error":"#REF!"},{"$error":"#REF!"},{"$error":"#REF!"},{"$error":"#REF!"},{"$error":"#REF!"},{"$error":"#REF!"},{"$error":"#REF!"},{"$error":"#REF!"},{"$error":"#REF!"},{"$error":"#REF!"},{"$error":"#REF!"},{"$error":"#REF!"},{"$error":"#REF!"},{"$error":"#REF!"},{"$error":"#REF!"},{"$error":"#REF!"},{"$error":"#REF!"},{"$error":"#REF!"},{"$error":"#REF!"},{"$error":"#REF!"},{"$f":"IF(MID($AH32,PH$12,1)=MID($AJ32,PH$12,1),\"\",PH31)","v":{"$error":"#REF!"}},{"$error":"#REF!"},{"$error":"#REF!"},{"$error":"#REF!"},{"$error":"#REF!"},{"$error":"#REF!"},{"$error":"#REF!"},{"$error":"#REF!"},{"$error":"#REF!"},{"$error":"#REF!"},{"$error":"#REF!"},{"$error":"#REF!"},{"$error":"#REF!"},{"$error":"#REF!"},{"$error":"#REF!"},{"$error":"#REF!"},{"$error":"#REF!"},{"$error":"#REF!"},{"$error":"#REF!"},{"$error":"#REF!"},{"$error":"#REF!"},{"$error":"#REF!"},{"$error":"#REF!"},{"$error":"#REF!"},{"$error":"#REF!"},{"$error":"#REF!"},{"$error":"#REF!"},{"$error":"#REF!"},{"$error":"#REF!"},{"$error":"#REF!"},{"$error":"#REF!"},{"$error":"#REF!"},{"$error":"#REF!"},{"$error":"#REF!"},{"$error":"#REF!"},{"$error":"#REF!"},{"$error":"#REF!"},{"$error":"#REF!"},{"$error":"#REF!"},{"$error":"#REF!"},{"$error":"#REF!"},{"$error":"#REF!"},{"$error":"#REF!"},{"$error":"#REF!"},{"$error":"#REF!"},{"$error":"#REF!"},{"$error":"#REF!"},{"$error":"#REF!"},{"$error":"#REF!"},{"$error":"#REF!"},{"$error":"#REF!"},{"$error":"#REF!"},{"$error":"#REF!"},{"$error":"#REF!"},{"$error":"#REF!"},{"$error":"#REF!"},{"$error":"#REF!"},{"$error":"#REF!"},{"$error":"#REF!"},{"$error":"#REF!"},{"$error":"#REF!"},{"$error":"#REF!"},{"$error":"#REF!"},{"$error":"#REF!"},{"$f":"IF(MID($AH32,RT$12,1)=MID($AJ32,RT$12,1),\"\",RT31)","v":{"$error":"#REF!"}},{"$error":"#REF!"},{"$error":"#REF!"},{"$error":"#REF!"},{"$error":"#REF!"},{"$error":"#REF!"},{"$error":"#REF!"},{"$error":"#REF!"},{"$error":"#REF!"},{"$error":"#REF!"},{"$error":"#REF!"},{"$error":"#REF!"},{"$error":"#REF!"},{"$error":"#REF!"},{"$error":"#REF!"},{"$error":"#REF!"},{"$error":"#REF!"},{"$error":"#REF!"},{"$error":"#REF!"},{"$error":"#REF!"},{"$error":"#REF!"},{"$error":"#REF!"},{"$error":"#REF!"},{"$error":"#REF!"},{"$error":"#REF!"},{"$error":"#REF!"},{"$error":"#REF!"},{"$error":"#REF!"},{"$error":"#REF!"},{"$error":"#REF!"},{"$error":"#REF!"},{"$error":"#REF!"},{"$error":"#REF!"},{"$error":"#REF!"},{"$error":"#REF!"},{"$error":"#REF!"},{"$error":"#REF!"},{"$error":"#REF!"},{"$error":"#REF!"},{"$error":"#REF!"},{"$error":"#REF!"},{"$error":"#REF!"},{"$error":"#REF!"},{"$error":"#REF!"},{"$error":"#REF!"},{"$error":"#REF!"},{"$error":"#REF!"},{"$error":"#REF!"},{"$error":"#REF!"},{"$error":"#REF!"},{"$error":"#REF!"},{"$error":"#REF!"},{"$error":"#REF!"},{"$error":"#REF!"},{"$error":"#REF!"},{"$error":"#REF!"},{"$error":"#REF!"},{"$error":"#REF!"},{"$error":"#REF!"},{"$error":"#REF!"},{"$error":"#REF!"},{"$error":"#REF!"},{"$error":"#REF!"},{"$error":"#REF!"},{"$f":"IF(MID($AH32,UF$12,1)=MID($AJ32,UF$12,1),\"\",UF31)","v":{"$error":"#REF!"}},{"$error":"#REF!"},{"$error":"#REF!"},{"$error":"#REF!"},{"$error":"#REF!"},{"$error":"#REF!"},{"$error":"#REF!"},{"$error":"#REF!"},{"$error":"#REF!"},{"$error":"#REF!"},{"$error":"#REF!"},{"$error":"#REF!"},{"$error":"#REF!"},{"$error":"#REF!"},{"$error":"#REF!"},{"$error":"#REF!"}]
["OR",{"$f":"LEFT('WMBW-WH'!#REF!&REPT(\" \",B$6),B$6)","v":{"$error":"#REF!"}},{"$f":"LEFT('WMBW-WH'!#REF!&REPT(\" \",C$6),C$6)","v":{"$error":"#REF!"}},{"$f":"LEFT('WMBW-WH'!#REF!&REPT(\" \",D$6),D$6)","v":{"$error":"#REF!"}},{"$f":"LEFT('WMBW-WH'!#REF!&REPT(\" \",E$6),E$6)","v":{"$error":"#REF!"}},{"$f":"LEFT('WMBW-WH'!#REF!&REPT(\" \",F$6),F$6)","v":{"$error":"#REF!"}},{"$f":"LEFT('WMBW-WH'!#REF!&REPT(\" \",G$6),G$6)","v":{"$error":"#REF!"}},{"$f":"LEFT('WMBW-WH'!#REF!&REPT(\" \",H$6),H$6)","v":{"$error":"#REF!"}},{"$f":"LEFT('WMBW-WH'!#REF!&REPT(\" \",I$6),I$6)","v":{"$error":"#REF!"}},{"$f":"LEFT('WMBW-WH'!#REF!&REPT(\" \",J$6),J$6)","v":{"$error":"#REF!"}},{"$f":"LEFT('WMBW-WH'!#REF!&REPT(\" \",K$6),K$6)","v":{"$error":"#REF!"}},{"$f":"LEFT('WMBW-WH'!#REF!&REPT(\" \",L$6),L$6)","v":{"$error":"#REF!"}},{"$f":"LEFT('WMBW-WH'!#REF!&REPT(\" \",M$6),M$6)","v":{"$error":"#REF!"}},{"$f":"LEFT('WMBW-WH'!#REF!&REPT(\" \",N$6),N$6)","v":{"$error":"#REF!"}},{"$f":"LEFT('WMBW-WH'!#REF!&REPT(\" \",O$6),O$6)","v":{"$error":"#REF!"}},{"$f":"LEFT('WMBW-WH'!#REF!&REPT(\" \",P$6),P$6)","v":{"$error":"#REF!"}},{"$f":"LEFT('WMBW-WH'!#REF!&REPT(\" \",Q$6),Q$6)","v":{"$error":"#REF!"}},{"$f":"LEFT('WMBW-WH'!#REF!&REPT(\" \",R$6),R$6)","v":{"$error":"#REF!"}},{"$f":"LEFT('WMBW-WH'!#REF!&REPT(\" \",S$6),S$6)","v":{"$error":"#REF!"}},{"$f":"LEFT('WMBW-WH'!#REF!&REPT(\" \",T$6),T$6)","v":{"$error":"#REF!"}},{"$f":"LEFT('WMBW-WH'!#REF!&REPT(\" \",U$6),U$6)","v":{"$error":"#REF!"}},{"$f":"LEFT('WMBW-WH'!#REF!&REPT(\" \",V$6),V$6)","v":{"$error":"#REF!"}},{"$f":"LEFT('WMBW-WH'!#REF!&REPT(\" \",W$6),W$6)","v":{"$error":"#REF!"}},{"$f":"LEFT('WMBW-WH'!#REF!&REPT(\" \",X$6),X$6)","v":{"$error":"#REF!"}},{"$f":"LEFT('WMBW-WH'!#REF!&REPT(\" \",Y$6),Y$6)","v":{"$error":"#REF!"}},{"$f":"LEFT('WMBW-WH'!#REF!&REPT(\" \",Z$6),Z$6)","v":{"$error":"#REF!"}},{"$f":"LEFT('WMBW-WH'!#REF!&REPT(\" \",AA$6),AA$6)","v":{"$error":"#REF!"}},{"$f":"LEFT('WMBW-WH'!#REF!&REPT(\" \",AB$6),AB$6)","v":{"$error":"#REF!"}},{"$f":"LEFT('WMBW-WH'!#REF!&REPT(\" \",AC$6),AC$6)","v":{"$error":"#REF!"}},{"$f":"LEFT('WMBW-WH'!#REF!&REPT(\" \",AD$6),AD$6)","v":{"$error":"#REF!"}},{"$f":"LEFT('WMBW-WH'!#REF!&REPT(\" \",AE$6),AE$6)","v":{"$error":"#REF!"}},null,null,{"$error":"#REF!"},{"$error":"#REF!"},"ORO 202101WMBWPT1004021A    20210107                                   188665B                            55533                                      FORT COLLINS                                                                         2351 BUSCH DR                                               FORT COLLINS        CO80524USMB.Case                                 BUD LIGHT                                                                            24                                 24        16      OZ5                     ",525,{"$f":"INDEX(AN33:UX33,MATCH(TRUE,INDEX((AN33:UX33<>\"\"),0),0))","v":{"$error":"#N/A"}},{"$error":"#REF!"},{"$error":"#REF!"},{"$f":"IF(MID($AH33,AO$12,1)=MID($AJ33,AO$12,1),\"\",AO32)","v":{"$error":"#REF!"}},{"$error":"#REF!"},{"$error":"#REF!"},{"$error":"#REF!"},{"$error":"#REF!"},{"$error":"#REF!"},{"$error":"#REF!"},{"$error":"#REF!"},{"$error":"#REF!"},{"$error":"#REF!"},{"$error":"#REF!"},{"$error":"#REF!"},{"$error":"#REF!"},{"$error":"#REF!"},{"$error":"#REF!"},{"$error":"#REF!"},{"$error":"#REF!"},{"$error":"#REF!"},{"$error":"#REF!"},{"$error":"#REF!"},{"$error":"#REF!"},{"$error":"#REF!"},{"$error":"#REF!"},{"$error":"#REF!"},{"$error":"#REF!"},{"$error":"#REF!"},{"$error":"#REF!"},{"$error":"#REF!"},{"$error":"#REF!"},{"$error":"#REF!"},{"$error":"#REF!"},{"$error":"#REF!"},{"$error":"#REF!"},{"$error":"#REF!"},{"$error":"#REF!"},{"$error":"#REF!"},{"$error":"#REF!"},{"$error":"#REF!"},{"$error":"#REF!"},{"$error":"#REF!"},{"$error":"#REF!"},{"$error":"#REF!"},{"$error":"#REF!"},{"$error":"#REF!"},{"$error":"#REF!"},{"$error":"#REF!"},{"$error":"#REF!"},{"$error":"#REF!"},{"$error":"#REF!"},{"$error":"#REF!"},{"$error":"#REF!"},{"$error":"#REF!"},{"$error":"#REF!"},{"$error":"#REF!"},{"$error":"#REF!"},{"$error":"#REF!"},{"$error":"#REF!"},{"$error":"#REF!"},{"$error":"#REF!"},{"$error":"#REF!"},{"$error":"#REF!"},{"$error":"#REF!"},{"$error":"#REF!"},{"$error":"#REF!"},{"$f":"IF(MID($AH33,DA$12,1)=MID($AJ33,DA$12,1),\"\",DA32)","v":{"$error":"#REF!"}},{"$error":"#REF!"},{"$error":"#REF!"},{"$error":"#REF!"},{"$error":"#REF!"},{"$error":"#REF!"},{"$error":"#REF!"},{"$error":"#REF!"},{"$error":"#REF!"},{"$error":"#REF!"},{"$error":"#REF!"},{"$error":"#REF!"},{"$error":"#REF!"},{"$error":"#REF!"},{"$error":"#REF!"},{"$error":"#REF!"},{"$error":"#REF!"},{"$error":"#REF!"},{"$error":"#REF!"},{"$error":"#REF!"},{"$error":"#REF!"},{"$error":"#REF!"},{"$error":"#REF!"},{"$error":"#REF!"},{"$error":"#REF!"},{"$error":"#REF!"},{"$error":"#REF!"},{"$error":"#REF!"},{"$error":"#REF!"},{"$error":"#REF!"},{"$error":"#REF!"},{"$error":"#REF!"},{"$error":"#REF!"},{"$error":"#REF!"},{"$error":"#REF!"},{"$error":"#REF!"},{"$error":"#REF!"},{"$error":"#REF!"},{"$error":"#REF!"},{"$error":"#REF!"},{"$error":"#REF!"},{"$error":"#REF!"},{"$error":"#REF!"},{"$error":"#REF!"},{"$error":"#REF!"},{"$error":"#REF!"},{"$error":"#REF!"},{"$error":"#REF!"},{"$error":"#REF!"},{"$error":"#REF!"},{"$error":"#REF!"},{"$error":"#REF!"},{"$error":"#REF!"},{"$error":"#REF!"},{"$error":"#REF!"},{"$error":"#REF!"},{"$error":"#REF!"},{"$error":"#REF!"},{"$error":"#REF!"},{"$error":"#REF!"},{"$error":"#REF!"},{"$error":"#REF!"},{"$error":"#REF!"},{"$error":"#REF!"},{"$f":"IF(MID($AH33,FM$12,1)=MID($AJ33,FM$12,1),\"\",FM32)","v":{"$error":"#REF!"}},{"$error":"#REF!"},{"$error":"#REF!"},{"$error":"#REF!"},{"$error":"#REF!"},{"$error":"#REF!"},{"$error":"#REF!"},{"$error":"#REF!"},{"$error":"#REF!"},{"$error":"#REF!"},{"$error":"#REF!"},{"$error":"#REF!"},{"$error":"#REF!"},{"$error":"#REF!"},{"$error":"#REF!"},{"$error":"#REF!"},{"$error":"#REF!"},{"$error":"#REF!"},{"$error":"#REF!"},{"$error":"#REF!"},{"$error":"#REF!"},{"$error":"#REF!"},{"$error":"#REF!"},{"$error":"#REF!"},{"$error":"#REF!"},{"$error":"#REF!"},{"$error":"#REF!"},{"$error":"#REF!"},{"$error":"#REF!"},{"$error":"#REF!"},{"$error":"#REF!"},{"$error":"#REF!"},{"$error":"#REF!"},{"$error":"#REF!"},{"$error":"#REF!"},{"$error":"#REF!"},{"$error":"#REF!"},{"$error":"#REF!"},{"$error":"#REF!"},{"$error":"#REF!"},{"$error":"#REF!"},{"$error":"#REF!"},{"$error":"#REF!"},{"$error":"#REF!"},{"$error":"#REF!"},{"$error":"#REF!"},{"$error":"#REF!"},{"$error":"#REF!"},{"$error":"#REF!"},{"$error":"#REF!"},{"$error":"#REF!"},{"$error":"#REF!"},{"$error":"#REF!"},{"$error":"#REF!"},{"$error":"#REF!"},{"$error":"#REF!"},{"$error":"#REF!"},{"$error":"#REF!"},{"$error":"#REF!"},{"$error":"#REF!"},{"$error":"#REF!"},{"$error":"#REF!"},{"$error":"#REF!"},{"$error":"#REF!"},{"$f":"IF(MID($AH33,HY$12,1)=MID($AJ33,HY$12,1),\"\",HY32)","v":{"$error":"#REF!"}},{"$error":"#REF!"},{"$error":"#REF!"},{"$error":"#REF!"},{"$error":"#REF!"},{"$error":"#REF!"},{"$error":"#REF!"},{"$error":"#REF!"},{"$error":"#REF!"},{"$error":"#REF!"},{"$error":"#REF!"},{"$error":"#REF!"},{"$error":"#REF!"},{"$error":"#REF!"},{"$error":"#REF!"},{"$error":"#REF!"},{"$error":"#REF!"},{"$error":"#REF!"},{"$error":"#REF!"},{"$error":"#REF!"},{"$error":"#REF!"},{"$error":"#REF!"},{"$error":"#REF!"},{"$error":"#REF!"},{"$error":"#REF!"},{"$error":"#REF!"},{"$error":"#REF!"},{"$error":"#REF!"},{"$error":"#REF!"},{"$error":"#REF!"},{"$error":"#REF!"},{"$error":"#REF!"},{"$error":"#REF!"},{"$error":"#REF!"},{"$error":"#REF!"},{"$error":"#REF!"},{"$error":"#REF!"},{"$error":"#REF!"},{"$error":"#REF!"},{"$error":"#REF!"},{"$error":"#REF!"},{"$error":"#REF!"},{"$error":"#REF!"},{"$error":"#REF!"},{"$error":"#REF!"},{"$error":"#REF!"},{"$error":"#REF!"},{"$error":"#REF!"},{"$error":"#REF!"},{"$error":"#REF!"},{"$error":"#REF!"},{"$error":"#REF!"},{"$error":"#REF!"},{"$error":"#REF!"},{"$error":"#REF!"},{"$error":"#REF!"},{"$error":"#REF!"},{"$error":"#REF!"},{"$error":"#REF!"},{"$error":"#REF!"},{"$error":"#REF!"},{"$error":"#REF!"},{"$error":"#REF!"},{"$error":"#REF!"},{"$f":"IF(MID($AH33,KK$12,1)=MID($AJ33,KK$12,1),\"\",KK32)","v":{"$error":"#REF!"}},{"$error":"#REF!"},{"$error":"#REF!"},{"$error":"#REF!"},{"$error":"#REF!"},{"$error":"#REF!"},{"$error":"#REF!"},{"$error":"#REF!"},{"$error":"#REF!"},{"$error":"#REF!"},{"$error":"#REF!"},{"$error":"#REF!"},{"$error":"#REF!"},{"$error":"#REF!"},{"$error":"#REF!"},{"$error":"#REF!"},{"$error":"#REF!"},{"$error":"#REF!"},{"$error":"#REF!"},{"$error":"#REF!"},{"$error":"#REF!"},{"$error":"#REF!"},{"$error":"#REF!"},{"$error":"#REF!"},{"$error":"#REF!"},{"$error":"#REF!"},{"$error":"#REF!"},{"$error":"#REF!"},{"$error":"#REF!"},{"$error":"#REF!"},{"$error":"#REF!"},{"$error":"#REF!"},{"$error":"#REF!"},{"$error":"#REF!"},{"$error":"#REF!"},{"$error":"#REF!"},{"$error":"#REF!"},{"$error":"#REF!"},{"$error":"#REF!"},{"$error":"#REF!"},{"$error":"#REF!"},{"$error":"#REF!"},{"$error":"#REF!"},{"$error":"#REF!"},{"$error":"#REF!"},{"$error":"#REF!"},{"$error":"#REF!"},{"$error":"#REF!"},{"$error":"#REF!"},{"$error":"#REF!"},{"$error":"#REF!"},{"$error":"#REF!"},{"$error":"#REF!"},{"$error":"#REF!"},{"$error":"#REF!"},{"$error":"#REF!"},{"$error":"#REF!"},{"$error":"#REF!"},{"$error":"#REF!"},{"$error":"#REF!"},{"$error":"#REF!"},{"$error":"#REF!"},{"$error":"#REF!"},{"$error":"#REF!"},{"$f":"IF(MID($AH33,MW$12,1)=MID($AJ33,MW$12,1),\"\",MW32)","v":{"$error":"#REF!"}},{"$error":"#REF!"},{"$error":"#REF!"},{"$error":"#REF!"},{"$error":"#REF!"},{"$error":"#REF!"},{"$error":"#REF!"},{"$error":"#REF!"},{"$error":"#REF!"},{"$error":"#REF!"},{"$error":"#REF!"},{"$error":"#REF!"},{"$error":"#REF!"},{"$error":"#REF!"},{"$error":"#REF!"},{"$error":"#REF!"},{"$error":"#REF!"},{"$error":"#REF!"},{"$error":"#REF!"},{"$error":"#REF!"},{"$error":"#REF!"},{"$error":"#REF!"},{"$error":"#REF!"},{"$error":"#REF!"},{"$error":"#REF!"},{"$error":"#REF!"},{"$error":"#REF!"},{"$error":"#REF!"},{"$error":"#REF!"},{"$error":"#REF!"},{"$error":"#REF!"},{"$error":"#REF!"},{"$error":"#REF!"},{"$error":"#REF!"},{"$error":"#REF!"},{"$error":"#REF!"},{"$error":"#REF!"},{"$error":"#REF!"},{"$error":"#REF!"},{"$error":"#REF!"},{"$error":"#REF!"},{"$error":"#REF!"},{"$error":"#REF!"},{"$error":"#REF!"},{"$error":"#REF!"},{"$error":"#REF!"},{"$error":"#REF!"},{"$error":"#REF!"},{"$error":"#REF!"},{"$error":"#REF!"},{"$error":"#REF!"},{"$error":"#REF!"},{"$error":"#REF!"},{"$error":"#REF!"},{"$error":"#REF!"},{"$error":"#REF!"},{"$error":"#REF!"},{"$error":"#REF!"},{"$error":"#REF!"},{"$error":"#REF!"},{"$error":"#REF!"},{"$error":"#REF!"},{"$error":"#REF!"},{"$error":"#REF!"},{"$f":"IF(MID($AH33,PI$12,1)=MID($AJ33,PI$12,1),\"\",PI32)","v":{"$error":"#REF!"}},{"$error":"#REF!"},{"$error":"#REF!"},{"$error":"#REF!"},{"$error":"#REF!"},{"$error":"#REF!"},{"$error":"#REF!"},{"$error":"#REF!"},{"$error":"#REF!"},{"$error":"#REF!"},{"$error":"#REF!"},{"$error":"#REF!"},{"$error":"#REF!"},{"$error":"#REF!"},{"$error":"#REF!"},{"$error":"#REF!"},{"$error":"#REF!"},{"$error":"#REF!"},{"$error":"#REF!"},{"$error":"#REF!"},{"$error":"#REF!"},{"$error":"#REF!"},{"$error":"#REF!"},{"$error":"#REF!"},{"$error":"#REF!"},{"$error":"#REF!"},{"$error":"#REF!"},{"$error":"#REF!"},{"$error":"#REF!"},{"$error":"#REF!"},{"$error":"#REF!"},{"$error":"#REF!"},{"$error":"#REF!"},{"$error":"#REF!"},{"$error":"#REF!"},{"$error":"#REF!"},{"$error":"#REF!"},{"$error":"#REF!"},{"$error":"#REF!"},{"$error":"#REF!"},{"$error":"#REF!"},{"$error":"#REF!"},{"$error":"#REF!"},{"$error":"#REF!"},{"$error":"#REF!"},{"$error":"#REF!"},{"$error":"#REF!"},{"$error":"#REF!"},{"$error":"#REF!"},{"$error":"#REF!"},{"$error":"#REF!"},{"$error":"#REF!"},{"$error":"#REF!"},{"$error":"#REF!"},{"$error":"#REF!"},{"$error":"#REF!"},{"$error":"#REF!"},{"$error":"#REF!"},{"$error":"#REF!"},{"$error":"#REF!"},{"$error":"#REF!"},{"$error":"#REF!"},{"$error":"#REF!"},{"$error":"#REF!"},{"$f":"IF(MID($AH33,RU$12,1)=MID($AJ33,RU$12,1),\"\",RU32)","v":{"$error":"#REF!"}},{"$error":"#REF!"},{"$error":"#REF!"},{"$error":"#REF!"},{"$error":"#REF!"},{"$error":"#REF!"},{"$error":"#REF!"},{"$error":"#REF!"},{"$error":"#REF!"},{"$error":"#REF!"},{"$error":"#REF!"},{"$error":"#REF!"},{"$error":"#REF!"},{"$error":"#REF!"},{"$error":"#REF!"},{"$error":"#REF!"},{"$error":"#REF!"},{"$error":"#REF!"},{"$error":"#REF!"},{"$error":"#REF!"},{"$error":"#REF!"},{"$error":"#REF!"},{"$error":"#REF!"},{"$error":"#REF!"},{"$error":"#REF!"},{"$error":"#REF!"},{"$error":"#REF!"},{"$error":"#REF!"},{"$error":"#REF!"},{"$error":"#REF!"},{"$error":"#REF!"},{"$error":"#REF!"},{"$error":"#REF!"},{"$error":"#REF!"},{"$error":"#REF!"},{"$error":"#REF!"},{"$error":"#REF!"},{"$error":"#REF!"},{"$error":"#REF!"},{"$error":"#REF!"},{"$error":"#REF!"},{"$error":"#REF!"},{"$error":"#REF!"},{"$error":"#REF!"},{"$error":"#REF!"},{"$error":"#REF!"},{"$error":"#REF!"},{"$error":"#REF!"},{"$error":"#REF!"},{"$error":"#REF!"},{"$error":"#REF!"},{"$error":"#REF!"},{"$error":"#REF!"},{"$error":"#REF!"},{"$error":"#REF!"},{"$error":"#REF!"},{"$error":"#REF!"},{"$error":"#REF!"},{"$error":"#REF!"},{"$error":"#REF!"},{"$error":"#REF!"},{"$error":"#REF!"},{"$error":"#REF!"},{"$error":"#REF!"},{"$error":"#REF!"},{"$error":"#REF!"},{"$error":"#REF!"},{"$error":"#REF!"},{"$error":"#REF!"},{"$error":"#REF!"},{"$error":"#REF!"},{"$error":"#REF!"},{"$error":"#REF!"},{"$error":"#REF!"},{"$error":"#REF!"},{"$error":"#REF!"},{"$error":"#REF!"},{"$error":"#REF!"},{"$error":"#REF!"}]
["OR",{"$f":"LEFT('WMBW-WH'!#REF!&REPT(\" \",B$6),B$6)","v":{"$error":"#REF!"}},{"$f":"LEFT('WMBW-WH'!#REF!&REPT(\" \",C$6),C$6)","v":{"$error":"#REF!"}},{"$f":"LEFT('WMBW-WH'!#REF!&REPT(\" \",D$6),D$6)","v":{"$error":"#REF!"}},{"$f":"LEFT('WMBW-WH'!#REF!&REPT(\" \",E$6),E$6)","v":{"$error":"#REF!"}},{"$f":"LEFT('WMBW-WH'!#REF!&REPT(\" \",F$6),F$6)","v":{"$error":"#REF!"}},{"$f":"LEFT('WMBW-WH'!#REF!&REPT(\" \",G$6),G$6)","v":{"$error":"#REF!"}},{"$f":"LEFT('WMBW-WH'!#REF!&REPT(\" \",H$6),H$6)","v":{"$error":"#REF!"}},{"$f":"LEFT('WMBW-WH'!#REF!&REPT(\" \",I$6),I$6)","v":{"$error":"#REF!"}},{"$f":"LEFT('WMBW-WH'!#REF!&REPT(\" \",J$6),J$6)","v":{"$error":"#REF!"}},{"$f":"LEFT('WMBW-WH'!#REF!&REPT(\" \",K$6),K$6)","v":{"$error":"#REF!"}},{"$f":"LEFT('WMBW-WH'!#REF!&REPT(\" \",L$6),L$6)","v":{"$error":"#REF!"}},{"$f":"LEFT('WMBW-WH'!#REF!&REPT(\" \",M$6),M$6)","v":{"$error":"#REF!"}},{"$f":"LEFT('WMBW-WH'!#REF!&REPT(\" \",N$6),N$6)","v":{"$error":"#REF!"}},{"$f":"LEFT('WMBW-WH'!#REF!&REPT(\" \",O$6),O$6)","v":{"$error":"#REF!"}},{"$f":"LEFT('WMBW-WH'!#REF!&REPT(\" \",P$6),P$6)","v":{"$error":"#REF!"}},{"$f":"LEFT('WMBW-WH'!#REF!&REPT(\" \",Q$6),Q$6)","v":{"$error":"#REF!"}},{"$f":"LEFT('WMBW-WH'!#REF!&REPT(\" \",R$6),R$6)","v":{"$error":"#REF!"}},{"$f":"LEFT('WMBW-WH'!#REF!&REPT(\" \",S$6),S$6)","v":{"$error":"#REF!"}},{"$f":"LEFT('WMBW-WH'!#REF!&REPT(\" \",T$6),T$6)","v":{"$error":"#REF!"}},{"$f":"LEFT('WMBW-WH'!#REF!&REPT(\" \",U$6),U$6)","v":{"$error":"#REF!"}},{"$f":"LEFT('WMBW-WH'!#REF!&REPT(\" \",V$6),V$6)","v":{"$error":"#REF!"}},{"$f":"LEFT('WMBW-WH'!#REF!&REPT(\" \",W$6),W$6)","v":{"$error":"#REF!"}},{"$f":"LEFT('WMBW-WH'!#REF!&REPT(\" \",X$6),X$6)","v":{"$error":"#REF!"}},{"$f":"LEFT('WMBW-WH'!#REF!&REPT(\" \",Y$6),Y$6)","v":{"$error":"#REF!"}},{"$f":"LEFT('WMBW-WH'!#REF!&REPT(\" \",Z$6),Z$6)","v":{"$error":"#REF!"}},{"$f":"LEFT('WMBW-WH'!#REF!&REPT(\" \",AA$6),AA$6)","v":{"$error":"#REF!"}},{"$f":"LEFT('WMBW-WH'!#REF!&REPT(\" \",AB$6),AB$6)","v":{"$error":"#REF!"}},{"$f":"LEFT('WMBW-WH'!#REF!&REPT(\" \",AC$6),AC$6)","v":{"$error":"#REF!"}},{"$f":"LEFT('WMBW-WH'!#REF!&REPT(\" \",AD$6),AD$6)","v":{"$error":"#REF!"}},{"$f":"LEFT('WMBW-WH'!#REF!&REPT(\" \",AE$6),AE$6)","v":{"$error":"#REF!"}},null,null,{"$error":"#REF!"},{"$error":"#REF!"},"ORO 202101WMBWPT1004021A    20210107                                   188665B                            55533                                      FORT COLLINS                                                                         2351 BUSCH DR                                               FORT COLLINS        CO80524USMB.Case                                 BUD LIGHT LIME                                                                       33                                 24        12      OZ5                     ",525,{"$f":"INDEX(AN34:UX34,MATCH(TRUE,INDEX((AN34:UX34<>\"\"),0),0))","v":{"$error":"#N/A"}},{"$error":"#REF!"},{"$error":"#REF!"},{"$error":"#REF!"},{"$error":"#REF!"},{"$error":"#REF!"},{"$error":"#REF!"},{"$error":"#REF!"},{"$error":"#REF!"},{"$error":"#REF!"},{"$error":"#REF!"},{"$error":"#REF!"},{"$error":"#REF!"},{"$error":"#REF!"},{"$error":"#REF!"},{"$error":"#REF!"},{"$error":"#REF!"},{"$error":"#REF!"},{"$error":"#REF!"},{"$error":"#REF!"},{"$error":"#REF!"},{"$error":"#REF!"},{"$error":"#REF!"},{"$error":"#REF!"},{"$error":"#REF!"},{"$error":"#REF!"},{"$error":"#REF!"},{"$error":"#REF!"},{"$error":"#REF!"},{"$error":"#REF!"},{"$error":"#REF!"},{"$error":"#REF!"},{"$error":"#REF!"},{"$error":"#REF!"},{"$error":"#REF!"},{"$error":"#REF!"},{"$error":"#REF!"},{"$error":"#REF!"},{"$error":"#REF!"},{"$error":"#REF!"},{"$error":"#REF!"},{"$error":"#REF!"},{"$error":"#REF!"},{"$error":"#REF!"},{"$error":"#REF!"},{"$error":"#REF!"},{"$error":"#REF!"},{"$error":"#REF!"},{"$error":"#REF!"},{"$error":"#REF!"},{"$error":"#REF!"},{"$error":"#REF!"},{"$error":"#REF!"},{"$error":"#REF!"},{"$error":"#REF!"},{"$error":"#REF!"},{"$error":"#REF!"},{"$error":"#REF!"},{"$error":"#REF!"},{"$error":"#REF!"},{"$error":"#REF!"},{"$error":"#REF!"},{"$error":"#REF!"},{"$error":"#REF!"},{"$error":"#REF!"},{"$error":"#REF!"},{"$error":"#REF!"},{"$error":"#REF!"},{"$error":"#REF!"},{"$error":"#REF!"},{"$error":"#REF!"},{"$error":"#REF!"},{"$error":"#REF!"},{"$error":"#REF!"},{"$error":"#REF!"},{"$error":"#REF!"},{"$error":"#REF!"},{"$error":"#REF!"},{"$error":"#REF!"},{"$error":"#REF!"},{"$error":"#REF!"},{"$error":"#REF!"},{"$error":"#REF!"},{"$error":"#REF!"},{"$error":"#REF!"},{"$error":"#REF!"},{"$error":"#REF!"},{"$error":"#REF!"},{"$error":"#REF!"},{"$error":"#REF!"},{"$error":"#REF!"},{"$error":"#REF!"},{"$error":"#REF!"},{"$error":"#REF!"},{"$error":"#REF!"},{"$error":"#REF!"},{"$error":"#REF!"},{"$error":"#REF!"},{"$error":"#REF!"},{"$error":"#REF!"},{"$error":"#REF!"},{"$error":"#REF!"},{"$error":"#REF!"},{"$error":"#REF!"},{"$error":"#REF!"},{"$error":"#REF!"},{"$error":"#REF!"},{"$error":"#REF!"},{"$error":"#REF!"},{"$error":"#REF!"},{"$error":"#REF!"},{"$error":"#REF!"},{"$error":"#REF!"},{"$error":"#REF!"},{"$error":"#REF!"},{"$error":"#REF!"},{"$error":"#REF!"},{"$error":"#REF!"},{"$error":"#REF!"},{"$error":"#REF!"},{"$error":"#REF!"},{"$error":"#REF!"},{"$error":"#REF!"},{"$error":"#REF!"},{"$error":"#REF!"},{"$error":"#REF!"},{"$error":"#REF!"},{"$error":"#REF!"},{"$error":"#REF!"},{"$error":"#REF!"},{"$error":"#REF!"},{"$error":"#REF!"},{"$error":"#REF!"},{"$error":"#REF!"},{"$error":"#REF!"},{"$error":"#REF!"},{"$error":"#REF!"},{"$error":"#REF!"},{"$error":"#REF!"},{"$error":"#REF!"},{"$error":"#REF!"},{"$error":"#REF!"},{"$error":"#REF!"},{"$error":"#REF!"},{"$error":"#REF!"},{"$error":"#REF!"},{"$error":"#REF!"},{"$error":"#REF!"},{"$error":"#REF!"},{"$error":"#REF!"},{"$error":"#REF!"},{"$error":"#REF!"},{"$error":"#REF!"},{"$error":"#REF!"},{"$error":"#REF!"},{"$error":"#REF!"},{"$error":"#REF!"},{"$error":"#REF!"},{"$error":"#REF!"},{"$error":"#REF!"},{"$error":"#REF!"},{"$error":"#REF!"},{"$error":"#REF!"},{"$error":"#REF!"},{"$error":"#REF!"},{"$error":"#REF!"},{"$error":"#REF!"},{"$error":"#REF!"},{"$error":"#REF!"},{"$error":"#REF!"},{"$error":"#REF!"},{"$error":"#REF!"},{"$error":"#REF!"},{"$error":"#REF!"},{"$error":"#REF!"},{"$error":"#REF!"},{"$error":"#REF!"},{"$error":"#REF!"},{"$error":"#REF!"},{"$error":"#REF!"},{"$error":"#REF!"},{"$error":"#REF!"},{"$error":"#REF!"},{"$error":"#REF!"},{"$error":"#REF!"},{"$error":"#REF!"},{"$error":"#REF!"},{"$error":"#REF!"},{"$error":"#REF!"},{"$error":"#REF!"},{"$error":"#REF!"},{"$error":"#REF!"},{"$error":"#REF!"},{"$error":"#REF!"},{"$error":"#REF!"},{"$error":"#REF!"},{"$error":"#REF!"},{"$error":"#REF!"},{"$error":"#REF!"},{"$error":"#REF!"},{"$error":"#REF!"},{"$error":"#REF!"},{"$error":"#REF!"},{"$error":"#REF!"},{"$error":"#REF!"},{"$error":"#REF!"},{"$error":"#REF!"},{"$error":"#REF!"},{"$error":"#REF!"},{"$error":"#REF!"},{"$error":"#REF!"},{"$error":"#REF!"},{"$error":"#REF!"},{"$error":"#REF!"},{"$error":"#REF!"},{"$error":"#REF!"},{"$error":"#REF!"},{"$error":"#REF!"},{"$error":"#REF!"},{"$error":"#REF!"},{"$error":"#REF!"},{"$error":"#REF!"},{"$error":"#REF!"},{"$error":"#REF!"},{"$error":"#REF!"},{"$error":"#REF!"},{"$error":"#REF!"},{"$error":"#REF!"},{"$error":"#REF!"},{"$error":"#REF!"},{"$error":"#REF!"},{"$error":"#REF!"},{"$error":"#REF!"},{"$error":"#REF!"},{"$error":"#REF!"},{"$error":"#REF!"},{"$error":"#REF!"},{"$error":"#REF!"},{"$error":"#REF!"},{"$error":"#REF!"},{"$error":"#REF!"},{"$error":"#REF!"},{"$error":"#REF!"},{"$error":"#REF!"},{"$error":"#REF!"},{"$error":"#REF!"},{"$error":"#REF!"},{"$error":"#REF!"},{"$error":"#REF!"},{"$error":"#REF!"},{"$error":"#REF!"},{"$error":"#REF!"},{"$error":"#REF!"},{"$error":"#REF!"},{"$error":"#REF!"},{"$error":"#REF!"},{"$error":"#REF!"},{"$error":"#REF!"},{"$error":"#REF!"},{"$error":"#REF!"},{"$error":"#REF!"},{"$error":"#REF!"},{"$error":"#REF!"},{"$error":"#REF!"},{"$error":"#REF!"},{"$error":"#REF!"},{"$error":"#REF!"},{"$error":"#REF!"},{"$error":"#REF!"},{"$error":"#REF!"},{"$error":"#REF!"},{"$error":"#REF!"},{"$error":"#REF!"},{"$error":"#REF!"},{"$error":"#REF!"},{"$error":"#REF!"},{"$error":"#REF!"},{"$error":"#REF!"},{"$error":"#REF!"},{"$error":"#REF!"},{"$error":"#REF!"},{"$error":"#REF!"},{"$error":"#REF!"},{"$error":"#REF!"},{"$error":"#REF!"},{"$error":"#REF!"},{"$error":"#REF!"},{"$error":"#REF!"},{"$error":"#REF!"},{"$error":"#REF!"},{"$error":"#REF!"},{"$error":"#REF!"},{"$error":"#REF!"},{"$error":"#REF!"},{"$error":"#REF!"},{"$error":"#REF!"},{"$error":"#REF!"},{"$error":"#REF!"},{"$error":"#REF!"},{"$error":"#REF!"},{"$error":"#REF!"},{"$error":"#REF!"},{"$error":"#REF!"},{"$error":"#REF!"},{"$error":"#REF!"},{"$error":"#REF!"},{"$error":"#REF!"},{"$error":"#REF!"},{"$error":"#REF!"},{"$error":"#REF!"},{"$error":"#REF!"},{"$error":"#REF!"},{"$error":"#REF!"},{"$error":"#REF!"},{"$error":"#REF!"},{"$error":"#REF!"},{"$error":"#REF!"},{"$error":"#REF!"},{"$error":"#REF!"},{"$error":"#REF!"},{"$error":"#REF!"},{"$error":"#REF!"},{"$error":"#REF!"},{"$error":"#REF!"},{"$error":"#REF!"},{"$error":"#REF!"},{"$error":"#REF!"},{"$error":"#REF!"},{"$error":"#REF!"},{"$error":"#REF!"},{"$error":"#REF!"},{"$error":"#REF!"},{"$error":"#REF!"},{"$error":"#REF!"},{"$error":"#REF!"},{"$error":"#REF!"},{"$error":"#REF!"},{"$error":"#REF!"},{"$error":"#REF!"},{"$error":"#REF!"},{"$error":"#REF!"},{"$error":"#REF!"},{"$error":"#REF!"},{"$error":"#REF!"},{"$error":"#REF!"},{"$error":"#REF!"},{"$error":"#REF!"},{"$error":"#REF!"},{"$error":"#REF!"},{"$error":"#REF!"},{"$error":"#REF!"},{"$error":"#REF!"},{"$error":"#REF!"},{"$error":"#REF!"},{"$error":"#REF!"},{"$error":"#REF!"},{"$error":"#REF!"},{"$error":"#REF!"},{"$error":"#REF!"},{"$error":"#REF!"},{"$error":"#REF!"},{"$error":"#REF!"},{"$error":"#REF!"},{"$error":"#REF!"},{"$error":"#REF!"},{"$error":"#REF!"},{"$error":"#REF!"},{"$error":"#REF!"},{"$error":"#REF!"},{"$error":"#REF!"},{"$error":"#REF!"},{"$error":"#REF!"},{"$error":"#REF!"},{"$error":"#REF!"},{"$error":"#REF!"},{"$error":"#REF!"},{"$error":"#REF!"},{"$error":"#REF!"},{"$error":"#REF!"},{"$error":"#REF!"},{"$error":"#REF!"},{"$error":"#REF!"},{"$error":"#REF!"},{"$error":"#REF!"},{"$error":"#REF!"},{"$error":"#REF!"},{"$error":"#REF!"},{"$error":"#REF!"},{"$error":"#REF!"},{"$error":"#REF!"},{"$error":"#REF!"},{"$error":"#REF!"},{"$error":"#REF!"},{"$error":"#REF!"},{"$error":"#REF!"},{"$error":"#REF!"},{"$error":"#REF!"},{"$error":"#REF!"},{"$error":"#REF!"},{"$error":"#REF!"},{"$error":"#REF!"},{"$error":"#REF!"},{"$error":"#REF!"},{"$error":"#REF!"},{"$error":"#REF!"},{"$error":"#REF!"},{"$error":"#REF!"},{"$error":"#REF!"},{"$error":"#REF!"},{"$error":"#REF!"},{"$error":"#REF!"},{"$error":"#REF!"},{"$error":"#REF!"},{"$error":"#REF!"},{"$error":"#REF!"},{"$error":"#REF!"},{"$error":"#REF!"},{"$error":"#REF!"},{"$error":"#REF!"},{"$error":"#REF!"},{"$error":"#REF!"},{"$error":"#REF!"},{"$error":"#REF!"},{"$error":"#REF!"},{"$error":"#REF!"},{"$error":"#REF!"},{"$error":"#REF!"},{"$error":"#REF!"},{"$error":"#REF!"},{"$error":"#REF!"},{"$error":"#REF!"},{"$error":"#REF!"},{"$error":"#REF!"},{"$error":"#REF!"},{"$error":"#REF!"},{"$error":"#REF!"},{"$error":"#REF!"},{"$error":"#REF!"},{"$error":"#REF!"},{"$error":"#REF!"},{"$error":"#REF!"},{"$error":"#REF!"},{"$error":"#REF!"},{"$error":"#REF!"},{"$error":"#REF!"},{"$error":"#REF!"},{"$error":"#REF!"},{"$error":"#REF!"},{"$error":"#REF!"},{"$error":"#REF!"},{"$error":"#REF!"},{"$error":"#REF!"},{"$error":"#REF!"},{"$error":"#REF!"},{"$error":"#REF!"},{"$error":"#REF!"},{"$error":"#REF!"},{"$error":"#REF!"},{"$error":"#REF!"},{"$error":"#REF!"},{"$error":"#REF!"},{"$error":"#REF!"},{"$error":"#REF!"},{"$error":"#REF!"},{"$error":"#REF!"},{"$error":"#REF!"},{"$error":"#REF!"},{"$error":"#REF!"},{"$error":"#REF!"},{"$error":"#REF!"},{"$error":"#REF!"},{"$error":"#REF!"},{"$error":"#REF!"},{"$error":"#REF!"},{"$error":"#REF!"},{"$error":"#REF!"},{"$error":"#REF!"},{"$error":"#REF!"},{"$error":"#REF!"},{"$error":"#REF!"},{"$error":"#REF!"},{"$error":"#REF!"},{"$error":"#REF!"},{"$error":"#REF!"},{"$error":"#REF!"},{"$error":"#REF!"},{"$error":"#REF!"},{"$error":"#REF!"},{"$error":"#REF!"},{"$error":"#REF!"},{"$error":"#REF!"},{"$error":"#REF!"},{"$error":"#REF!"},{"$error":"#REF!"},{"$error":"#REF!"},{"$error":"#REF!"},{"$error":"#REF!"},{"$error":"#REF!"},{"$error":"#REF!"},{"$error":"#REF!"},{"$error":"#REF!"},{"$error":"#REF!"},{"$error":"#REF!"},{"$error":"#REF!"},{"$error":"#REF!"},{"$error":"#REF!"},{"$error":"#REF!"},{"$error":"#REF!"},{"$error":"#REF!"},{"$error":"#REF!"},{"$error":"#REF!"},{"$error":"#REF!"},{"$error":"#REF!"},{"$error":"#REF!"},{"$error":"#REF!"},{"$error":"#REF!"},{"$error":"#REF!"},{"$error":"#REF!"},{"$error":"#REF!"},{"$error":"#REF!"},{"$error":"#REF!"},{"$error":"#REF!"},{"$error":"#REF!"},{"$error":"#REF!"},{"$error":"#REF!"},{"$error":"#REF!"},{"$error":"#REF!"},{"$error":"#REF!"},{"$error":"#REF!"},{"$error":"#REF!"}]
["OR",{"$f":"LEFT('WMBW-WH'!#REF!&REPT(\" \",B$6),B$6)","v":{"$error":"#REF!"}},{"$f":"LEFT('WMBW-WH'!#REF!&REPT(\" \",C$6),C$6)","v":{"$error":"#REF!"}},{"$f":"LEFT('WMBW-WH'!#REF!&REPT(\" \",D$6),D$6)","v":{"$error":"#REF!"}},{"$f":"LEFT('WMBW-WH'!#REF!&REPT(\" \",E$6),E$6)","v":{"$error":"#REF!"}},{"$f":"LEFT('WMBW-WH'!#REF!&REPT(\" \",F$6),F$6)","v":{"$error":"#REF!"}},{"$f":"LEFT('WMBW-WH'!#REF!&REPT(\" \",G$6),G$6)","v":{"$error":"#REF!"}},{"$f":"LEFT('WMBW-WH'!#REF!&REPT(\" \",H$6),H$6)","v":{"$error":"#REF!"}},{"$f":"LEFT('WMBW-WH'!#REF!&REPT(\" \",I$6),I$6)","v":{"$error":"#REF!"}},{"$f":"LEFT('WMBW-WH'!#REF!&REPT(\" \",J$6),J$6)","v":{"$error":"#REF!"}},{"$f":"LEFT('WMBW-WH'!#REF!&REPT(\" \",K$6),K$6)","v":{"$error":"#REF!"}},{"$f":"LEFT('WMBW-WH'!#REF!&REPT(\" \",L$6),L$6)","v":{"$error":"#REF!"}},{"$f":"LEFT('WMBW-WH'!#REF!&REPT(\" \",M$6),M$6)","v":{"$error":"#REF!"}},{"$f":"LEFT('WMBW-WH'!#REF!&REPT(\" \",N$6),N$6)","v":{"$error":"#REF!"}},{"$f":"LEFT('WMBW-WH'!#REF!&REPT(\" \",O$6),O$6)","v":{"$error":"#REF!"}},{"$f":"LEFT('WMBW-WH'!#REF!&REPT(\" \",P$6),P$6)","v":{"$error":"#REF!"}},{"$f":"LEFT('WMBW-WH'!#REF!&REPT(\" \",Q$6),Q$6)","v":{"$error":"#REF!"}},{"$f":"LEFT('WMBW-WH'!#REF!&REPT(\" \",R$6),R$6)","v":{"$error":"#REF!"}},{"$f":"LEFT('WMBW-WH'!#REF!&REPT(\" \",S$6),S$6)","v":{"$error":"#REF!"}},{"$f":"LEFT('WMBW-WH'!#REF!&REPT(\" \",T$6),T$6)","v":{"$error":"#REF!"}},{"$f":"LEFT('WMBW-WH'!#REF!&REPT(\" \",U$6),U$6)","v":{"$error":"#REF!"}},{"$f":"LEFT('WMBW-WH'!#REF!&REPT(\" \",V$6),V$6)","v":{"$error":"#REF!"}},{"$f":"LEFT('WMBW-WH'!#REF!&REPT(\" \",W$6),W$6)","v":{"$error":"#REF!"}},{"$f":"LEFT('WMBW-WH'!#REF!&REPT(\" \",X$6),X$6)","v":{"$error":"#REF!"}},{"$f":"LEFT('WMBW-WH'!#REF!&REPT(\" \",Y$6),Y$6)","v":{"$error":"#REF!"}},{"$f":"LEFT('WMBW-WH'!#REF!&REPT(\" \",Z$6),Z$6)","v":{"$error":"#REF!"}},{"$f":"LEFT('WMBW-WH'!#REF!&REPT(\" \",AA$6),AA$6)","v":{"$error":"#REF!"}},{"$f":"LEFT('WMBW-WH'!#REF!&REPT(\" \",AB$6),AB$6)","v":{"$error":"#REF!"}},{"$f":"LEFT('WMBW-WH'!#REF!&REPT(\" \",AC$6),AC$6)","v":{"$error":"#REF!"}},{"$f":"LEFT('WMBW-WH'!#REF!&REPT(\" \",AD$6),AD$6)","v":{"$error":"#REF!"}},{"$f":"LEFT('WMBW-WH'!#REF!&REPT(\" \",AE$6),AE$6)","v":{"$error":"#REF!"}},null,null,{"$error":"#REF!"},{"$error":"#REF!"},"OR",2,{"$f":"INDEX(AN35:UX35,MATCH(TRUE,INDEX((AN35:UX35<>\"\"),0),0))","v":{"$error":"#N/A"}},{"$error":"#REF!"},{"$error":"#REF!"},{"$error":"#REF!"},{"$error":"#REF!"},{"$error":"#REF!"},{"$error":"#REF!"},{"$error":"#REF!"},{"$error":"#REF!"},{"$error":"#REF!"},{"$error":"#REF!"},{"$error":"#REF!"},{"$error":"#REF!"},{"$error":"#REF!"},{"$error":"#REF!"},{"$error":"#REF!"},{"$error":"#REF!"},{"$error":"#REF!"},{"$error":"#REF!"},{"$error":"#REF!"},{"$error":"#REF!"},{"$error":"#REF!"},{"$error":"#REF!"},{"$error":"#REF!"},{"$error":"#REF!"},{"$error":"#REF!"},{"$error":"#REF!"},{"$error":"#REF!"},{"$error":"#REF!"},{"$error":"#REF!"},{"$error":"#REF!"},{"$error":"#REF!"},{"$error":"#REF!"},{"$error":"#REF!"},{"$error":"#REF!"},{"$error":"#REF!"},{"$error":"#REF!"},{"$error":"#REF!"},{"$error":"#REF!"},{"$error":"#REF!"},{"$error":"#REF!"},{"$error":"#REF!"},{"$error":"#REF!"},{"$error":"#REF!"},{"$error":"#REF!"},{"$error":"#REF!"},{"$error":"#REF!"},{"$error":"#REF!"},{"$error":"#REF!"},{"$error":"#REF!"},{"$error":"#REF!"},{"$error":"#REF!"},{"$error":"#REF!"},{"$error":"#REF!"},{"$error":"#REF!"},{"$error":"#REF!"},{"$error":"#REF!"},{"$error":"#REF!"},{"$error":"#REF!"},{"$error":"#REF!"},{"$error":"#REF!"},{"$error":"#REF!"},{"$error":"#REF!"},{"$error":"#REF!"},{"$error":"#REF!"},{"$error":"#REF!"},{"$error":"#REF!"},{"$error":"#REF!"},{"$error":"#REF!"},{"$error":"#REF!"},{"$error":"#REF!"},{"$error":"#REF!"},{"$error":"#REF!"},{"$error":"#REF!"},{"$error":"#REF!"},{"$error":"#REF!"},{"$error":"#REF!"},{"$error":"#REF!"},{"$error":"#REF!"},{"$error":"#REF!"},{"$error":"#REF!"},{"$error":"#REF!"},{"$error":"#REF!"},{"$error":"#REF!"},{"$error":"#REF!"},{"$error":"#REF!"},{"$error":"#REF!"},{"$error":"#REF!"},{"$error":"#REF!"},{"$error":"#REF!"},{"$error":"#REF!"},{"$error":"#REF!"},{"$error":"#REF!"},{"$error":"#REF!"},{"$error":"#REF!"},{"$error":"#REF!"},{"$error":"#REF!"},{"$error":"#REF!"},{"$error":"#REF!"},{"$error":"#REF!"},{"$error":"#REF!"},{"$error":"#REF!"},{"$error":"#REF!"},{"$error":"#REF!"},{"$error":"#REF!"},{"$error":"#REF!"},{"$error":"#REF!"},{"$error":"#REF!"},{"$error":"#REF!"},{"$error":"#REF!"},{"$error":"#REF!"},{"$error":"#REF!"},{"$error":"#REF!"},{"$error":"#REF!"},{"$error":"#REF!"},{"$error":"#REF!"},{"$error":"#REF!"},{"$error":"#REF!"},{"$error":"#REF!"},{"$error":"#REF!"},{"$error":"#REF!"},{"$error":"#REF!"},{"$error":"#REF!"},{"$error":"#REF!"},{"$error":"#REF!"},{"$error":"#REF!"},{"$error":"#REF!"},{"$error":"#REF!"},{"$error":"#REF!"},{"$error":"#REF!"},{"$error":"#REF!"},{"$error":"#REF!"},{"$error":"#REF!"},{"$error":"#REF!"},{"$error":"#REF!"},{"$error":"#REF!"},{"$error":"#REF!"},{"$error":"#REF!"},{"$error":"#REF!"},{"$error":"#REF!"},{"$error":"#REF!"},{"$error":"#REF!"},{"$error":"#REF!"},{"$error":"#REF!"},{"$error":"#REF!"},{"$error":"#REF!"},{"$error":"#REF!"},{"$error":"#REF!"},{"$error":"#REF!"},{"$error":"#REF!"},{"$error":"#REF!"},{"$error":"#REF!"},{"$error":"#REF!"},{"$error":"#REF!"},{"$error":"#REF!"},{"$error":"#REF!"},{"$error":"#REF!"},{"$error":"#REF!"},{"$error":"#REF!"},{"$error":"#REF!"},{"$error":"#REF!"},{"$error":"#REF!"},{"$error":"#REF!"},{"$error":"#REF!"},{"$error":"#REF!"},{"$error":"#REF!"},{"$error":"#REF!"},{"$error":"#REF!"},{"$error":"#REF!"},{"$error":"#REF!"},{"$error":"#REF!"},{"$error":"#REF!"},{"$error":"#REF!"},{"$error":"#REF!"},{"$error":"#REF!"},{"$error":"#REF!"},{"$error":"#REF!"},{"$error":"#REF!"},{"$error":"#REF!"},{"$error":"#REF!"},{"$error":"#REF!"},{"$error":"#REF!"},{"$error":"#REF!"},{"$error":"#REF!"},{"$error":"#REF!"},{"$error":"#REF!"},{"$error":"#REF!"},{"$error":"#REF!"},{"$error":"#REF!"},{"$error":"#REF!"},{"$error":"#REF!"},{"$error":"#REF!"},{"$error":"#REF!"},{"$error":"#REF!"},{"$error":"#REF!"},{"$error":"#REF!"},{"$error":"#REF!"},{"$error":"#REF!"},{"$error":"#REF!"},{"$error":"#REF!"},{"$error":"#REF!"},{"$error":"#REF!"},{"$error":"#REF!"},{"$error":"#REF!"},{"$error":"#REF!"},{"$error":"#REF!"},{"$error":"#REF!"},{"$error":"#REF!"},{"$error":"#REF!"},{"$error":"#REF!"},{"$error":"#REF!"},{"$error":"#REF!"},{"$error":"#REF!"},{"$error":"#REF!"},{"$error":"#REF!"},{"$error":"#REF!"},{"$error":"#REF!"},{"$error":"#REF!"},{"$error":"#REF!"},{"$error":"#REF!"},{"$error":"#REF!"},{"$error":"#REF!"},{"$error":"#REF!"},{"$error":"#REF!"},{"$error":"#REF!"},{"$error":"#REF!"},{"$error":"#REF!"},{"$error":"#REF!"},{"$error":"#REF!"},{"$error":"#REF!"},{"$error":"#REF!"},{"$error":"#REF!"},{"$error":"#REF!"},{"$error":"#REF!"},{"$error":"#REF!"},{"$error":"#REF!"},{"$error":"#REF!"},{"$error":"#REF!"},{"$error":"#REF!"},{"$error":"#REF!"},{"$error":"#REF!"},{"$error":"#REF!"},{"$error":"#REF!"},{"$error":"#REF!"},{"$error":"#REF!"},{"$error":"#REF!"},{"$error":"#REF!"},{"$error":"#REF!"},{"$error":"#REF!"},{"$error":"#REF!"},{"$error":"#REF!"},{"$error":"#REF!"},{"$error":"#REF!"},{"$error":"#REF!"},{"$error":"#REF!"},{"$error":"#REF!"},{"$error":"#REF!"},{"$error":"#REF!"},{"$error":"#REF!"},{"$error":"#REF!"},{"$error":"#REF!"},{"$error":"#REF!"},{"$error":"#REF!"},{"$error":"#REF!"},{"$error":"#REF!"},{"$error":"#REF!"},{"$error":"#REF!"},{"$error":"#REF!"},{"$error":"#REF!"},{"$error":"#REF!"},{"$error":"#REF!"},{"$error":"#REF!"},{"$error":"#REF!"},{"$error":"#REF!"},{"$error":"#REF!"},{"$error":"#REF!"},{"$error":"#REF!"},{"$error":"#REF!"},{"$error":"#REF!"},{"$error":"#REF!"},{"$error":"#REF!"},{"$error":"#REF!"},{"$error":"#REF!"},{"$error":"#REF!"},{"$error":"#REF!"},{"$error":"#REF!"},{"$error":"#REF!"},{"$error":"#REF!"},{"$error":"#REF!"},{"$error":"#REF!"},{"$error":"#REF!"},{"$error":"#REF!"},{"$error":"#REF!"},{"$error":"#REF!"},{"$error":"#REF!"},{"$error":"#REF!"},{"$error":"#REF!"},{"$error":"#REF!"},{"$error":"#REF!"},{"$error":"#REF!"},{"$error":"#REF!"},{"$error":"#REF!"},{"$error":"#REF!"},{"$error":"#REF!"},{"$error":"#REF!"},{"$error":"#REF!"},{"$error":"#REF!"},{"$error":"#REF!"},{"$error":"#REF!"},{"$error":"#REF!"},{"$error":"#REF!"},{"$error":"#REF!"},{"$error":"#REF!"},{"$error":"#REF!"},{"$error":"#REF!"},{"$error":"#REF!"},{"$error":"#REF!"},{"$error":"#REF!"},{"$error":"#REF!"},{"$error":"#REF!"},{"$error":"#REF!"},{"$error":"#REF!"},{"$error":"#REF!"},{"$error":"#REF!"},{"$error":"#REF!"},{"$error":"#REF!"},{"$error":"#REF!"},{"$error":"#REF!"},{"$error":"#REF!"},{"$error":"#REF!"},{"$error":"#REF!"},{"$error":"#REF!"},{"$error":"#REF!"},{"$error":"#REF!"},{"$error":"#REF!"},{"$error":"#REF!"},{"$error":"#REF!"},{"$error":"#REF!"},{"$error":"#REF!"},{"$error":"#REF!"},{"$error":"#REF!"},{"$error":"#REF!"},{"$error":"#REF!"},{"$error":"#REF!"},{"$error":"#REF!"},{"$error":"#REF!"},{"$error":"#REF!"},{"$error":"#REF!"},{"$error":"#REF!"},{"$error":"#REF!"},{"$error":"#REF!"},{"$error":"#REF!"},{"$error":"#REF!"},{"$error":"#REF!"},{"$error":"#REF!"},{"$error":"#REF!"},{"$error":"#REF!"},{"$error":"#REF!"},{"$error":"#REF!"},{"$error":"#REF!"},{"$error":"#REF!"},{"$error":"#REF!"},{"$error":"#REF!"},{"$error":"#REF!"},{"$error":"#REF!"},{"$error":"#REF!"},{"$error":"#REF!"},{"$error":"#REF!"},{"$error":"#REF!"},{"$error":"#REF!"},{"$error":"#REF!"},{"$error":"#REF!"},{"$error":"#REF!"},{"$error":"#REF!"},{"$error":"#REF!"},{"$error":"#REF!"},{"$error":"#REF!"},{"$error":"#REF!"},{"$error":"#REF!"},{"$error":"#REF!"},{"$error":"#REF!"},{"$error":"#REF!"},{"$error":"#REF!"},{"$error":"#REF!"},{"$error":"#REF!"},{"$error":"#REF!"},{"$error":"#REF!"},{"$error":"#REF!"},{"$error":"#REF!"},{"$error":"#REF!"},{"$error":"#REF!"},{"$error":"#REF!"},{"$error":"#REF!"},{"$error":"#REF!"},{"$error":"#REF!"},{"$error":"#REF!"},{"$error":"#REF!"},{"$error":"#REF!"},{"$error":"#REF!"},{"$error":"#REF!"},{"$error":"#REF!"},{"$error":"#REF!"},{"$error":"#REF!"},{"$error":"#REF!"},{"$error":"#REF!"},{"$error":"#REF!"},{"$error":"#REF!"},{"$error":"#REF!"},{"$error":"#REF!"},{"$error":"#REF!"},{"$error":"#REF!"},{"$error":"#REF!"},{"$error":"#REF!"},{"$error":"#REF!"},{"$error":"#REF!"},{"$error":"#REF!"},{"$error":"#REF!"},{"$error":"#REF!"},{"$error":"#REF!"},{"$error":"#REF!"},{"$error":"#REF!"},{"$error":"#REF!"},{"$error":"#REF!"},{"$error":"#REF!"},{"$error":"#REF!"},{"$error":"#REF!"},{"$error":"#REF!"},{"$error":"#REF!"},{"$error":"#REF!"},{"$error":"#REF!"},{"$error":"#REF!"},{"$error":"#REF!"},{"$error":"#REF!"},{"$error":"#REF!"},{"$error":"#REF!"},{"$error":"#REF!"},{"$error":"#REF!"},{"$error":"#REF!"},{"$error":"#REF!"},{"$error":"#REF!"},{"$error":"#REF!"},{"$error":"#REF!"},{"$error":"#REF!"},{"$error":"#REF!"},{"$error":"#REF!"},{"$error":"#REF!"},{"$error":"#REF!"},{"$error":"#REF!"},{"$error":"#REF!"},{"$error":"#REF!"},{"$error":"#REF!"},{"$error":"#REF!"},{"$error":"#REF!"},{"$error":"#REF!"},{"$error":"#REF!"},{"$error":"#REF!"},{"$error":"#REF!"},{"$error":"#REF!"},{"$error":"#REF!"},{"$error":"#REF!"},{"$error":"#REF!"},{"$error":"#REF!"},{"$error":"#REF!"},{"$error":"#REF!"},{"$error":"#REF!"},{"$error":"#REF!"},{"$error":"#REF!"},{"$error":"#REF!"},{"$error":"#REF!"},{"$error":"#REF!"},{"$error":"#REF!"},{"$error":"#REF!"},{"$error":"#REF!"},{"$error":"#REF!"},{"$error":"#REF!"},{"$error":"#REF!"},{"$error":"#REF!"},{"$error":"#REF!"},{"$error":"#REF!"},{"$error":"#REF!"},{"$error":"#REF!"},{"$error":"#REF!"},{"$error":"#REF!"},{"$error":"#REF!"},{"$error":"#REF!"},{"$error":"#REF!"},{"$error":"#REF!"},{"$error":"#REF!"},{"$error":"#REF!"},{"$error":"#REF!"},{"$error":"#REF!"},{"$error":"#REF!"},{"$error":"#REF!"},{"$error":"#REF!"},{"$error":"#REF!"},{"$error":"#REF!"},{"$error":"#REF!"},{"$error":"#REF!"},{"$error":"#REF!"},{"$error":"#REF!"},{"$error":"#REF!"},{"$error":"#REF!"},{"$error":"#REF!"},{"$error":"#REF!"},{"$error":"#REF!"},{"$error":"#REF!"},{"$error":"#REF!"},{"$error":"#REF!"},{"$error":"#REF!"},{"$error":"#REF!"},{"$error":"#REF!"},{"$error":"#REF!"},{"$error":"#REF!"},{"$error":"#REF!"},{"$error":"#REF!"},{"$error":"#REF!"},{"$error":"#REF!"},{"$error":"#REF!"},{"$error":"#REF!"},{"$error":"#REF!"},{"$error":"#REF!"},{"$error":"#REF!"},{"$error":"#REF!"},{"$error":"#REF!"},{"$error":"#REF!"},{"$error":"#REF!"},{"$error":"#REF!"},{"$error":"#REF!"},{"$error":"#REF!"},{"$error":"#REF!"}]

{"sheet":"Check_CERA","index":7,"n_rows":16,"n_cols":567,"rows_kept":16,"cut":false,"hidden":true,"merged":[]}
["1.      ","2.      ","3.      ","4.      ","5.      ","6.      ","7.      ","8.      ","9.      ","10.   ","11.   ","12.   ","13.   ","14.   ","15.   ","16.   ","17.   ","18.   ","19.   ","20.   ","21.   ","22.   ","23.   ","24.   ","25.   ","26.   ","27.   ","28.   ","29.   ","30.   ","31.   ","Col No.",null,null,null,null,null,null,null,null,null,null,null,null,null,null,null,null,null,null,null,null,null,null,null,null,null,null,null,null,null,null,null,null,null,null,null,null,null,null,null,null,null,null,null,null,null,null,null,null,null,null,null,null,null,null,null,null,null,null,null,null,null,null,null,null,null,null,null,null,null,null,null,null,null,null,null,null,null,null,null,null,null,null,null,null,null,null,null,null,null,null,null,null,null,null,null,null,null,null,null,null,null,null,null,null,null,null,null,null,null,null,null,null,null,null,null,null,null,null,null,null,null,null,null,null,null,null,null,null,null,null,null,null,null,null,null,null,null,null,null,null,null,null,null,null,null,null,null,null,null,null,null,null,null,null,null,null,null,null,null,null,null,null,null,null,null,null,null,null,null,null,null,null,null,null,null,null,null,null,null,null,null,null,null,null,null,null,null,null,null,null,null,null,null,null,null,null,null,null,null,null,null,null,null,null,null,null,null,null,null,null,null,null,null,null,null,null,null,null,null,null,null,null,null,null,null,null,null,null,null,null,null,null,null,null,null,null,null,null,null,null,null,null,null,null,null,null,null,null,null,null,null,null,null,null,null,null,null,null,null,null,null,null,null,null,null,null,null,null,null,null,null,null,null,null,null,null,null,null,null,null,null,null,null,null,null,null,null,null,null,null,null,null,null,null,null,null,null,null,null,null,null,null,null,null,null,null,null,null,null,null,null,null,null,null,null,null,null,null,null,null,null,null,null,null,null,null,null,null,null,null,null,null,null,null,null,null,null,null,null,null,null,null,null,null,null,null,null,null,null,null,null,null,null,null,null,null,null,null,null,null,null,null,null,null,null,null,null,null,null,null,null,null,null,null,null,null,null,null,null,null,null,null,null,null,null,null,null,null,null,null,null,null,null,null,null,null,null,null,null,null,null,null,null,null,null,null,null,null,null,null,null,null,null,null,null,null,null,null,null,null,null,null,null,null,null,null,null,null,null,null,null,null,null,null,null,null,null,null,null,null,null,null,null,null,null,null,null,null,null,null,null,null,null,null,null,null,null,null,null,null,null,null,null,null,null,null,null,null,null,null,null,null,null,null,null,null,null,null,null,null,null,null,null,null,null,null,null,null,null,null,null,null,null,null,null,null,null,null,null,null,null,null,null,null,null,null,null,null,null,null,null,null,null,null,null,null,null,null,null,null,null,null,null,null,null,null,null,null,null,null,null,"x"]
[1,3,5,11,15,23,26,28,29,37,72,107,142,150,235,295,315,317,322,324,339,364,449,459,484,494,502,504,509,510,511,"Field Position","Begin"]
[2,4,10,14,22,25,27,28,36,71,106,141,149,234,294,314,316,321,323,338,363,448,458,483,493,501,503,508,509,510,525,null,"End"]
["Jurisdiction Code","Return Type","Report Year/Month","Filer License Type","Filer Privilege Tax ID Number1","Schedule Type","Bonded or Tax Paid","Placeholder","Date Received/Shipped","Bill of Lading","Invoice Number","Purchase Order Number","Shipped To Privilege Tax ID Number2","Shipped To Name","Shipped To Address","Shipped To City","Shipped To State","Shipped To Zip","Shipped To Country","Product Code3","SKU/Inventory Code","Product Name","Quantity ","Keg Size","Case Quantity","Bottle/Can Size","Bottle/Can UOM","ABV","Small Winery Exemption","Produced by our winery","TTB Permit Number","Field Position Description"]
["Text","Text","Text","Text","Text","Text","Text",null,"Text","Text","Text","Text","Text","Text",null,null,"Text","Text","Text","Text","Text","Text","Num",null,"Num","Num","Text","Num","Text","Text",null,"Data Type"]
[2,2,6,4,8,3,2,1,8,35,35,35,8,85,60,20,2,5,2,15,25,85,10,25,10,8,2,5,1,1,15,"Size"]
["OR","O","YYYYMM","CERA or TEMP","PT112334",null,"XX",null,"YYYYMMDD",null,null,null,null,null,null,null,null,null,null,null,null,null,null,null,null,null,"Oz or Ml or L",null,"Y or N","Y or N",null,"Format",null,null,null,null,null,null,null,{"$f":"AN12","v":1},2,3,4,5,6,7,8,9,10,11,12,13,14,15,16,17,18,19,20,21,22,23,24,25,26,27,28,29,30,31,32,33,34,35,36,37,38,39,40,41,42,43,44,45,46,47,48,49,50,51,52,53,54,55,56,57,58,59,60,61,62,63,64,{"$f":"CZ12","v":65},66,67,68,69,70,71,72,73,74,75,76,77,78,79,80,81,82,83,84,85,86,87,88,89,90,91,92,93,94,95,96,97,98,99,100,101,102,103,104,105,106,107,108,109,110,111,112,113,114,115,116,117,118,119,120,121,122,123,124,125,126,127,128,{"$f":"FL12","v":129},130,131,132,133,134,135,136,137,138,139,140,141,142,143,144,145,146,147,148,149,150,151,152,153,154,155,156,157,158,159,160,161,162,163,164,165,166,167,168,169,170,171,172,173,174,175,176,177,178,179,180,181,182,183,184,185,186,187,188,189,190,191,192,{"$f":"HX12","v":193},194,195,196,197,198,199,200,201,202,203,204,205,206,207,208,209,210,211,212,213,214,215,216,217,218,219,220,221,222,223,224,225,226,227,228,229,230,231,232,233,234,235,236,237,238,239,240,241,242,243,244,245,246,247,248,249,250,251,252,253,254,255,256,{"$f":"KJ12","v":257},258,259,260,261,262,263,264,265,266,267,268,269,270,271,272,273,274,275,276,277,278,279,280,281,282,283,284,285,286,287,288,289,290,291,292,293,294,295,296,297,298,299,300,301,302,303,304,305,306,307,308,309,310,311,312,313,314,315,316,317,318,319,320,{"$f":"MV12","v":321},322,323,324,325,326,327,328,329,330,331,332,333,334,335,336,337,338,339,340,341,342,343,344,345,346,347,348,349,350,351,352,353,354,355,356,357,358,359,360,361,362,363,364,365,366,367,368,369,370,371,372,373,374,375,376,377,378,379,380,381,382,383,384,{"$f":"PH12","v":385},386,387,388,389,390,391,392,393,394,395,396,397,398,399,400,401,402,403,404,405,406,407,408,409,410,411,412,413,414,415,416,417,418,419,420,421,422,423,424,425,426,427,428,429,430,431,432,433,434,435,436,437,438,439,440,441,442,443,444,445,446,447,448,{"$f":"RT12","v":449},450,451,452,453,454,455,456,457,458,459,460,461,462,463,464,465,466,467,468,469,470,471,472,473,474,475,476,477,478,479,480,481,482,483,484,485,486,487,488,489,490,491,492,493,494,495,496,497,498,499,500,501,502,503,504,505,506,507,508,509,510,511,512,{"$f":"UF12","v":513},514,515,516,517,518,519,520,521,522,523,524,525,526,527,528]
["M","M","M","M","M","M","M",null,"M","M/O","M/O","O/M","O","M","M","M","M/O","M","M","M","O","M","M","C/M","C/M","C/M","C/M","M","O","C/M","C/M","Field Requirement",null,null,null,null,null,null,"Excel",{"$f":"MID($AH$13,AN12,1)","v":"O"},"R"," "," "," "," "," "," "," "," "," "," "," "," "," "," "," "," "," "," "," "," "," "," "," "," "," "," "," "," "," "," "," "," "," "," "," "," "," "," "," "," "," "," "," "," "," "," "," "," "," "," "," "," "," "," "," "," "," "," "," "," "," "," ",{"$f":"MID($AH$13,CZ12,1)","v":" "}," "," "," "," "," "," "," "," "," "," "," "," "," "," "," "," "," "," "," "," "," "," "," "," "," "," "," "," "," "," "," "," "," "," "," "," "," "," "," "," "," "," "," "," "," "," "," "," "," "," "," "," "," "," "," "," "," "," "," "," "," "," "," ",{"$f":"MID($AH$13,FL12,1)","v":" "}," "," "," "," "," "," "," "," "," "," "," "," "," "," "," "," "," "," "," "," "," "," "," "," "," "," "," "," "," "," "," "," "," "," "," "," "," "," "," "," "," "," "," "," "," "," "," "," "," "," "," "," "," "," "," "," "," "," "," "," "," "," "," ",{"$f":"MID($AH$13,HX12,1)","v":" "}," "," "," "," "," "," "," "," "," "," "," "," "," "," "," "," "," "," "," "," "," "," "," "," "," "," "," "," "," "," "," "," "," "," "," "," "," "," "," "," "," "," "," "," "," "," "," "," "," "," "," "," "," "," "," "," "," "," "," "," "," "," "," ",{"$f":"MID($AH$13,KJ12,1)","v":" "}," "," "," "," "," "," "," "," "," "," "," "," "," "," "," "," "," "," "," "," "," "," "," "," "," "," "," "," "," "," "," "," "," "," "," "," "," "," "," "," "," "," "," "," "," "," "," "," "," "," "," "," "," "," "," "," "," "," "," "," "," "," "," ",{"$f":"MID($AH$13,MV12,1)","v":" "}," "," "," "," "," "," "," "," "," "," "," "," "," "," "," "," "," "," "," "," "," "," "," "," "," "," "," "," "," "," "," "," "," "," "," "," "," "," "," "," "," "," "," "," "," "," "," "," "," "," "," "," "," "," "," "," "," "," "," "," "," "," "," ",{"$f":"MID($AH$13,PH12,1)","v":" "}," "," "," "," "," "," "," "," "," "," "," "," "," "," "," "," "," "," "," "," "," "," "," "," "," "," "," "," "," "," "," "," "," "," "," "," "," "," "," "," "," "," "," "," "," "," "," "," "," "," "," "," "," "," "," "," "," "," "," "," "," "," "," ",{"$f":"MID($AH$13,RT12,1)","v":" "}," "," "," "," "," "," "," "," "," "," "," "," "," "," "," "," "," "," "," "," "," "," "," "," "," "," "," "," "," "," "," "," "," "," "," "," "," "," "," "," "," "," "," "," "," "," "," "," "," "," "," "," "," "," "," "," "," "," "," "," "," "," "," ",{"$f":"MID($AH$13,UF12,1)","v":" "}," "," "," "," "," "," "," "," "," "," "," "," ","","",""]
["OR","O",202106,"CERA","PT112334",5,null,null,".","Document No","Document No","Document No",null,"Buyer/Seller Name",null,null,"OR",99999,"US","Product Codes",null,null,24,"5GAL",12,16.989999999999998,"ML",99.99,null,null,null,"Example",null,null,null,null,null,null,"VBA",{"$f":"MID($AJ$13,AN12,1)","v":"O"},"R","O"," ","2","0","2","0","0","1","C","E","R","A","P","T","1","5","0","4","6","0","5"," "," ","T","P"," ","2","0","2","0","0","1","0","9","2","9","3","9","3"," "," "," "," "," "," "," "," "," "," "," "," "," "," "," "," "," "," "," "," "," "," "," ",{"$f":"MID($AJ$13,CZ12,1)","v":" "}," "," "," "," "," "," ","9","3","9","3","9"," "," "," "," "," "," "," "," "," "," "," "," "," "," "," "," "," "," "," "," "," "," "," "," "," "," "," "," "," "," "," "," "," "," "," "," "," "," "," "," "," "," "," "," "," "," "," "," "," "," "," "," ",{"$f":"MID($AJ$13,FL12,1)","v":" "}," "," "," "," "," "," "," "," "," "," "," "," ","P","T","1","4","0","3","5","0","P","U","R","C","H","A","S","E","D","F","R","O","M","T","H","I","S","C","O","M","P","A","N","Y","P","U","R","C","H","A","S","E","D","F","R","O","M","T","H","I","S","C","O",{"$f":"MID($AJ$13,HX12,1)","v":"M"},"P","A","N","Y","P","U","R","C","H","A","S","E","D","F","R","O","M","T","H","I","S","C","O","M","P","A","N","Y","P","U","C","H","A","S","E","D","F","R","O","8","5","A","d","d","r","e","s","s","1","2","2","2","M","A","I","N","A","d","d","r","e","s","s",{"$f":"MID($AJ$13,KJ12,1)","v":"1"},"2","2","2","M","A","I","N","A","d","d","r","e","s","s","1","2","2","2","M","A","I","N","A","d","d","r","e","s","s","1","2","2","2","M","A","6","0","S","A","L","E","M"," "," "," "," "," "," "," "," "," "," "," "," "," "," "," ","O","R","9","9","9","9",{"$f":"MID($AJ$13,MV12,1)","v":"9"},"U","S","W","I","N","E",".","C","a","s","e"," "," "," "," "," "," "," "," "," "," "," "," "," "," "," "," "," "," "," "," "," "," "," "," "," "," "," "," "," "," "," ","B","U","D","L","I","G","H","T","8","5","B","U","D","L","I","G","H","T","8","B","U",{"$f":"MID($AJ$13,PH12,1)","v":"D"},"L","I","G","H","T","8","5","B","U","D","L","I","G","H","T","8","5","B","U","D","L","I","G","H","T","8","5","B","U","D","L","I","G","H","T","8","5","B","U","D","L","I","G","H","T","8","5","B","U","D","L","I","G","H","T","8","5","B","U","D","L","8","5",{"$f":"MID($AJ$13,RT12,1)","v":"1"},"0","0"," "," "," "," "," "," "," "," "," "," "," "," "," "," "," "," "," "," "," "," "," "," "," "," "," "," "," "," "," "," "," "," ","1","2"," "," "," "," "," "," "," "," ","1","6","9","9","9",".","9","9","O","Z","1","1",".","9","9"," "," "," "," ",{"$f":"MID($AJ$13,UF12,1)","v":" "}," "," "," "," "," "," "," "," "," "," "," "," ","","",""]
["Identifies the jurisdiction to which the data belongs. Always = OR.","O = Original A = Amendment Space fill field as needed to 2 digits.","YYYY = Four digit year of the return period i.e. 2021. MM = Two digit month of the return period i.e. 06 for June. Example: 202106","The value CERA is used for CERA licenses and the value TEMP for CERA Temp ","This number is created when you associate your OLCC license number in the privilege tax online system.","Schedule type associated with CERA is only Schedule 5","Enter either B_ where the underscore is a space or TP for Tax Paid","Not used for this license type – must space fill.","Date Rec’d/Exported/etc. is used for this report when reporting receipts & disbursements.|YYYY = Four digit year of the BOL i.e. 2021, etc.|MM = Two digit month of the BOL i.e. 01 for January, etc.|DD = Two digit day of the BOL i.e. 01, 02, 03, and so on to 31.|Example: 20210216","Enter the Bill of Lading for the specific transaction.  For the fields shown in 9, 10 and 11, at least 2 of these must be provided.","Enter the Invoice Number for the specific transaction.  For the fields shown in 9, 10 and 11, at least 2 of these must be provided.","Enter the Purchase Order Number for the specific transaction.  For the fields shown in 9, 10 and 11, at least 2 of these must be provided.","The PT# for the company you are shipping to.","Enter the name of the company where the product was sold to or purchased from.  Space fill field as needed to 35 characters.","Street address.  Required regardless of country entered.","City name. Required regardless of country entered.","Required for country = US or CA.  *When the country is not US or CA, this should be space filled.","Required.  *When the country is not US, this may be populated with 99999.","Two digit country code where the product comes from or is sold to based upon schedule type.","This field will contain a code that is used to describe the Product Type in a reproducible manner. (see list of product codes in Appendix A)","SKU Number associated to the product in this transaction.","Name of product in this transaction.","This is the quantity shipped, received, exported, etc.  The value must be a positive whole number. ","See Appendix A for the list of values that can be sent in this field for a Keg product type transaction.","If product code chosen is a case product, then this field is required. Value must be a positive whole number.  ","If product code chosen is a case product, then this field is required. Value should be a non-negative number with up to two decimal places. ","If product code chosen is for case product, then this field is required. | The value should : “Oz” if the unit is Ounces and “Ml” if the unit is Milliliters. (Not case sensitive)| Or L for Liters","Alcohol by volume.  ","Y or N ","If the small winery exemption is marked Yes, this field is required.  Enter Y if the detail line item is product that you produced, enter N if it is not.","If the small winery exemption is marked Yes, this field is required. If the value entered does not fill the 15 characters, you must space fill to 15 characters. ",null,null,null,null,null,null,null,null,null,null,null,null,null,null,null,null,null,null,null,null,null,null,null,null,null,null,null,null,null,null,null,null,null,null,null,null,null,null,null,null,null,null,null,null,null,null,null,null,null,null,null,null,null,null,null,null,null,null,null,null,null,null,null,null,null,null,null,null,null,null,null,null,null,null,null,null,null,null,null,null,null,null,null,null,null,null,null,null,null,null,null,null,null,null,null,null,null,null,null,null,null,null,null,null,null,null,null,null,null,null,null,null,null,null,null,null,null,null,null,null,null,null,null,null,null,null,null,null,null,null,null,null,null,null,null,null,null,null,null,null,null,null,null,null,null,null,null,null,null,null,null,null,null,null,null,null,null,null,null,null,null,null,null,null,null,null,null,null,null,null,null,null,null,null,null,null,null,null,null,null,null,null,null,null,null,null,null,null,null,null,null,null,null,null,null,null,null,null,null,null,null,null,null,null,null,null,null,null,null,null,null,null,null,null,null,null,null,null,null,null,null,null,null,null,null,null,null,null,null,null,null,null,null,null,null,null,null,null,null,null,null,null,null,null,null,null,null,null,null,null,null,null,null,null,null,null,null,null,null,null,null,null,null,null,null,null,null,null,null,null,null,null,null,null,null,null,null,null,null,null,null,null,null,null,null,null,null,null,null,null,null,null,null,null,null,null,null,null,null,null,null,null,null,null,null,null,null,null,null,null,null,null,null,null,null,null,null,null,null,null,null,null,null,null,null,null,null,null,null,null,null,null,null,null,null,null,null,null,null,null,null,null,null,null,null,null,null,null,null,null,null,null,null,null,null,null,null,null,null,null,null,null,null,null,null,null,null,null,null,null,null,null,null,null,null,null,null,null,null,null,null,null,null,null,null,null,null,null,null,null,null,null,null,null,null,null,null,null,null,null,null,null,null,null,null,null,null,null,null,null,null,null,null,null,null,null,null,null,null,null,null,null,null,null,null,null,null,null,null,null,null,null,null,null,null,null,null,null,null,null,null,null,null,null,null,null,null,null,null,null,null,null,null,null,null,null,null,null,null,null,null,null,null,null,null,null,null,null,null,null,null,null,null,null,null,null,null,null,null,null,null,null,null,null,null,null,null,null,null,null,null,null,null,null,null,null,null,null,null,null,null,null,null,null,null,null,null,null,null,null,null,null,null,null,null,null,null,null,null,null,null,null,null,null,null,null,null,null,null,null,null,null,null,{"$f":"MID($AJ$13,US12,1)","v":""},{"$f":"MID($AJ$13,UT12,1)","v":""},{"$f":"MID($AJ$13,UU12,1)","v":""}]
[null,null,null,null,null,null,null,null,null,null,null,null,null,null,null,null,null,null,null,null,null,null,null,null,null,null,null,null,null,null,null,null,null,null,null,null,null,null,null,"Isolate characters"]
["Jurisdiction Code","Return Type\n(O or A)","Report Year/Month\n(YYYYMM)","Filer License Type\n(Must Be CERA or TEMP for CERA TEMP)","Filer Privilege Tax ID Number\n(EXAMPLE OF  FORMAT: PT999999)","Schedule Type (Will always be 5)","Bonded or TaxPaid (B_ or TP\nMost often, this is TP)",null,"Date Field\nYYYYMMDD","Bill of Lading #","Invoice #\n","Purchase Order #","Shipped To Privilege Tax ID Number\n(EXAMPLE OF  FORMAT: PT999999)","Shipped To \nCompany Name","\n\nShipped To\nStreet Address","Shipped To \nCity","Shipped To\nState / Region","Shipped To\nZip / Postal","\nShipped To Country","Product Code (Must be a valid code from list on Instructions Tab)","SKU/Inventory Code","Product Name","Quantity","Keg Sizes\n(1/2; 1/4; 1/6; 1/8;    1.32Gal; 5Gal; 5.16Gal; 5.2Gal; 7.9Gal; 10.8Gal; 13.2Gal; 18L; 19L; 19.5L; 20L; 24L; 25L; 30L; 50L)","Case Quantity (Must be a positive whole number)","Bottle/Can size (Example of format:  99999.99) ","Bottle/Can Unit of Measure\n(Not Case Sensitive OZ for ounces, ML for milliliters or L for Liters)","ABV (Alcohol by Volume)\n(Example of format:  99.99)","Subject to Small Winery Exemption?\n(Y or Blank)","Produced By Our Winery  \n(Y N or Blank)","Winery TTB Basic Permit #",null,null,"Export","Len","Text file","Len","Check",null,1,2,3,4,5,6,7,8,9,10,11,12,13,14,15,16,17,18,19,20,21,22,23,24,25,26,27,28,29,30,31,32,33,34,35,36,37,38,39,40,41,42,43,44,45,46,47,48,49,50,51,52,53,54,55,56,57,58,59,60,61,62,63,64,65,66,67,68,69,70,71,72,73,74,75,76,77,78,79,80,81,82,83,84,85,86,87,88,89,90,91,92,93,94,95,96,97,98,99,100,101,102,103,104,105,106,107,108,109,110,111,112,113,114,115,116,117,118,119,120,121,122,123,124,125,126,127,128,129,130,131,132,133,134,135,136,137,138,139,140,141,142,143,144,145,146,147,148,149,150,151,152,153,154,155,156,157,158,159,160,161,162,163,164,165,166,167,168,169,170,171,172,173,174,175,176,177,178,179,180,181,182,183,184,185,186,187,188,189,190,191,192,193,194,195,196,197,198,199,200,201,202,203,204,205,206,207,208,209,210,211,212,213,214,215,216,217,218,219,220,221,222,223,224,225,226,227,228,229,230,231,232,233,234,235,236,237,238,239,240,241,242,243,244,245,246,247,248,249,250,251,252,253,254,255,256,257,258,259,260,261,262,263,264,265,266,267,268,269,270,271,272,273,274,275,276,277,278,279,280,281,282,283,284,285,286,287,288,289,290,291,292,293,294,295,296,297,298,299,300,301,302,303,304,305,306,307,308,309,310,311,312,313,314,315,316,317,318,319,320,321,322,323,324,325,326,327,328,329,330,331,332,333,334,335,336,337,338,339,340,341,342,343,344,345,346,347,348,349,350,351,352,353,354,355,356,357,358,359,360,361,362,363,364,365,366,367,368,369,370,371,372,373,374,375,376,377,378,379,380,381,382,383,384,385,386,387,388,389,390,391,392,393,394,395,396,397,398,399,400,401,402,403,404,405,406,407,408,409,410,411,412,413,414,415,416,417,418,419,420,421,422,423,424,425,426,427,428,429,430,431,432,433,434,435,436,437,438,439,440,441,442,443,444,445,446,447,448,449,450,451,452,453,454,455,456,457,458,459,460,461,462,463,464,465,466,467,468,469,470,471,472,473,474,475,476,477,478,479,480,481,482,483,484,485,486,487,488,489,490,491,492,493,494,495,496,497,498,499,500,501,502,503,504,505,506,507,508,509,510,511,512,513,514,515,516,517,518,519,520,521,522,523,524,525,526,527,528]
[{"$f":"\"OR\"","v":"OR"},{"$f":"LEFT(CERA!B4&REPT(\" \",B$6),B$6)","v":"  "},{"$f":"LEFT(CERA!C4&REPT(\" \",C$6),C$6)","v":"      "},{"$f":"LEFT(CERA!D4&REPT(\" \",D$6),D$6)","v":"    "},{"$f":"LEFT(CERA!E4&REPT(\" \",E$6),E$6)","v":"        "},{"$f":"LEFT(CERA!F4&REPT(\" \",F$6),F$6)","v":"   "},{"$f":"LEFT(CERA!G4&REPT(\" \",G$6),G$6)","v":"  "},{"$f":"LEFT(CERA!H4&REPT(\" \",H$6),H$6)","v":" "},{"$f":"LEFT(CERA!I4&REPT(\" \",I$6),I$6)","v":"        "},{"$f":"LEFT(CERA!J4&REPT(\" \",J$6),J$6)","v":"                                   "},{"$f":"LEFT(CERA!K4&REPT(\" \",K$6),K$6)","v":"                                   "},{"$f":"LEFT(CERA!L4&REPT(\" \",L$6),L$6)","v":"                                   "},{"$f":"LEFT(CERA!M4&REPT(\" \",M$6),M$6)","v":"        "},{"$f":"LEFT(CERA!N4&REPT(\" \",N$6),N$6)","v":"                                                                                     "},{"$f":"LEFT(CERA!O4&REPT(\" \",O$6),O$6)","v":"                                                            "},{"$f":"LEFT(CERA!P4&REPT(\" \",P$6),P$6)","v":"                    "},{"$f":"LEFT(CERA!Q4&REPT(\" \",Q$6),Q$6)","v":"  "},{"$f":"LEFT(CERA!R4&REPT(\" \",R$6),R$6)","v":"     "},{"$f":"LEFT(CERA!S4&REPT(\" \",S$6),S$6)","v":"  "},{"$f":"LEFT(CERA!T4&REPT(\" \",T$6),T$6)","v":"               "},{"$f":"LEFT(CERA!U4&REPT(\" \",U$6),U$6)","v":"                         "},{"$f":"LEFT(CERA!V4&REPT(\" \",V$6),V$6)","v":"                                                                                     "},{"$f":"LEFT(CERA!W4&REPT(\" \",W$6),W$6)","v":"          "},{"$f":"LEFT(CERA!X4&REPT(\" \",X$6),X$6)","v":"                         "},{"$f":"LEFT(CERA!Y4&REPT(\" \",Y$6),Y$6)","v":"          "},{"$f":"LEFT(CERA!Z4&REPT(\" \",Z$6),Z$6)","v":"        "},{"$f":"LEFT(CERA!AA4&REPT(\" \",AA$6),AA$6)","v":"  "},{"$f":"LEFT(CERA!AB4&REPT(\" \",AB$6),AB$6)","v":"     "},{"$f":"LEFT(CERA!AC4&REPT(\" \",AC$6),AC$6)","v":" "},{"$f":"LEFT(CERA!AD4&REPT(\" \",AD$6),AD$6)","v":" "},{"$f":"LEFT(CERA!AE4&REPT(\" \",AE$6),AE$6)","v":"               "},null,null,{"$f":"_xlfn.TEXTJOIN(\"\",FALSE,A13:AE13)","v":"OR                                                                                                                                                                                                                                                                                                                                                                                                                                                                                                                                           "},{"$f":"LEN(AH13)","v":525},"ORO 202001CERAPT1504605  TP 2020010929393                              93939                                                                 PT140350PURCHASEDFROMTHISCOMPANYPURCHASEDFROMTHISCOMPANYPURCHASEDFROMTHISCOMPANYPUCHASEDFRO85Address1222MAINAddress1222MAINAddress1222MAINAddress1222MA60SALEM               OR99999USWINE.Case                               BUDLIGHT85BUDLIGHT8BUDLIGHT85BUDLIGHT85BUDLIGHT85BUDLIGHT85BUDLIGHT85BUDLIGHT85BUDL85100                                12        16999.99OZ11.99                 ",{"$f":"LEN(AJ13)","v":525},{"$f":"INDEX(AN13:UX13,MATCH(TRUE,INDEX((AN13:UX13<>\"\"),0),0))","v":3},{"$f":"MIN(AN13:UR13)","v":3},{"$f":"IF(MID($AH13,AN$12,1)=MID($AJ13,AN$12,1),\"\",MID($AJ13,AN$12,1))","v":""},{"$f":"IF(MID($AH13,AO$12,1)=MID($AJ13,AO$12,1),\"\",AO12)","v":""},3,"",5,6,7,8,9,10,11,12,13,14,15,16,17,18,19,20,21,22,23,"","",26,27,"",29,30,31,32,33,34,35,36,37,38,39,40,41,"","","","","","","","","","","","","","","","","","","","","","","","",{"$f":"IF(MID($AH13,DA$12,1)=MID($AJ13,DA$12,1),\"\",DA12)","v":""},"","","","","",72,73,74,75,76,"","","","","","","","","","","","","","","","","","","","","","","","","","","","","","","","","","","","","","","","","","","","","","","","","","","","","",{"$f":"IF(MID($AH13,FM$12,1)=MID($AJ13,FM$12,1),\"\",FM12)","v":""},"","","","","","","","","","","",142,143,144,145,146,147,148,149,150,151,152,153,154,155,156,157,158,159,160,161,162,163,164,165,166,167,168,169,170,171,172,173,174,175,176,177,178,179,180,181,182,183,184,185,186,187,188,189,190,191,192,193,{"$f":"IF(MID($AH13,HY$12,1)=MID($AJ13,HY$12,1),\"\",HY12)","v":194},195,196,197,198,199,200,201,202,203,204,205,206,207,208,209,210,211,212,213,214,215,216,217,218,219,220,221,222,223,224,225,226,227,228,229,230,231,232,233,234,235,236,237,238,239,240,241,242,243,244,245,246,247,248,249,250,251,252,253,254,255,256,257,{"$f":"IF(MID($AH13,KK$12,1)=MID($AJ13,KK$12,1),\"\",KK12)","v":258},259,260,261,262,263,264,265,266,267,268,269,270,271,272,273,274,275,276,277,278,279,280,281,282,283,284,285,286,287,288,289,290,291,292,293,294,295,296,297,298,299,"","","","","","","","","","","","","","","",315,316,317,318,319,320,321,{"$f":"IF(MID($AH13,MW$12,1)=MID($AJ13,MW$12,1),\"\",MW12)","v":322},323,324,325,326,327,328,329,330,331,332,"","","","","","","","","","","","","","","","","","","","","","","","","","","","","","","",364,365,366,367,368,369,370,371,372,373,374,375,376,377,378,379,380,381,382,383,384,385,{"$f":"IF(MID($AH13,PI$12,1)=MID($AJ13,PI$12,1),\"\",PI12)","v":386},387,388,389,390,391,392,393,394,395,396,397,398,399,400,401,402,403,404,405,406,407,408,409,410,411,412,413,414,415,416,417,418,419,420,421,422,423,424,425,426,427,428,429,430,431,432,433,434,435,436,437,438,439,440,441,442,443,444,445,446,447,448,449,{"$f":"IF(MID($AH13,RU$12,1)=MID($AJ13,RU$12,1),\"\",RU12)","v":450},451,"","","","","","","","","","","","","","","","","","","","","","","","","","","","","","","","",484,485,"","","","","","","","",494,495,496,497,498,499,500,501,502,503,504,505,506,507,508,"","","","","",{"$f":"IF(MID($AH13,UG$12,1)=MID($AJ13,UG$12,1),\"\",UG12)","v":""},"","","","","","","","","","","","","",""]
["OR",{"$f":"LEFT(CERA!B5&REPT(\" \",B$6),B$6)","v":"  "},{"$f":"LEFT(CERA!C5&REPT(\" \",C$6),C$6)","v":"      "},{"$f":"LEFT(CERA!D5&REPT(\" \",D$6),D$6)","v":"    "},{"$f":"LEFT(CERA!E5&REPT(\" \",E$6),E$6)","v":"        "},{"$f":"LEFT(CERA!F5&REPT(\" \",F$6),F$6)","v":"   "},{"$f":"LEFT(CERA!G5&REPT(\" \",G$6),G$6)","v":"  "},{"$f":"LEFT(CERA!H5&REPT(\" \",H$6),H$6)","v":" "},{"$f":"LEFT(CERA!I5&REPT(\" \",I$6),I$6)","v":"        "},{"$f":"LEFT(CERA!J5&REPT(\" \",J$6),J$6)","v":"                                   "},{"$f":"LEFT(CERA!K5&REPT(\" \",K$6),K$6)","v":"                                   "},{"$f":"LEFT(CERA!L5&REPT(\" \",L$6),L$6)","v":"                                   "},{"$f":"LEFT(CERA!M5&REPT(\" \",M$6),M$6)","v":"        "},{"$f":"LEFT(CERA!N5&REPT(\" \",N$6),N$6)","v":"                                                                                     "},{"$f":"LEFT(CERA!O5&REPT(\" \",O$6),O$6)","v":"                                                            "},{"$f":"LEFT(CERA!P5&REPT(\" \",P$6),P$6)","v":"                    "},{"$f":"LEFT(CERA!Q5&REPT(\" \",Q$6),Q$6)","v":"  "},{"$f":"LEFT(CERA!R5&REPT(\" \",R$6),R$6)","v":"     "},{"$f":"LEFT(CERA!S5&REPT(\" \",S$6),S$6)","v":"  "},{"$f":"LEFT(CERA!T5&REPT(\" \",T$6),T$6)","v":"               "},{"$f":"LEFT(CERA!U5&REPT(\" \",U$6),U$6)","v":"                         "},{"$f":"LEFT(CERA!V5&REPT(\" \",V$6),V$6)","v":"                                                                                     "},{"$f":"LEFT(CERA!W5&REPT(\" \",W$6),W$6)","v":"          "},{"$f":"LEFT(CERA!X5&REPT(\" \",X$6),X$6)","v":"                         "},{"$f":"LEFT(CERA!Y5&REPT(\" \",Y$6),Y$6)","v":"          "},{"$f":"LEFT(CERA!Z5&REPT(\" \",Z$6),Z$6)","v":"        "},{"$f":"LEFT(CERA!AA5&REPT(\" \",AA$6),AA$6)","v":"  "},{"$f":"LEFT(CERA!AB5&REPT(\" \",AB$6),AB$6)","v":"     "},{"$f":"LEFT(CERA!AC5&REPT(\" \",AC$6),AC$6)","v":" "},{"$f":"LEFT(CERA!AD5&REPT(\" \",AD$6),AD$6)","v":" "},{"$f":"LEFT(CERA!AE5&REPT(\" \",AE$6),AE$6)","v":"               "},null,null,"OR                                                                                                                                                                                                                                                                                                                                                                                                                                                                                                                                           ",525,"ORO 202001CERAPT1504605  TP 2020010929393                              93939                                                                 PT140350PURCHASEDFROMTHISCOMPANYPURCHASEDFROMTHISCOMPANYPURCHASEDFROMTHISCOMPANYPUCHASEDFRO85Address1222MAINAddress1222MAINAddress1222MAINAddress1222MA60SALEM               OR99999USWINE.Case                               BUDLIGHT85BUDLIGHT8BUDLIGHT85BUDLIGHT85BUDLIGHT85BUDLIGHT85BUDLIGHT85BUDLIGHT85BUDL85100                                12        1699.99 OZ11.99                 ",525,{"$f":"INDEX(AN14:UX14,MATCH(TRUE,INDEX((AN14:UX14<>\"\"),0),0))","v":3},3,{"$f":"IF(MID($AH14,AN$12,1)=MID($AJ14,AN$12,1),\"\",MID($AJ14,AN$12,1))","v":""},"",3,"",5,6,7,8,9,10,11,12,13,14,15,16,17,18,19,20,21,22,23,"","",26,27,"",29,30,31,32,33,34,35,36,37,38,39,40,41,"","","","","","","","","","","","","","","","","","","","","","","","","","","","","","",72,73,74,75,76,"","","","","","","","","","","","","","","","","","","","","","","","","","","","","","","","","","","","","","","","","","","","","","","","","","","","","","","","","","","","","","","","","",142,143,144,145,146,147,148,149,150,151,152,153,154,155,156,157,158,159,160,161,162,163,164,165,166,167,168,169,170,171,172,173,174,175,176,177,178,179,180,181,182,183,184,185,186,187,188,189,190,191,192,193,194,195,196,197,198,199,200,201,202,203,204,205,206,207,208,209,210,211,212,213,214,215,216,217,218,219,220,221,222,223,224,225,226,227,228,229,230,231,232,233,234,235,236,237,238,239,240,241,242,243,244,245,246,247,248,249,250,251,252,253,254,255,256,257,258,259,260,261,262,263,264,265,266,267,268,269,270,271,272,273,274,275,276,277,278,279,280,281,282,283,284,285,286,287,288,289,290,291,292,293,294,295,296,297,298,299,"","","","","","","","","","","","","","","",315,316,317,318,319,320,321,322,323,324,325,326,327,328,329,330,331,332,"","","","","","","","","","","","","","","","","","","","","","","","","","","","","","","",364,365,366,367,368,369,370,371,372,373,374,375,376,377,378,379,380,381,382,383,384,385,386,387,388,389,390,391,392,393,394,395,396,397,398,399,400,401,402,403,404,405,406,407,408,409,410,411,412,413,414,415,416,417,418,419,420,421,422,423,424,425,426,427,428,429,430,431,432,433,434,435,436,437,438,439,440,441,442,443,444,445,446,447,448,449,450,451,"","","","","","","","","","","","","","","","","","","","","","","","","","","","","","","","",484,485,"","","","","","","","",494,495,496,497,498,499,500,"",502,503,504,505,506,507,508,"","","","","","","","","","","","","","","","","","","",""]
["OR",{"$f":"LEFT(CERA!B6&REPT(\" \",B$6),B$6)","v":"  "},{"$f":"LEFT(CERA!C6&REPT(\" \",C$6),C$6)","v":"      "},{"$f":"LEFT(CERA!D6&REPT(\" \",D$6),D$6)","v":"    "},{"$f":"LEFT(CERA!E6&REPT(\" \",E$6),E$6)","v":"        "},{"$f":"LEFT(CERA!F6&REPT(\" \",F$6),F$6)","v":"   "},{"$f":"LEFT(CERA!G6&REPT(\" \",G$6),G$6)","v":"  "},{"$f":"LEFT(CERA!H6&REPT(\" \",H$6),H$6)","v":" "},{"$f":"LEFT(CERA!I6&REPT(\" \",I$6),I$6)","v":"        "},{"$f":"LEFT(CERA!J6&REPT(\" \",J$6),J$6)","v":"                                   "},{"$f":"LEFT(CERA!K6&REPT(\" \",K$6),K$6)","v":"                                   "},{"$f":"LEFT(CERA!L6&REPT(\" \",L$6),L$6)","v":"                                   "},{"$f":"LEFT(CERA!M6&REPT(\" \",M$6),M$6)","v":"        "},{"$f":"LEFT(CERA!N6&REPT(\" \",N$6),N$6)","v":"                                                                                     "},{"$f":"LEFT(CERA!O6&REPT(\" \",O$6),O$6)","v":"                                                            "},{"$f":"LEFT(CERA!P6&REPT(\" \",P$6),P$6)","v":"                    "},{"$f":"LEFT(CERA!Q6&REPT(\" \",Q$6),Q$6)","v":"  "},{"$f":"LEFT(CERA!R6&REPT(\" \",R$6),R$6)","v":"     "},{"$f":"LEFT(CERA!S6&REPT(\" \",S$6),S$6)","v":"  "},{"$f":"LEFT(CERA!T6&REPT(\" \",T$6),T$6)","v":"               "},{"$f":"LEFT(CERA!U6&REPT(\" \",U$6),U$6)","v":"                         "},{"$f":"LEFT(CERA!V6&REPT(\" \",V$6),V$6)","v":"                                                                                     "},{"$f":"LEFT(CERA!W6&REPT(\" \",W$6),W$6)","v":"          "},{"$f":"LEFT(CERA!X6&REPT(\" \",X$6),X$6)","v":"                         "},{"$f":"LEFT(CERA!Y6&REPT(\" \",Y$6),Y$6)","v":"          "},{"$f":"LEFT(CERA!Z6&REPT(\" \",Z$6),Z$6)","v":"        "},{"$f":"LEFT(CERA!AA6&REPT(\" \",AA$6),AA$6)","v":"  "},{"$f":"LEFT(CERA!AB6&REPT(\" \",AB$6),AB$6)","v":"     "},{"$f":"LEFT(CERA!AC6&REPT(\" \",AC$6),AC$6)","v":" "},{"$f":"LEFT(CERA!AD6&REPT(\" \",AD$6),AD$6)","v":" "},{"$f":"LEFT(CERA!AE6&REPT(\" \",AE$6),AE$6)","v":"               "},null,null,"OR                                                                                                                                                                                                                                                                                                                                                                                                                                                                                                                                           ",525,null,0,{"$f":"INDEX(AN15:UX15,MATCH(TRUE,INDEX((AN15:UX15<>\"\"),0),0))","v":3},3,"","",3,"",5,6,7,8,9,10,11,12,13,14,15,16,17,18,19,20,21,22,23,"","",26,27,"",29,30,31,32,33,34,35,36,37,38,39,40,41,"","","","","","","","","","","","","","","","","","","","","","","","","","","","","","",72,73,74,75,76,"","","","","","","","","","","","","","","","","","","","","","","","","","","","","","","","","","","","","","","","","","","","","","","","","","","","","","","","","","","","","","","","","",142,143,144,145,146,147,148,149,150,151,152,153,154,155,156,157,158,159,160,161,162,163,164,165,166,167,168,169,170,171,172,173,174,175,176,177,178,179,180,181,182,183,184,185,186,187,188,189,190,191,192,193,194,195,196,197,198,199,200,201,202,203,204,205,206,207,208,209,210,211,212,213,214,215,216,217,218,219,220,221,222,223,224,225,226,227,228,229,230,231,232,233,234,235,236,237,238,239,240,241,242,243,244,245,246,247,248,249,250,251,252,253,254,255,256,257,258,259,260,261,262,263,264,265,266,267,268,269,270,271,272,273,274,275,276,277,278,279,280,281,282,283,284,285,286,287,288,289,290,291,292,293,294,295,296,297,298,299,"","","","","","","","","","","","","","","",315,316,317,318,319,320,321,322,323,324,325,326,327,328,329,330,331,332,"","","","","","","","","","","","","","","","","","","","","","","","","","","","","","","",364,365,366,367,368,369,370,371,372,373,374,375,376,377,378,379,380,381,382,383,384,385,386,387,388,389,390,391,392,393,394,395,396,397,398,399,400,401,402,403,404,405,406,407,408,409,410,411,412,413,414,415,416,417,418,419,420,421,422,423,424,425,426,427,428,429,430,431,432,433,434,435,436,437,438,439,440,441,442,443,444,445,446,447,448,449,450,451,"","","","","","","","","","","","","","","","","","","","","","","","","","","","","","","","",484,485,"","","","","","","","",494,495,496,497,498,499,500,"",502,503,504,505,506,507,508,"","","","","","","","","","","","","","","","","","","",""]
["OR",{"$f":"LEFT(CERA!B7&REPT(\" \",B$6),B$6)","v":"  "},{"$f":"LEFT(CERA!C7&REPT(\" \",C$6),C$6)","v":"      "},{"$f":"LEFT(CERA!D7&REPT(\" \",D$6),D$6)","v":"    "},{"$f":"LEFT(CERA!E7&REPT(\" \",E$6),E$6)","v":"        "},{"$f":"LEFT(CERA!F7&REPT(\" \",F$6),F$6)","v":"   "},{"$f":"LEFT(CERA!G7&REPT(\" \",G$6),G$6)","v":"  "},{"$f":"LEFT(CERA!H7&REPT(\" \",H$6),H$6)","v":" "},{"$f":"LEFT(CERA!I7&REPT(\" \",I$6),I$6)","v":"        "},{"$f":"LEFT(CERA!J7&REPT(\" \",J$6),J$6)","v":"                                   "},{"$f":"LEFT(CERA!K7&REPT(\" \",K$6),K$6)","v":"                                   "},{"$f":"LEFT(CERA!L7&REPT(\" \",L$6),L$6)","v":"                                   "},{"$f":"LEFT(CERA!M7&REPT(\" \",M$6),M$6)","v":"        "},{"$f":"LEFT(CERA!N7&REPT(\" \",N$6),N$6)","v":"                                                                                     "},{"$f":"LEFT(CERA!O7&REPT(\" \",O$6),O$6)","v":"                                                            "},{"$f":"LEFT(CERA!P7&REPT(\" \",P$6),P$6)","v":"                    "},{"$f":"LEFT(CERA!Q7&REPT(\" \",Q$6),Q$6)","v":"  "},{"$f":"LEFT(CERA!R7&REPT(\" \",R$6),R$6)","v":"     "},{"$f":"LEFT(CERA!S7&REPT(\" \",S$6),S$6)","v":"  "},{"$f":"LEFT(CERA!T7&REPT(\" \",T$6),T$6)","v":"               "},{"$f":"LEFT(CERA!U7&REPT(\" \",U$6),U$6)","v":"                         "},{"$f":"LEFT(CERA!V7&REPT(\" \",V$6),V$6)","v":"                                                                                     "},{"$f":"LEFT(CERA!W7&REPT(\" \",W$6),W$6)","v":"          "},{"$f":"LEFT(CERA!X7&REPT(\" \",X$6),X$6)","v":"                         "},{"$f":"LEFT(CERA!Y7&REPT(\" \",Y$6),Y$6)","v":"          "},{"$f":"LEFT(CERA!Z7&REPT(\" \",Z$6),Z$6)","v":"        "},{"$f":"LEFT(CERA!AA7&REPT(\" \",AA$6),AA$6)","v":"  "},{"$f":"LEFT(CERA!AB7&REPT(\" \",AB$6),AB$6)","v":"     "},{"$f":"LEFT(CERA!AC7&REPT(\" \",AC$6),AC$6)","v":" "},{"$f":"LEFT(CERA!AD7&REPT(\" \",AD$6),AD$6)","v":" "},{"$f":"LEFT(CERA!AE7&REPT(\" \",AE$6),AE$6)","v":"               "},null,null,"OR                                                                                                                                                                                                                                                                                                                                                                                                                                                                                                                                           ",525,null,0,{"$f":"INDEX(AN16:UX16,MATCH(TRUE,INDEX((AN16:UX16<>\"\"),0),0))","v":3},3,"","",3,"",5,6,7,8,9,10,11,12,13,14,15,16,17,18,19,20,21,22,23,"","",26,27,"",29,30,31,32,33,34,35,36,37,38,39,40,41,"","","","","","","","","","","","","","","","","","","","","","","",{"$f":"IF(MID($AH16,CZ$12,1)=MID($AJ16,CZ$12,1),\"\",CZ15)","v":""},"","","","","","",72,73,74,75,76,"","","","","","","","","","","","","","","","","","","","","","","","","","","","","","","","","","","","","","","","","","","","","","","","","","","","",{"$f":"IF(MID($AH16,FL$12,1)=MID($AJ16,FL$12,1),\"\",FL15)","v":""},"","","","","","","","","","","","",142,143,144,145,146,147,148,149,150,151,152,153,154,155,156,157,158,159,160,161,162,163,164,165,166,167,168,169,170,171,172,173,174,175,176,177,178,179,180,181,182,183,184,185,186,187,188,189,190,191,192,{"$f":"IF(MID($AH16,HX$12,1)=MID($AJ16,HX$12,1),\"\",HX15)","v":193},194,195,196,197,198,199,200,201,202,203,204,205,206,207,208,209,210,211,212,213,214,215,216,217,218,219,220,221,222,223,224,225,226,227,228,229,230,231,232,233,234,235,236,237,238,239,240,241,242,243,244,245,246,247,248,249,250,251,252,253,254,255,256,{"$f":"IF(MID($AH16,KJ$12,1)=MID($AJ16,KJ$12,1),\"\",KJ15)","v":257},258,259,260,261,262,263,264,265,266,267,268,269,270,271,272,273,274,275,276,277,278,279,280,281,282,283,284,285,286,287,288,289,290,291,292,293,294,295,296,297,298,299,"","","","","","","","","","","","","","","",315,316,317,318,319,320,{"$f":"IF(MID($AH16,MV$12,1)=MID($AJ16,MV$12,1),\"\",MV15)","v":321},322,323,324,325,326,327,328,329,330,331,332,"","","","","","","","","","","","","","","","","","","","","","","","","","","","","","","",364,365,366,367,368,369,370,371,372,373,374,375,376,377,378,379,380,381,382,383,384,{"$f":"IF(MID($AH16,PH$12,1)=MID($AJ16,PH$12,1),\"\",PH15)","v":385},386,387,388,389,390,391,392,393,394,395,396,397,398,399,400,401,402,403,404,405,406,407,408,409,410,411,412,413,414,415,416,417,418,419,420,421,422,423,424,425,426,427,428,429,430,431,432,433,434,435,436,437,438,439,440,441,442,443,444,445,446,447,448,{"$f":"IF(MID($AH16,RT$12,1)=MID($AJ16,RT$12,1),\"\",RT15)","v":449},450,451,"","","","","","","","","","","","","","","","","","","","","","","","","","","","","","","","",484,485,"","","","","","","","",494,495,496,497,498,499,500,"",502,503,504,505,506,507,508,"","","","",{"$f":"IF(MID($AH16,UF$12,1)=MID($AJ16,UF$12,1),\"\",UF15)","v":""},"","","","","","","","","","","","","","",""]

{"sheet":"Check_BREW","index":8,"n_rows":16,"n_cols":567,"rows_kept":16,"cut":false,"hidden":true,"merged":[]}
["1.      ","2.      ","3.      ","4.      ","5.      ","6.      ","7.      ","8.      ","9.      ","10.   ","11.   ","12.   ","13.   ","14.   ","15.   ","16.   ","17.   ","18.   ","19.   ","20.   ","21.   ","22.   ","23.   ","24.   ","25.   ","26.   ","27.   ","28.   ","29.   ","30.   ","31.   ","Col No.",null,null,null,null,null,null,null,null,null,null,null,null,null,null,null,null,null,null,null,null,null,null,null,null,null,null,null,null,null,null,null,null,null,null,null,null,null,null,null,null,null,null,null,null,null,null,null,null,null,null,null,null,null,null,null,null,null,null,null,null,null,null,null,null,null,null,null,null,null,null,null,null,null,null,null,null,null,null,null,null,null,null,null,null,null,null,null,null,null,null,null,null,null,null,null,null,null,null,null,null,null,null,null,null,null,null,null,null,null,null,null,null,null,null,null,null,null,null,null,null,null,null,null,null,null,null,null,null,null,null,null,null,null,null,null,null,null,null,null,null,null,null,null,null,null,null,null,null,null,null,null,null,null,null,null,null,null,null,null,null,null,null,null,null,null,null,null,null,null,null,null,null,null,null,null,null,null,null,null,null,null,null,null,null,null,null,null,null,null,null,null,null,null,null,null,null,null,null,null,null,null,null,null,null,null,null,null,null,null,null,null,null,null,null,null,null,null,null,null,null,null,null,null,null,null,null,null,null,null,null,null,null,null,null,null,null,null,null,null,null,null,null,null,null,null,null,null,null,null,null,null,null,null,null,null,null,null,null,null,null,null,null,null,null,null,null,null,null,null,null,null,null,null,null,null,null,null,null,null,null,null,null,null,null,null,null,null,null,null,null,null,null,null,null,null,null,null,null,null,null,null,null,null,null,null,null,null,null,null,null,null,null,null,null,null,null,null,null,null,null,null,null,null,null,null,null,null,null,null,null,null,null,null,null,null,null,null,null,null,null,null,null,null,null,null,null,null,null,null,null,null,null,null,null,null,null,null,null,null,null,null,null,null,null,null,null,null,null,null,null,null,null,null,null,null,null,null,null,null,null,null,null,null,null,null,null,null,null,null,null,null,null,null,null,null,null,null,null,null,null,null,null,null,null,null,null,null,null,null,null,null,null,null,null,null,null,null,null,null,null,null,null,null,null,null,null,null,null,null,null,null,null,null,null,null,null,null,null,null,null,null,null,null,null,null,null,null,null,null,null,null,null,null,null,null,null,null,null,null,null,null,null,null,null,null,null,null,null,null,null,null,null,null,null,null,null,null,null,null,null,null,null,null,null,null,null,null,null,null,null,null,null,null,null,null,null,null,null,null,null,null,null,null,null,null,null,null,null,null,null,null,null,null,null,null,null,null,null,null,null,null,null,null,null,null,null,null,null,null,null,null,"x"]
[1,3,5,11,15,23,26,28,29,37,72,107,142,150,235,295,315,317,322,324,339,364,449,459,484,494,502,504,509,510,511,"Field Position","Begin"]
[2,4,10,14,22,25,27,28,36,71,106,141,149,234,294,314,316,321,323,338,363,448,458,483,493,501,503,508,509,510,525,null,"End"]
["Jurisdiction Code","Return Type","Report Year/Month","Filer License Type","Filer Privilege Tax ID Number1","Schedule Type","Placeholder","Customer/Retailer","Date Received/Shipped or Sold","Bill of Lading","Invoice Number or Credit Memo #","Purchase Order Number ","Purchased From/Sold To Privilege Tax ID Number2","Purchased From/Sold To Name","Purchased From/Sold To Address","Purchased From/Sold To City","Purchased From/Sold To State or Region","Purchased From/Sold To Zip","Purchased From/Sold To Country","Product Code3","SKU/Inventory Code","Product Name","Quantity ","Keg Size","Case Quantity","Bottle/Can Size","Bottle/Can UOM","ABV","Placeholder","Placeholder","TTB Permit Number","Field Position Description"]
["Text","Text","Text","Text","Text","Text","N/A","Text","Text","Text","Text","Text","Text","Text","Text","Text","Text","Text","Text","Text","Text","Text","Num",null,"Num","Num","Text","Num",null,null,"Text","Data Type"]
[2,2,6,4,8,3,2,1,8,35,35,35,8,85,60,20,2,5,2,15,25,85,10,25,10,8,2,5,1,1,15,"Size"]
["OR","O","YYYYMM","LLLL","PT112334",null,"N/A",null,"YYYYMMDD",null,null,null,null,null,null,null,null,null,null,null,null,null,null,null,null,null,"Oz or Ml or L",null,null,null,null,"Format",null,null,null,null,null,null,null,{"$f":"AN12","v":1},2,3,4,5,6,7,8,9,10,11,12,13,14,15,16,17,18,19,20,21,22,23,24,25,26,27,28,29,30,31,32,33,34,35,36,37,38,39,40,41,42,43,44,45,46,47,48,49,50,51,52,53,54,55,56,57,58,59,60,61,62,63,64,{"$f":"CZ12","v":65},66,67,68,69,70,71,72,73,74,75,76,77,78,79,80,81,82,83,84,85,86,87,88,89,90,91,92,93,94,95,96,97,98,99,100,101,102,103,104,105,106,107,108,109,110,111,112,113,114,115,116,117,118,119,120,121,122,123,124,125,126,127,128,{"$f":"FL12","v":129},130,131,132,133,134,135,136,137,138,139,140,141,142,143,144,145,146,147,148,149,150,151,152,153,154,155,156,157,158,159,160,161,162,163,164,165,166,167,168,169,170,171,172,173,174,175,176,177,178,179,180,181,182,183,184,185,186,187,188,189,190,191,192,{"$f":"HX12","v":193},194,195,196,197,198,199,200,201,202,203,204,205,206,207,208,209,210,211,212,213,214,215,216,217,218,219,220,221,222,223,224,225,226,227,228,229,230,231,232,233,234,235,236,237,238,239,240,241,242,243,244,245,246,247,248,249,250,251,252,253,254,255,256,{"$f":"KJ12","v":257},258,259,260,261,262,263,264,265,266,267,268,269,270,271,272,273,274,275,276,277,278,279,280,281,282,283,284,285,286,287,288,289,290,291,292,293,294,295,296,297,298,299,300,301,302,303,304,305,306,307,308,309,310,311,312,313,314,315,316,317,318,319,320,{"$f":"MV12","v":321},322,323,324,325,326,327,328,329,330,331,332,333,334,335,336,337,338,339,340,341,342,343,344,345,346,347,348,349,350,351,352,353,354,355,356,357,358,359,360,361,362,363,364,365,366,367,368,369,370,371,372,373,374,375,376,377,378,379,380,381,382,383,384,{"$f":"PH12","v":385},386,387,388,389,390,391,392,393,394,395,396,397,398,399,400,401,402,403,404,405,406,407,408,409,410,411,412,413,414,415,416,417,418,419,420,421,422,423,424,425,426,427,428,429,430,431,432,433,434,435,436,437,438,439,440,441,442,443,444,445,446,447,448,{"$f":"RT12","v":449},450,451,452,453,454,455,456,457,458,459,460,461,462,463,464,465,466,467,468,469,470,471,472,473,474,475,476,477,478,479,480,481,482,483,484,485,486,487,488,489,490,491,492,493,494,495,496,497,498,499,500,501,502,503,504,505,506,507,508,509,510,511,512,{"$f":"UF12","v":513},514,515,516,517,518,519,520,521,522,523,524,525,526,527,528]
["M","M","M","M","M","M","N/A","M","M","M/O","M/O","O/M","C/O","C/M","C/M","C/M","C/M","C/M","C/M","M","O","M","M","C/M","C/M","C/M","C/M","M",null,null,"C/M","Field Requirement",null,null,null,null,null,null,"Excel",{"$f":"MID($AH$13,AN12,1)","v":"O"},"R"," "," "," "," "," "," "," "," "," "," "," "," "," "," "," "," "," "," "," "," "," "," "," "," "," "," "," "," "," "," "," "," "," "," "," "," "," "," "," "," "," "," "," "," "," "," "," "," "," "," "," "," "," "," "," "," "," "," "," "," "," "," ",{"$f":"MID($AH$13,CZ12,1)","v":" "}," "," "," "," "," "," "," "," "," "," "," "," "," "," "," "," "," "," "," "," "," "," "," "," "," "," "," "," "," "," "," "," "," "," "," "," "," "," "," "," "," "," "," "," "," "," "," "," "," "," "," "," "," "," "," "," "," "," "," "," "," "," "," ",{"$f":"MID($AH$13,FL12,1)","v":" "}," "," "," "," "," "," "," "," "," "," "," "," "," "," "," "," "," "," "," "," "," "," "," "," "," "," "," "," "," "," "," "," "," "," "," "," "," "," "," "," "," "," "," "," "," "," "," "," "," "," "," "," "," "," "," "," "," "," "," "," "," "," "," ",{"$f":"MID($AH$13,HX12,1)","v":" "}," "," "," "," "," "," "," "," "," "," "," "," "," "," "," "," "," "," "," "," "," "," "," "," "," "," "," "," "," "," "," "," "," "," "," "," "," "," "," "," "," "," "," "," "," "," "," "," "," "," "," "," "," "," "," "," "," "," "," "," "," "," "," ",{"$f":"MID($AH$13,KJ12,1)","v":" "}," "," "," "," "," "," "," "," "," "," "," "," "," "," "," "," "," "," "," "," "," "," "," "," "," "," "," "," "," "," "," "," "," "," "," "," "," "," "," "," "," "," "," "," "," "," "," "," "," "," "," "," "," "," "," "," "," "," "," "," "," "," "," ",{"$f":"MID($AH$13,MV12,1)","v":" "}," "," "," "," "," "," "," "," "," "," "," "," "," "," "," "," "," "," "," "," "," "," "," "," "," "," "," "," "," "," "," "," "," "," "," "," "," "," "," "," "," "," "," "," "," "," "," "," "," "," "," "," "," "," "," "," "," "," "," "," "," "," "," ",{"$f":"MID($AH$13,PH12,1)","v":" "}," "," "," "," "," "," "," "," "," "," "," "," "," "," "," "," "," "," "," "," "," "," "," "," "," "," "," "," "," "," "," "," "," "," "," "," "," "," "," "," "," "," "," "," "," "," "," "," "," "," "," "," "," "," "," "," "," "," "," "," "," "," "," ",{"$f":"MID($AH$13,RT12,1)","v":" "}," "," "," "," "," "," "," "," "," "," "," "," "," "," "," "," "," "," "," "," "," "," "," "," "," "," "," "," "," "," "," "," "," "," "," "," "," "," "," "," "," "," "," "," "," "," "," "," "," "," "," "," "," "," "," "," "," "," "," "," "," "," "," ",{"$f":"MID($AH$13,UF12,1)","v":" "}," "," "," "," "," "," "," "," "," "," "," "," ","","",""]
["OR","O ",202106,"BRW or BP","PT999999","1A ","N/A","Y or N",0.20210216,null,null,null,"PT999999",null,null,null,"OR",88888,"US","MB.CASE",null,null,null,null,null,99999.99,null,99.99,null,null,null,"Example",null,null,null,null,null,null,"VBA",{"$f":"MID($AJ$13,AN12,1)","v":"O"},"R","O"," ","2","0","2","1","0","6","B","R","W"," ","P","T","1","1","1","2","2","2","1","C"," "," "," ","Y"," "," "," "," "," "," "," "," "," "," "," "," "," "," "," "," "," "," "," "," "," "," "," "," "," "," "," "," "," "," "," "," "," "," "," "," ",{"$f":"MID($AJ$13,CZ12,1)","v":" "}," "," "," "," "," "," "," "," "," "," "," "," "," "," "," "," "," "," "," "," "," "," "," "," "," "," "," "," "," "," "," "," "," "," "," "," "," "," "," "," "," "," "," "," "," "," "," "," "," "," "," "," "," "," "," "," "," "," "," "," "," "," "," ",{"$f":"MID($AJ$13,FL12,1)","v":" "}," "," "," "," "," "," "," "," "," "," "," "," "," "," "," "," "," "," "," "," "," "," "," "," "," "," "," "," "," "," "," "," "," "," "," "," "," "," "," "," "," "," "," "," "," "," "," "," "," "," "," "," "," "," "," "," "," "," "," "," "," "," "," ",{"$f":"MID($AJ$13,HX12,1)","v":" "}," "," "," "," "," "," "," "," "," "," "," "," "," "," "," "," "," "," "," "," "," "," "," "," "," "," "," "," "," "," "," "," "," "," "," "," "," "," "," "," "," "," "," "," "," "," "," "," "," "," "," "," "," "," "," "," "," "," "," "," "," "," "," ",{"$f":"MID($AJ$13,KJ12,1)","v":" "}," "," "," "," "," "," "," "," "," "," "," "," "," "," "," "," "," "," "," "," "," "," "," "," "," "," "," "," "," "," "," "," "," "," "," "," "," "," "," "," "," "," "," "," "," "," "," "," "," "," "," "," "," "," "," "," "," "," "," "," "," "," "," ",{"$f":"MID($AJ$13,MV12,1)","v":" "}," "," ","M","B",".","C","a","s","e"," "," "," "," "," "," "," "," "," "," "," "," "," "," "," "," "," "," "," "," "," "," "," "," "," "," "," "," "," "," "," "," "," ","L","i","g","h","t"," ","C","h","o","c"," ","B","r","e","w"," "," "," "," "," "," ",{"$f":"MID($AJ$13,PH12,1)","v":" "}," "," "," "," "," "," "," "," "," "," "," "," "," "," "," "," "," "," "," "," "," "," "," "," "," "," "," "," "," "," "," "," "," "," "," "," "," "," "," "," "," "," "," "," "," "," "," "," "," "," "," "," "," "," "," "," "," "," "," "," "," "," "," ",{"$f":"MID($AJ$13,RT12,1)","v":"1"},"0","0","0"," "," "," "," "," "," "," "," "," "," "," "," "," "," "," "," "," "," "," "," "," "," "," "," "," "," "," "," "," "," "," ","6"," "," "," "," "," "," "," "," "," ","1","2"," "," "," "," "," "," ","o","z","5",".","6"," "," "," "," "," "," ",{"$f":"MID($AJ$13,UF12,1)","v":" "}," "," "," "," "," "," "," "," "," "," "," "," ","","",""]
["Identifies the jurisdiction to which the data belongs. Always = OR.","O = Original A = Amendment Space fill field as needed to 2 digits.","YYYY = Four digit year of the return period i.e. 2021. MM = Two digit month of the return period i.e. 06 for June. Example: 202106","BP = Brewpub\nBRW = Brewery","This number is created when you associate your OLCC license number in the privilege tax online system.  (this number must be the PT associated to your 1st / Primary location)","Schedule type associated with the WMBW and Warehouse Examples:  1A, 1B, 2A, 2B, etc.(See list of schedule codes in Appendix A)","NOT APPLICABLE FOR THIS LICENSE TYPE (Must space fill this field) ","This field is ONLY APPLICABLE for Schedule 1C.  For all other schedules, space fill.  Enter Y for yes, N for No.  If the value marked here is “Y” then the fields 9-19 are not required and should be space filled.","Date Rec’d/Exported/etc. is used for this report when reporting receipts & disbursements.","Enter the Bill of Lading for the specific transaction.  For the fields shown in 9, 10 and 11, at least 2 of these must be provided depending on the schedule.  If field not used, then must be space filled.","Enter the Invoice Number for the specific transaction.  For the fields shown in 9, 10 and 11, at least 2 of these must be provided depending on the schedule.  If field not used, then must be space filled.","Enter the Purchase Order Number for the specific transaction.  For the fields shown in 9, 10 and 11, at least 2 of these must be provided depending on the schedule.  If field not used, then must be space filled.","This is the unique number assigned by OPTO when the company associates their licenses.","Enter the name of the company where the product was sold to or purchased from.  Space fill field as needed to 85 characters.","Street address.  Required regardless of country entered.","City name. Required regardless of country entered.","Required for country = US or CA.  *When the country is not US or CA, this should be space filled.","Required.  *When the country is not US, this may be populated with 99999.","Two digit country code where the product comes from or is sold to, based upon schedule type.","This field will contain a code that is used to describe the Product Type in a reproducible manner. (see list of product codes in Appendix A)","SKU Number associated to the product in this transaction.","Name of product in this transaction.","This is the quantity shipped, received, exported, etc.  The value must be a positive whole number. ","See Appendix A for the list of values that can be sent in this field for a Keg product type transaction.","If product code chosen is a case product, then this field is required. Value must be a positive whole number.  ","If product code chosen is a case product, then this field is required. Value should be a non-negative number with up to two decimal places. ","If product code chosen is for case product, then this field is required.  The value should : “Oz” if the unit is Ounces and “Ml” if the unit is Milliliters. (Not case sensitive) Or L for Liter","Alcohol by volume.  ","Not Applicable for this license type.  Must be space filled. ","Not Applicable for this license type.  Must be space filled. ","If reporting schedule 3F or 3G, this must contain the value for Received From or Sent to TTB #.   If not schedule 3F or 3G, space fill. ",null,null,null,null,null,null,null,null,null,null,null,null,null,null,null,null,null,null,null,null,null,null,null,null,null,null,null,null,null,null,null,null,null,null,null,null,null,null,null,null,null,null,null,null,null,null,null,null,null,null,null,null,null,null,null,null,null,null,null,null,null,null,null,null,null,null,null,null,null,null,null,null,null,null,null,null,null,null,null,null,null,null,null,null,null,null,null,null,null,null,null,null,null,null,null,null,null,null,null,null,null,null,null,null,null,null,null,null,null,null,null,null,null,null,null,null,null,null,null,null,null,null,null,null,null,null,null,null,null,null,null,null,null,null,null,null,null,null,null,null,null,null,null,null,null,null,null,null,null,null,null,null,null,null,null,null,null,null,null,null,null,null,null,null,null,null,null,null,null,null,null,null,null,null,null,null,null,null,null,null,null,null,null,null,null,null,null,null,null,null,null,null,null,null,null,null,null,null,null,null,null,null,null,null,null,null,null,null,null,null,null,null,null,null,null,null,null,null,null,null,null,null,null,null,null,null,null,null,null,null,null,null,null,null,null,null,null,null,null,null,null,null,null,null,null,null,null,null,null,null,null,null,null,null,null,null,null,null,null,null,null,null,null,null,null,null,null,null,null,null,null,null,null,null,null,null,null,null,null,null,null,null,null,null,null,null,null,null,null,null,null,null,null,null,null,null,null,null,null,null,null,null,null,null,null,null,null,null,null,null,null,null,null,null,null,null,null,null,null,null,null,null,null,null,null,null,null,null,null,null,null,null,null,null,null,null,null,null,null,null,null,null,null,null,null,null,null,null,null,null,null,null,null,null,null,null,null,null,null,null,null,null,null,null,null,null,null,null,null,null,null,null,null,null,null,null,null,null,null,null,null,null,null,null,null,null,null,null,null,null,null,null,null,null,null,null,null,null,null,null,null,null,null,null,null,null,null,null,null,null,null,null,null,null,null,null,null,null,null,null,null,null,null,null,null,null,null,null,null,null,null,null,null,null,null,null,null,null,null,null,null,null,null,null,null,null,null,null,null,null,null,null,null,null,null,null,null,null,null,null,null,null,null,null,null,null,null,null,null,null,null,null,null,null,null,null,null,null,null,null,null,null,null,null,null,null,null,null,null,null,null,null,null,null,null,null,null,null,null,null,null,null,null,null,null,null,null,null,null,null,null,null,null,null,null,null,null,null,null,null,null,null,null,null,null,null,null,null,null,null,null,null,null,{"$f":"MID($AJ$13,US12,1)","v":""},{"$f":"MID($AJ$13,UT12,1)","v":""},{"$f":"MID($AJ$13,UU12,1)","v":""}]
[null,null,null,null,null,null,null,null,null,null,null,null,null,null,null,null,null,null,null,null,null,null,null,null,null,null,null,null,null,null,null,null,null,null,null,null,null,null,null,"Isolate characters"]
["Jurisdiction Code","Return Type\n(O or A)","Report Year/Month\n(yyyymm)","Filer License Type\n(BRW  for Brewery,BP for Brewpub)","Filer Privilege Tax ID Number\n(EXAMPLE OF  FORMAT: PT999999)","Schedule Type (1A, 1B, 2A, ETC)",null,"This field is ONLY APPLICABLE for 1C Schedule - all other schedules,  leave blank Customer / Retailer (Y or N) ","Date Field\nYYYYMMDD","Bill of Lading #","Invoice #","Purchase Order #","purchased from / sold to Privilege Tax ID Number(EXAMPLE OF  FORMAT: PT999999)","Purchased from / sold to \nName ","\n\nPurchased from / sold to \nStreet Address","Purchased from / sold to \nCity","Purchased from / sold to \nState/Region","Purchased from / sold to \nZip/Postal","\nPurchased from / sold to Country","Product Code (Must be a valid code from list on Instructions Tab)","SKU/Inventory Code","Product Name","Quantity","Keg Sizes\n(1/2; 1/4; 1/6; 1/8;    1.32Gal; 5Gal; 5.16Gal; 5.2Gal; 7.9Gal; 10.8Gal; 13.2Gal; 18L; 19L; 19.5L; 20L; 24L; 25L; 30L; 50L)","Case Quantity\n(Must be a positive whole number)","Bottle/Can size (Example of format:  99999.99) ","Bottle/Can Unit of Measure\n(Not Case Sensitive OZ for ounces, ML for milliliters or L for Liters)","ABV (Alcohol by Volume)\n(Example of format:  99.99)","Subject to Small Winery Exemption?\n(Y or Blank)",null,"Shipped to or Received From  Brewers Notice Permit #",null,null,"Export","Len","Text file","Len","Check",null,1,2,3,4,5,6,7,8,9,10,11,12,13,14,15,16,17,18,19,20,21,22,23,24,25,26,27,28,29,30,31,32,33,34,35,36,37,38,39,40,41,42,43,44,45,46,47,48,49,50,51,52,53,54,55,56,57,58,59,60,61,62,63,64,65,66,67,68,69,70,71,72,73,74,75,76,77,78,79,80,81,82,83,84,85,86,87,88,89,90,91,92,93,94,95,96,97,98,99,100,101,102,103,104,105,106,107,108,109,110,111,112,113,114,115,116,117,118,119,120,121,122,123,124,125,126,127,128,129,130,131,132,133,134,135,136,137,138,139,140,141,142,143,144,145,146,147,148,149,150,151,152,153,154,155,156,157,158,159,160,161,162,163,164,165,166,167,168,169,170,171,172,173,174,175,176,177,178,179,180,181,182,183,184,185,186,187,188,189,190,191,192,193,194,195,196,197,198,199,200,201,202,203,204,205,206,207,208,209,210,211,212,213,214,215,216,217,218,219,220,221,222,223,224,225,226,227,228,229,230,231,232,233,234,235,236,237,238,239,240,241,242,243,244,245,246,247,248,249,250,251,252,253,254,255,256,257,258,259,260,261,262,263,264,265,266,267,268,269,270,271,272,273,274,275,276,277,278,279,280,281,282,283,284,285,286,287,288,289,290,291,292,293,294,295,296,297,298,299,300,301,302,303,304,305,306,307,308,309,310,311,312,313,314,315,316,317,318,319,320,321,322,323,324,325,326,327,328,329,330,331,332,333,334,335,336,337,338,339,340,341,342,343,344,345,346,347,348,349,350,351,352,353,354,355,356,357,358,359,360,361,362,363,364,365,366,367,368,369,370,371,372,373,374,375,376,377,378,379,380,381,382,383,384,385,386,387,388,389,390,391,392,393,394,395,396,397,398,399,400,401,402,403,404,405,406,407,408,409,410,411,412,413,414,415,416,417,418,419,420,421,422,423,424,425,426,427,428,429,430,431,432,433,434,435,436,437,438,439,440,441,442,443,444,445,446,447,448,449,450,451,452,453,454,455,456,457,458,459,460,461,462,463,464,465,466,467,468,469,470,471,472,473,474,475,476,477,478,479,480,481,482,483,484,485,486,487,488,489,490,491,492,493,494,495,496,497,498,499,500,501,502,503,504,505,506,507,508,509,510,511,512,513,514,515,516,517,518,519,520,521,522,523,524,525,526,527,528]
[{"$f":"\"OR\"","v":"OR"},{"$f":"LEFT(BREW!B4&REPT(\" \",B$6),B$6)","v":"  "},{"$f":"LEFT(BREW!C4&REPT(\" \",C$6),C$6)","v":"      "},{"$f":"LEFT(BREW!D4&REPT(\" \",D$6),D$6)","v":"    "},{"$f":"LEFT(BREW!E4&REPT(\" \",E$6),E$6)","v":"        "},{"$f":"LEFT(BREW!F4&REPT(\" \",F$6),F$6)","v":"   "},{"$f":"LEFT(BREW!G4&REPT(\" \",G$6),G$6)","v":"  "},{"$f":"LEFT(BREW!H4&REPT(\" \",H$6),H$6)","v":" "},{"$f":"LEFT(BREW!I4&REPT(\" \",I$6),I$6)","v":"        "},{"$f":"LEFT(BREW!J4&REPT(\" \",J$6),J$6)","v":"                                   "},{"$f":"LEFT(BREW!K4&REPT(\" \",K$6),K$6)","v":"                                   "},{"$f":"LEFT(BREW!L4&REPT(\" \",L$6),L$6)","v":"                                   "},{"$f":"LEFT(BREW!M4&REPT(\" \",M$6),M$6)","v":"        "},{"$f":"LEFT(BREW!N4&REPT(\" \",N$6),N$6)","v":"                                                                                     "},{"$f":"LEFT(BREW!O4&REPT(\" \",O$6),O$6)","v":"                                                            "},{"$f":"LEFT(BREW!P4&REPT(\" \",P$6),P$6)","v":"                    "},{"$f":"LEFT(BREW!Q4&REPT(\" \",Q$6),Q$6)","v":"  "},{"$f":"LEFT(BREW!R4&REPT(\" \",R$6),R$6)","v":"     "},{"$f":"LEFT(BREW!S4&REPT(\" \",S$6),S$6)","v":"  "},{"$f":"LEFT(BREW!T4&REPT(\" \",T$6),T$6)","v":"               "},{"$f":"LEFT(BREW!U4&REPT(\" \",U$6),U$6)","v":"                         "},{"$f":"LEFT(BREW!V4&REPT(\" \",V$6),V$6)","v":"                                                                                     "},{"$f":"LEFT(BREW!W4&REPT(\" \",W$6),W$6)","v":"          "},{"$f":"LEFT(BREW!X4&REPT(\" \",X$6),X$6)","v":"                         "},{"$f":"LEFT(BREW!Y4&REPT(\" \",Y$6),Y$6)","v":"          "},{"$f":"LEFT(BREW!Z4&REPT(\" \",Z$6),Z$6)","v":"        "},{"$f":"LEFT(BREW!AA4&REPT(\" \",AA$6),AA$6)","v":"  "},{"$f":"LEFT(BREW!AB4&REPT(\" \",AB$6),AB$6)","v":"     "},{"$f":"LEFT(BREW!AC4&REPT(\" \",AC$6),AC$6)","v":" "},{"$f":"LEFT(BREW!AD4&REPT(\" \",AD$6),AD$6)","v":" "},{"$f":"LEFT(BREW!AE4&REPT(\" \",AE$6),AE$6)","v":"               "},null,null,{"$f":"_xlfn.TEXTJOIN(\"\",FALSE,A13:AE13)","v":"OR                                                                                                                                                                                                                                                                                                                                                                                                                                                                                                                                           "},{"$f":"LEN(AH13)","v":525},"ORO 202106BRW PT1112221C   Y                                                                                                                                                                                                                                                                                                       MB.Case                                 Light Choc Brew                                                                      1000                               6         12      oz5.6                   ",{"$f":"LEN(AJ13)","v":525},{"$f":"INDEX(AN13:UX13,MATCH(TRUE,INDEX((AN13:UX13<>\"\"),0),0))","v":3},{"$f":"MIN(AN13:UR13)","v":3},{"$f":"IF(MID($AH13,AN$12,1)=MID($AJ13,AN$12,1),\"\",MID($AJ13,AN$12,1))","v":""},{"$f":"IF(MID($AH13,AO$12,1)=MID($AJ13,AO$12,1),\"\",AO12)","v":""},3,"",5,6,7,8,9,10,11,12,13,"",15,16,17,18,19,20,21,22,23,24,"","","",28,"","","","","","","","","","","","","","","","","","","","","","","","","","","","","","","","","","","","","",{"$f":"IF(MID($AH13,DA$12,1)=MID($AJ13,DA$12,1),\"\",DA12)","v":""},"","","","","","","","","","","","","","","","","","","","","","","","","","","","","","","","","","","","","","","","","","","","","","","","","","","","","","","","","","","","","","","",{"$f":"IF(MID($AH13,FM$12,1)=MID($AJ13,FM$12,1),\"\",FM12)","v":""},"","","","","","","","","","","","","","","","","","","","","","","","","","","","","","","","","","","","","","","","","","","","","","","","","","","","","","","","","","","","","","","",{"$f":"IF(MID($AH13,HY$12,1)=MID($AJ13,HY$12,1),\"\",HY12)","v":""},"","","","","","","","","","","","","","","","","","","","","","","","","","","","","","","","","","","","","","","","","","","","","","","","","","","","","","","","","","","","","","","",{"$f":"IF(MID($AH13,KK$12,1)=MID($AJ13,KK$12,1),\"\",KK12)","v":""},"","","","","","","","","","","","","","","","","","","","","","","","","","","","","","","","","","","","","","","","","","","","","","","","","","","","","","","","","","","","","","","",{"$f":"IF(MID($AH13,MW$12,1)=MID($AJ13,MW$12,1),\"\",MW12)","v":""},"",324,325,326,327,328,329,330,"","","","","","","","","","","","","","","","","","","","","","","","","","","","","","","","","",364,365,366,367,368,"",370,371,372,373,"",375,376,377,378,"","","","","","","",{"$f":"IF(MID($AH13,PI$12,1)=MID($AJ13,PI$12,1),\"\",PI12)","v":""},"","","","","","","","","","","","","","","","","","","","","","","","","","","","","","","","","","","","","","","","","","","","","","","","","","","","","","","","","","","","","","",449,{"$f":"IF(MID($AH13,RU$12,1)=MID($AJ13,RU$12,1),\"\",RU12)","v":450},451,452,"","","","","","","","","","","","","","","","","","","","","","","","","","","","","","","",484,"","","","","","","","","",494,495,"","","","","","",502,503,504,505,506,"","","","","","","",{"$f":"IF(MID($AH13,UG$12,1)=MID($AJ13,UG$12,1),\"\",UG12)","v":""},"","","","","","","","","","","","","",""]
["OR",{"$f":"LEFT(BREW!B5&REPT(\" \",B$6),B$6)","v":"  "},{"$f":"LEFT(BREW!C5&REPT(\" \",C$6),C$6)","v":"      "},{"$f":"LEFT(BREW!D5&REPT(\" \",D$6),D$6)","v":"    "},{"$f":"LEFT(BREW!E5&REPT(\" \",E$6),E$6)","v":"        "},{"$f":"LEFT(BREW!F5&REPT(\" \",F$6),F$6)","v":"   "},{"$f":"LEFT(BREW!G5&REPT(\" \",G$6),G$6)","v":"  "},{"$f":"LEFT(BREW!H5&REPT(\" \",H$6),H$6)","v":" "},{"$f":"LEFT(BREW!I5&REPT(\" \",I$6),I$6)","v":"        "},{"$f":"LEFT(BREW!J5&REPT(\" \",J$6),J$6)","v":"                                   "},{"$f":"LEFT(BREW!K5&REPT(\" \",K$6),K$6)","v":"                                   "},{"$f":"LEFT(BREW!L5&REPT(\" \",L$6),L$6)","v":"                                   "},{"$f":"LEFT(BREW!M5&REPT(\" \",M$6),M$6)","v":"        "},{"$f":"LEFT(BREW!N5&REPT(\" \",N$6),N$6)","v":"                                                                                     "},{"$f":"LEFT(BREW!O5&REPT(\" \",O$6),O$6)","v":"                                                            "},{"$f":"LEFT(BREW!P5&REPT(\" \",P$6),P$6)","v":"                    "},{"$f":"LEFT(BREW!Q5&REPT(\" \",Q$6),Q$6)","v":"  "},{"$f":"LEFT(BREW!R5&REPT(\" \",R$6),R$6)","v":"     "},{"$f":"LEFT(BREW!S5&REPT(\" \",S$6),S$6)","v":"  "},{"$f":"LEFT(BREW!T5&REPT(\" \",T$6),T$6)","v":"               "},{"$f":"LEFT(BREW!U5&REPT(\" \",U$6),U$6)","v":"                         "},{"$f":"LEFT(BREW!V5&REPT(\" \",V$6),V$6)","v":"                                                                                     "},{"$f":"LEFT(BREW!W5&REPT(\" \",W$6),W$6)","v":"          "},{"$f":"LEFT(BREW!X5&REPT(\" \",X$6),X$6)","v":"                         "},{"$f":"LEFT(BREW!Y5&REPT(\" \",Y$6),Y$6)","v":"          "},{"$f":"LEFT(BREW!Z5&REPT(\" \",Z$6),Z$6)","v":"        "},{"$f":"LEFT(BREW!AA5&REPT(\" \",AA$6),AA$6)","v":"  "},{"$f":"LEFT(BREW!AB5&REPT(\" \",AB$6),AB$6)","v":"     "},{"$f":"LEFT(BREW!AC5&REPT(\" \",AC$6),AC$6)","v":" "},{"$f":"LEFT(BREW!AD5&REPT(\" \",AD$6),AD$6)","v":" "},{"$f":"LEFT(BREW!AE5&REPT(\" \",AE$6),AE$6)","v":"               "},null,null,"OR                                                                                                                                                                                                                                                                                                                                                                                                                                                                                                                                           ",525,"ORO 202106BRW PT1112221C   N202112132929                               2929                               2929                               PT222333I sold to this company                                                               222 Main                                                    Salem               OR88888USMB.Keg                                  Light Choc Brew                                                                      200       1/2                                          6                     ",525,{"$f":"INDEX(AN14:UX14,MATCH(TRUE,INDEX((AN14:UX14<>\"\"),0),0))","v":3},3,{"$f":"IF(MID($AH14,AN$12,1)=MID($AJ14,AN$12,1),\"\",MID($AJ14,AN$12,1))","v":""},"",3,"",5,6,7,8,9,10,11,12,13,"",15,16,17,18,19,20,21,22,23,24,"","","",28,"","","","","","","","","","","","","","","","","","","","","","","","","","","","","","","","","","","","","","","","","","","","","","","","","","","","","","","","","","","","","","","","","","","","","","","","","","","","","","","","","","","","","","","","","","","","","","","","","","","","","","","","","","","","","","","","","","","","","","","","","","","","","","","","","","","","","","","","","","","","","","","","","","","","","","","","","","","","","","","","","","","","","","","","","","","","","","","","","","","","","","","","","","","","","","","","","","","","","","","","","","","","","","","","","","","","","","","","","","","","","","","","","","","","","","","","","","","","","","","","","","","","","","","","","","","","","","","","","","","","","","","","","","","","","","","","","","","","","","","","","","","","","","","","","","","","","","","",324,325,326,327,328,329,"","","","","","","","","","","","","","","","","","","","","","","","","","","","","","","","","","",364,365,366,367,368,"",370,371,372,373,"",375,376,377,378,"","","","","","","","","","","","","","","","","","","","","","","","","","","","","","","","","","","","","","","","","","","","","","","","","","","","","","","","","","","","","","","","","","","","","","",449,450,451,"","","","","","","","","","","","","","","","","","","","","","","","","","","","","","","","","","","","","","","","","","","","","","","","","","","","",504,"","","","","","","","","","","","","","","","","","","","","","","",""]
["OR",{"$f":"LEFT(BREW!B6&REPT(\" \",B$6),B$6)","v":"  "},{"$f":"LEFT(BREW!C6&REPT(\" \",C$6),C$6)","v":"      "},{"$f":"LEFT(BREW!D6&REPT(\" \",D$6),D$6)","v":"    "},{"$f":"LEFT(BREW!E6&REPT(\" \",E$6),E$6)","v":"        "},{"$f":"LEFT(BREW!F6&REPT(\" \",F$6),F$6)","v":"   "},{"$f":"LEFT(BREW!G6&REPT(\" \",G$6),G$6)","v":"  "},{"$f":"LEFT(BREW!H6&REPT(\" \",H$6),H$6)","v":" "},{"$f":"LEFT(BREW!I6&REPT(\" \",I$6),I$6)","v":"        "},{"$f":"LEFT(BREW!J6&REPT(\" \",J$6),J$6)","v":"                                   "},{"$f":"LEFT(BREW!K6&REPT(\" \",K$6),K$6)","v":"                                   "},{"$f":"LEFT(BREW!L6&REPT(\" \",L$6),L$6)","v":"                                   "},{"$f":"LEFT(BREW!M6&REPT(\" \",M$6),M$6)","v":"        "},{"$f":"LEFT(BREW!N6&REPT(\" \",N$6),N$6)","v":"                                                                                     "},{"$f":"LEFT(BREW!O6&REPT(\" \",O$6),O$6)","v":"                                                            "},{"$f":"LEFT(BREW!P6&REPT(\" \",P$6),P$6)","v":"                    "},{"$f":"LEFT(BREW!Q6&REPT(\" \",Q$6),Q$6)","v":"  "},{"$f":"LEFT(BREW!R6&REPT(\" \",R$6),R$6)","v":"     "},{"$f":"LEFT(BREW!S6&REPT(\" \",S$6),S$6)","v":"  "},{"$f":"LEFT(BREW!T6&REPT(\" \",T$6),T$6)","v":"               "},{"$f":"LEFT(BREW!U6&REPT(\" \",U$6),U$6)","v":"                         "},{"$f":"LEFT(BREW!V6&REPT(\" \",V$6),V$6)","v":"                                                                                     "},{"$f":"LEFT(BREW!W6&REPT(\" \",W$6),W$6)","v":"          "},{"$f":"LEFT(BREW!X6&REPT(\" \",X$6),X$6)","v":"                         "},{"$f":"LEFT(BREW!Y6&REPT(\" \",Y$6),Y$6)","v":"          "},{"$f":"LEFT(BREW!Z6&REPT(\" \",Z$6),Z$6)","v":"        "},{"$f":"LEFT(BREW!AA6&REPT(\" \",AA$6),AA$6)","v":"  "},{"$f":"LEFT(BREW!AB6&REPT(\" \",AB$6),AB$6)","v":"     "},{"$f":"LEFT(BREW!AC6&REPT(\" \",AC$6),AC$6)","v":" "},{"$f":"LEFT(BREW!AD6&REPT(\" \",AD$6),AD$6)","v":" "},{"$f":"LEFT(BREW!AE6&REPT(\" \",AE$6),AE$6)","v":"               "},null,null,"OR                                                                                                                                                                                                                                                                                                                                                                                                                                                                                                                                           ",525,"ORO 202106BRW PT1112221B    202112132929                               2929                               2929                               PT222333I sold to this company                                                               222 Main                                                    Salem               OR88888USMB.Case                                 Gator Bite                                                                           100                                12        12      L 5.9                   ",525,{"$f":"INDEX(AN15:UX15,MATCH(TRUE,INDEX((AN15:UX15<>\"\"),0),0))","v":3},3,"","",3,"",5,6,7,8,9,10,11,12,13,"",15,16,17,18,19,20,21,22,23,24,"","","","","","","","","","","","","","","","","","","","","","","","","","","","","","","","","","","","","","","","","","","","","","","","","","","","","","","","","","","","","","","","","","","","","","","","","","","","","","","","","","","","","","","","","","","","","","","","","","","","","","","","","","","","","","","","","","","","","","","","","","","","","","","","","","","","","","","","","","","","","","","","","","","","","","","","","","","","","","","","","","","","","","","","","","","","","","","","","","","","","","","","","","","","","","","","","","","","","","","","","","","","","","","","","","","","","","","","","","","","","","","","","","","","","","","","","","","","","","","","","","","","","","","","","","","","","","","","","","","","","","","","","","","","","","","","","","","","","","","","","","","","","","","","","","","","","","","","","","","",324,325,326,327,328,329,"","","","","","","","","","","","","","","","","","","","","","","","","","","","","","","","","","",364,365,366,367,368,"",370,371,372,373,"","","","","","","","","","","","","","","","","","","","","","","","","","","","","","","","","","","","","","","","","","","","","","","","","","","","","","","","","","","","","","","","","","","","","","","","","","","",449,450,451,"","","","","","","","","","","","","","","","","","","","","","","","","","","","","","","","","","","","","","","","","","","","","","","","","","","","",504,"","","","","","","","","","","","","","","","","","","","","","","",""]
["OR",{"$f":"LEFT(BREW!#REF!&REPT(\" \",B$6),B$6)","v":{"$error":"#REF!"}},{"$f":"LEFT(BREW!#REF!&REPT(\" \",C$6),C$6)","v":{"$error":"#REF!"}},{"$f":"LEFT(BREW!#REF!&REPT(\" \",D$6),D$6)","v":{"$error":"#REF!"}},{"$f":"LEFT(BREW!#REF!&REPT(\" \",E$6),E$6)","v":{"$error":"#REF!"}},{"$f":"LEFT(BREW!#REF!&REPT(\" \",F$6),F$6)","v":{"$error":"#REF!"}},{"$f":"LEFT(BREW!#REF!&REPT(\" \",G$6),G$6)","v":{"$error":"#REF!"}},{"$f":"LEFT(BREW!#REF!&REPT(\" \",H$6),H$6)","v":{"$error":"#REF!"}},{"$f":"LEFT(BREW!#REF!&REPT(\" \",I$6),I$6)","v":{"$error":"#REF!"}},{"$f":"LEFT(BREW!#REF!&REPT(\" \",J$6),J$6)","v":{"$error":"#REF!"}},{"$f":"LEFT(BREW!#REF!&REPT(\" \",K$6),K$6)","v":{"$error":"#REF!"}},{"$f":"LEFT(BREW!#REF!&REPT(\" \",L$6),L$6)","v":{"$error":"#REF!"}},{"$f":"LEFT(BREW!#REF!&REPT(\" \",M$6),M$6)","v":{"$error":"#REF!"}},{"$f":"LEFT(BREW!#REF!&REPT(\" \",N$6),N$6)","v":{"$error":"#REF!"}},{"$f":"LEFT(BREW!#REF!&REPT(\" \",O$6),O$6)","v":{"$error":"#REF!"}},{"$f":"LEFT(BREW!#REF!&REPT(\" \",P$6),P$6)","v":{"$error":"#REF!"}},{"$f":"LEFT(BREW!#REF!&REPT(\" \",Q$6),Q$6)","v":{"$error":"#REF!"}},{"$f":"LEFT(BREW!#REF!&REPT(\" \",R$6),R$6)","v":{"$error":"#REF!"}},{"$f":"LEFT(BREW!#REF!&REPT(\" \",S$6),S$6)","v":{"$error":"#REF!"}},{"$f":"LEFT(BREW!#REF!&REPT(\" \",T$6),T$6)","v":{"$error":"#REF!"}},{"$f":"LEFT(BREW!#REF!&REPT(\" \",U$6),U$6)","v":{"$error":"#REF!"}},{"$f":"LEFT(BREW!#REF!&REPT(\" \",V$6),V$6)","v":{"$error":"#REF!"}},{"$f":"LEFT(BREW!#REF!&REPT(\" \",W$6),W$6)","v":{"$error":"#REF!"}},{"$f":"LEFT(BREW!#REF!&REPT(\" \",X$6),X$6)","v":{"$error":"#REF!"}},{"$f":"LEFT(BREW!#REF!&REPT(\" \",Y$6),Y$6)","v":{"$error":"#REF!"}},{"$f":"LEFT(BREW!#REF!&REPT(\" \",Z$6),Z$6)","v":{"$error":"#REF!"}},{"$f":"LEFT(BREW!#REF!&REPT(\" \",AA$6),AA$6)","v":{"$error":"#REF!"}},{"$f":"LEFT(BREW!#REF!&REPT(\" \",AB$6),AB$6)","v":{"$error":"#REF!"}},{"$f":"LEFT(BREW!#REF!&REPT(\" \",AC$6),AC$6)","v":{"$error":"#REF!"}},{"$f":"LEFT(BREW!#REF!&REPT(\" \",AD$6),AD$6)","v":{"$error":"#REF!"}},{"$f":"LEFT(BREW!#REF!&REPT(\" \",AE$6),AE$6)","v":{"$error":"#REF!"}},null,null,{"$error":"#REF!"},{"$error":"#REF!"},null,0,{"$f":"INDEX(AN16:UX16,MATCH(TRUE,INDEX((AN16:UX16<>\"\"),0),0))","v":{"$error":"#N/A"}},{"$error":"#REF!"},{"$error":"#REF!"},{"$error":"#REF!"},{"$error":"#REF!"},{"$error":"#REF!"},{"$error":"#REF!"},{"$error":"#REF!"},{"$error":"#REF!"},{"$error":"#REF!"},{"$error":"#REF!"},{"$error":"#REF!"},{"$error":"#REF!"},{"$error":"#REF!"},{"$error":"#REF!"},{"$error":"#REF!"},{"$error":"#REF!"},{"$error":"#REF!"},{"$error":"#REF!"},{"$error":"#REF!"},{"$error":"#REF!"},{"$error":"#REF!"},{"$error":"#REF!"},{"$error":"#REF!"},{"$error":"#REF!"},{"$error":"#REF!"},{"$error":"#REF!"},{"$error":"#REF!"},{"$error":"#REF!"},{"$error":"#REF!"},{"$error":"#REF!"},{"$error":"#REF!"},{"$error":"#REF!"},{"$error":"#REF!"},{"$error":"#REF!"},{"$error":"#REF!"},{"$error":"#REF!"},{"$error":"#REF!"},{"$error":"#REF!"},{"$error":"#REF!"},{"$error":"#REF!"},{"$error":"#REF!"},{"$error":"#REF!"},{"$error":"#REF!"},{"$error":"#REF!"},{"$error":"#REF!"},{"$error":"#REF!"},{"$error":"#REF!"},{"$error":"#REF!"},{"$error":"#REF!"},{"$error":"#REF!"},{"$error":"#REF!"},{"$error":"#REF!"},{"$error":"#REF!"},{"$error":"#REF!"},{"$error":"#REF!"},{"$error":"#REF!"},{"$error":"#REF!"},{"$error":"#REF!"},{"$error":"#REF!"},{"$error":"#REF!"},{"$error":"#REF!"},{"$error":"#REF!"},{"$error":"#REF!"},{"$error":"#REF!"},{"$error":"#REF!"},{"$f":"IF(MID($AH16,CZ$12,1)=MID($AJ16,CZ$12,1),\"\",CZ15)","v":{"$error":"#REF!"}},{"$error":"#REF!"},{"$error":"#REF!"},{"$error":"#REF!"},{"$error":"#REF!"},{"$error":"#REF!"},{"$error":"#REF!"},{"$error":"#REF!"},{"$error":"#REF!"},{"$error":"#REF!"},{"$error":"#REF!"},{"$error":"#REF!"},{"$error":"#REF!"},{"$error":"#REF!"},{"$error":"#REF!"},{"$error":"#REF!"},{"$error":"#REF!"},{"$error":"#REF!"},{"$error":"#REF!"},{"$error":"#REF!"},{"$error":"#REF!"},{"$error":"#REF!"},{"$error":"#REF!"},{"$error":"#REF!"},{"$error":"#REF!"},{"$error":"#REF!"},{"$error":"#REF!"},{"$error":"#REF!"},{"$error":"#REF!"},{"$error":"#REF!"},{"$error":"#REF!"},{"$error":"#REF!"},{"$error":"#REF!"},{"$error":"#REF!"},{"$error":"#REF!"},{"$error":"#REF!"},{"$error":"#REF!"},{"$error":"#REF!"},{"$error":"#REF!"},{"$error":"#REF!"},{"$error":"#REF!"},{"$error":"#REF!"},{"$error":"#REF!"},{"$error":"#REF!"},{"$error":"#REF!"},{"$error":"#REF!"},{"$error":"#REF!"},{"$error":"#REF!"},{"$error":"#REF!"},{"$error":"#REF!"},{"$error":"#REF!"},{"$error":"#REF!"},{"$error":"#REF!"},{"$error":"#REF!"},{"$error":"#REF!"},{"$error":"#REF!"},{"$error":"#REF!"},{"$error":"#REF!"},{"$error":"#REF!"},{"$error":"#REF!"},{"$error":"#REF!"},{"$error":"#REF!"},{"$error":"#REF!"},{"$error":"#REF!"},{"$f":"IF(MID($AH16,FL$12,1)=MID($AJ16,FL$12,1),\"\",FL15)","v":{"$error":"#REF!"}},{"$error":"#REF!"},{"$error":"#REF!"},{"$error":"#REF!"},{"$error":"#REF!"},{"$error":"#REF!"},{"$error":"#REF!"},{"$error":"#REF!"},{"$error":"#REF!"},{"$error":"#REF!"},{"$error":"#REF!"},{"$error":"#REF!"},{"$error":"#REF!"},{"$error":"#REF!"},{"$error":"#REF!"},{"$error":"#REF!"},{"$error":"#REF!"},{"$error":"#REF!"},{"$error":"#REF!"},{"$error":"#REF!"},{"$error":"#REF!"},{"$error":"#REF!"},{"$error":"#REF!"},{"$error":"#REF!"},{"$error":"#REF!"},{"$error":"#REF!"},{"$error":"#REF!"},{"$error":"#REF!"},{"$error":"#REF!"},{"$error":"#REF!"},{"$error":"#REF!"},{"$error":"#REF!"},{"$error":"#REF!"},{"$error":"#REF!"},{"$error":"#REF!"},{"$error":"#REF!"},{"$error":"#REF!"},{"$error":"#REF!"},{"$error":"#REF!"},{"$error":"#REF!"},{"$error":"#REF!"},{"$error":"#REF!"},{"$error":"#REF!"},{"$error":"#REF!"},{"$error":"#REF!"},{"$error":"#REF!"},{"$error":"#REF!"},{"$error":"#REF!"},{"$error":"#REF!"},{"$error":"#REF!"},{"$error":"#REF!"},{"$error":"#REF!"},{"$error":"#REF!"},{"$error":"#REF!"},{"$error":"#REF!"},{"$error":"#REF!"},{"$error":"#REF!"},{"$error":"#REF!"},{"$error":"#REF!"},{"$error":"#REF!"},{"$error":"#REF!"},{"$error":"#REF!"},{"$error":"#REF!"},{"$error":"#REF!"},{"$f":"IF(MID($AH16,HX$12,1)=MID($AJ16,HX$12,1),\"\",HX15)","v":{"$error":"#REF!"}},{"$error":"#REF!"},{"$error":"#REF!"},{"$error":"#REF!"},{"$error":"#REF!"},{"$error":"#REF!"},{"$error":"#REF!"},{"$error":"#REF!"},{"$error":"#REF!"},{"$error":"#REF!"},{"$error":"#REF!"},{"$error":"#REF!"},{"$error":"#REF!"},{"$error":"#REF!"},{"$error":"#REF!"},{"$error":"#REF!"},{"$error":"#REF!"},{"$error":"#REF!"},{"$error":"#REF!"},{"$error":"#REF!"},{"$error":"#REF!"},{"$error":"#REF!"},{"$error":"#REF!"},{"$error":"#REF!"},{"$error":"#REF!"},{"$error":"#REF!"},{"$error":"#REF!"},{"$error":"#REF!"},{"$error":"#REF!"},{"$error":"#REF!"},{"$error":"#REF!"},{"$error":"#REF!"},{"$error":"#REF!"},{"$error":"#REF!"},{"$error":"#REF!"},{"$error":"#REF!"},{"$error":"#REF!"},{"$error":"#REF!"},{"$error":"#REF!"},{"$error":"#REF!"},{"$error":"#REF!"},{"$error":"#REF!"},{"$error":"#REF!"},{"$error":"#REF!"},{"$error":"#REF!"},{"$error":"#REF!"},{"$error":"#REF!"},{"$error":"#REF!"},{"$error":"#REF!"},{"$error":"#REF!"},{"$error":"#REF!"},{"$error":"#REF!"},{"$error":"#REF!"},{"$error":"#REF!"},{"$error":"#REF!"},{"$error":"#REF!"},{"$error":"#REF!"},{"$error":"#REF!"},{"$error":"#REF!"},{"$error":"#REF!"},{"$error":"#REF!"},{"$error":"#REF!"},{"$error":"#REF!"},{"$error":"#REF!"},{"$f":"IF(MID($AH16,KJ$12,1)=MID($AJ16,KJ$12,1),\"\",KJ15)","v":{"$error":"#REF!"}},{"$error":"#REF!"},{"$error":"#REF!"},{"$error":"#REF!"},{"$error":"#REF!"},{"$error":"#REF!"},{"$error":"#REF!"},{"$error":"#REF!"},{"$error":"#REF!"},{"$error":"#REF!"},{"$error":"#REF!"},{"$error":"#REF!"},{"$error":"#REF!"},{"$error":"#REF!"},{"$error":"#REF!"},{"$error":"#REF!"},{"$error":"#REF!"},{"$error":"#REF!"},{"$error":"#REF!"},{"$error":"#REF!"},{"$error":"#REF!"},{"$error":"#REF!"},{"$error":"#REF!"},{"$error":"#REF!"},{"$error":"#REF!"},{"$error":"#REF!"},{"$error":"#REF!"},{"$error":"#REF!"},{"$error":"#REF!"},{"$error":"#REF!"},{"$error":"#REF!"},{"$error":"#REF!"},{"$error":"#REF!"},{"$error":"#REF!"},{"$error":"#REF!"},{"$error":"#REF!"},{"$error":"#REF!"},{"$error":"#REF!"},{"$error":"#REF!"},{"$error":"#REF!"},{"$error":"#REF!"},{"$error":"#REF!"},{"$error":"#REF!"},{"$error":"#REF!"},{"$error":"#REF!"},{"$error":"#REF!"},{"$error":"#REF!"},{"$error":"#REF!"},{"$error":"#REF!"},{"$error":"#REF!"},{"$error":"#REF!"},{"$error":"#REF!"},{"$error":"#REF!"},{"$error":"#REF!"},{"$error":"#REF!"},{"$error":"#REF!"},{"$error":"#REF!"},{"$error":"#REF!"},{"$error":"#REF!"},{"$error":"#REF!"},{"$error":"#REF!"},{"$error":"#REF!"},{"$error":"#REF!"},{"$error":"#REF!"},{"$f":"IF(MID($AH16,MV$12,1)=MID($AJ16,MV$12,1),\"\",MV15)","v":{"$error":"#REF!"}},{"$error":"#REF!"},{"$error":"#REF!"},{"$error":"#REF!"},{"$error":"#REF!"},{"$error":"#REF!"},{"$error":"#REF!"},{"$error":"#REF!"},{"$error":"#REF!"},{"$error":"#REF!"},{"$error":"#REF!"},{"$error":"#REF!"},{"$error":"#REF!"},{"$error":"#REF!"},{"$error":"#REF!"},{"$error":"#REF!"},{"$error":"#REF!"},{"$error":"#REF!"},{"$error":"#REF!"},{"$error":"#REF!"},{"$error":"#REF!"},{"$error":"#REF!"},{"$error":"#REF!"},{"$error":"#REF!"},{"$error":"#REF!"},{"$error":"#REF!"},{"$error":"#REF!"},{"$error":"#REF!"},{"$error":"#REF!"},{"$error":"#REF!"},{"$error":"#REF!"},{"$error":"#REF!"},{"$error":"#REF!"},{"$error":"#REF!"},{"$error":"#REF!"},{"$error":"#REF!"},{"$error":"#REF!"},{"$error":"#REF!"},{"$error":"#REF!"},{"$error":"#REF!"},{"$error":"#REF!"},{"$error":"#REF!"},{"$error":"#REF!"},{"$error":"#REF!"},{"$error":"#REF!"},{"$error":"#REF!"},{"$error":"#REF!"},{"$error":"#REF!"},{"$error":"#REF!"},{"$error":"#REF!"},{"$error":"#REF!"},{"$error":"#REF!"},{"$error":"#REF!"},{"$error":"#REF!"},{"$error":"#REF!"},{"$error":"#REF!"},{"$error":"#REF!"},{"$error":"#REF!"},{"$error":"#REF!"},{"$error":"#REF!"},{"$error":"#REF!"},{"$error":"#REF!"},{"$error":"#REF!"},{"$error":"#REF!"},{"$f":"IF(MID($AH16,PH$12,1)=MID($AJ16,PH$12,1),\"\",PH15)","v":{"$error":"#REF!"}},{"$error":"#REF!"},{"$error":"#REF!"},{"$error":"#REF!"},{"$error":"#REF!"},{"$error":"#REF!"},{"$error":"#REF!"},{"$error":"#REF!"},{"$error":"#REF!"},{"$error":"#REF!"},{"$error":"#REF!"},{"$error":"#REF!"},{"$error":"#REF!"},{"$error":"#REF!"},{"$error":"#REF!"},{"$error":"#REF!"},{"$error":"#REF!"},{"$error":"#REF!"},{"$error":"#REF!"},{"$error":"#REF!"},{"$error":"#REF!"},{"$error":"#REF!"},{"$error":"#REF!"},{"$error":"#REF!"},{"$error":"#REF!"},{"$error":"#REF!"},{"$error":"#REF!"},{"$error":"#REF!"},{"$error":"#REF!"},{"$error":"#REF!"},{"$error":"#REF!"},{"$error":"#REF!"},{"$error":"#REF!"},{"$error":"#REF!"},{"$error":"#REF!"},{"$error":"#REF!"},{"$error":"#REF!"},{"$error":"#REF!"},{"$error":"#REF!"},{"$error":"#REF!"},{"$error":"#REF!"},{"$error":"#REF!"},{"$error":"#REF!"},{"$error":"#REF!"},{"$error":"#REF!"},{"$error":"#REF!"},{"$error":"#REF!"},{"$error":"#REF!"},{"$error":"#REF!"},{"$error":"#REF!"},{"$error":"#REF!"},{"$error":"#REF!"},{"$error":"#REF!"},{"$error":"#REF!"},{"$error":"#REF!"},{"$error":"#REF!"},{"$error":"#REF!"},{"$error":"#REF!"},{"$error":"#REF!"},{"$error":"#REF!"},{"$error":"#REF!"},{"$error":"#REF!"},{"$error":"#REF!"},{"$error":"#REF!"},{"$f":"IF(MID($AH16,RT$12,1)=MID($AJ16,RT$12,1),\"\",RT15)","v":{"$error":"#REF!"}},{"$error":"#REF!"},{"$error":"#REF!"},{"$error":"#REF!"},{"$error":"#REF!"},{"$error":"#REF!"},{"$error":"#REF!"},{"$error":"#REF!"},{"$error":"#REF!"},{"$error":"#REF!"},{"$error":"#REF!"},{"$error":"#REF!"},{"$error":"#REF!"},{"$error":"#REF!"},{"$error":"#REF!"},{"$error":"#REF!"},{"$error":"#REF!"},{"$error":"#REF!"},{"$error":"#REF!"},{"$error":"#REF!"},{"$error":"#REF!"},{"$error":"#REF!"},{"$error":"#REF!"},{"$error":"#REF!"},{"$error":"#REF!"},{"$error":"#REF!"},{"$error":"#REF!"},{"$error":"#REF!"},{"$error":"#REF!"},{"$error":"#REF!"},{"$error":"#REF!"},{"$error":"#REF!"},{"$error":"#REF!"},{"$error":"#REF!"},{"$error":"#REF!"},{"$error":"#REF!"},{"$error":"#REF!"},{"$error":"#REF!"},{"$error":"#REF!"},{"$error":"#REF!"},{"$error":"#REF!"},{"$error":"#REF!"},{"$error":"#REF!"},{"$error":"#REF!"},{"$error":"#REF!"},{"$error":"#REF!"},{"$error":"#REF!"},{"$error":"#REF!"},{"$error":"#REF!"},{"$error":"#REF!"},{"$error":"#REF!"},{"$error":"#REF!"},{"$error":"#REF!"},{"$error":"#REF!"},{"$error":"#REF!"},{"$error":"#REF!"},{"$error":"#REF!"},{"$error":"#REF!"},{"$error":"#REF!"},{"$error":"#REF!"},{"$error":"#REF!"},{"$error":"#REF!"},{"$error":"#REF!"},{"$error":"#REF!"},{"$f":"IF(MID($AH16,UF$12,1)=MID($AJ16,UF$12,1),\"\",UF15)","v":{"$error":"#REF!"}},{"$error":"#REF!"},{"$error":"#REF!"},{"$error":"#REF!"},{"$error":"#REF!"},{"$error":"#REF!"},{"$error":"#REF!"},{"$error":"#REF!"},{"$error":"#REF!"},{"$error":"#REF!"},{"$error":"#REF!"},{"$error":"#REF!"},{"$error":"#REF!"},{"$error":"#REF!"},{"$error":"#REF!"},{"$error":"#REF!"}]

{"sheet":"Check_Inv","index":9,"n_rows":18,"n_cols":567,"rows_kept":18,"cut":false,"hidden":true,"merged":[]}
["1.      ","2.      ","3.      ","4.      ","5.      ","6.      ","7.      ","8.      ","9.      ","10.   ","11.   ","12.   ","13.   ","14.   ","15.   ","16.   ","17.   ","18.   ","19.   ","20.   ","21.   ","22.   ","23.   ","24.   ","25.   ","26.   ","27.   ","28.   ","29.   ","30.   ","31.   ","Col No.",null,null,null,null,null,null,null,null,null,null,null,null,null,null,null,null,null,null,null,null,null,null,null,null,null,null,null,null,null,null,null,null,null,null,null,null,null,null,null,null,null,null,null,null,null,null,null,null,null,null,null,null,null,null,null,null,null,null,null,null,null,null,null,null,null,null,null,null,null,null,null,null,null,null,null,null,null,null,null,null,null,null,null,null,null,null,null,null,null,null,null,null,null,null,null,null,null,null,null,null,null,null,null,null,null,null,null,null,null,null,null,null,null,null,null,null,null,null,null,null,null,null,null,null,null,null,null,null,null,null,null,null,null,null,null,null,null,null,null,null,null,null,null,null,null,null,null,null,null,null,null,null,null,null,null,null,null,null,null,null,null,null,null,null,null,null,null,null,null,null,null,null,null,null,null,null,null,null,null,null,null,null,null,null,null,null,null,null,null,null,null,null,null,null,null,null,null,null,null,null,null,null,null,null,null,null,null,null,null,null,null,null,null,null,null,null,null,null,null,null,null,null,null,null,null,null,null,null,null,null,null,null,null,null,null,null,null,null,null,null,null,null,null,null,null,null,null,null,null,null,null,null,null,null,null,null,null,null,null,null,null,null,null,null,null,null,null,null,null,null,null,null,null,null,null,null,null,null,null,null,null,null,null,null,null,null,null,null,null,null,null,null,null,null,null,null,null,null,null,null,null,null,null,null,null,null,null,null,null,null,null,null,null,null,null,null,null,null,null,null,null,null,null,null,null,null,null,null,null,null,null,null,null,null,null,null,null,null,null,null,null,null,null,null,null,null,null,null,null,null,null,null,null,null,null,null,null,null,null,null,null,null,null,null,null,null,null,null,null,null,null,null,null,null,null,null,null,null,null,null,null,null,null,null,null,null,null,null,null,null,null,null,null,null,null,null,null,null,null,null,null,null,null,null,null,null,null,null,null,null,null,null,null,null,null,null,null,null,null,null,null,null,null,null,null,null,null,null,null,null,null,null,null,null,null,null,null,null,null,null,null,null,null,null,null,null,null,null,null,null,null,null,null,null,null,null,null,null,null,null,null,null,null,null,null,null,null,null,null,null,null,null,null,null,null,null,null,null,null,null,null,null,null,null,null,null,null,null,null,null,null,null,null,null,null,null,null,null,null,null,null,null,null,null,null,null,null,null,null,null,null,null,null,null,null,null,null,null,null,null,null,null,null,null,null,null,null,null,null,null,null,"x"]
[1,3,5,11,15,23,26,28,29,37,72,107,142,150,235,295,315,317,322,324,339,364,449,459,484,494,502,504,509,510,511,"Field Position","Begin"]
[2,4,10,14,22,25,27,28,36,71,106,141,149,234,294,314,316,321,323,338,363,448,458,483,493,501,503,508,509,510,525,null,"End"]
["Jurisdiction Code","Return Type","Report Year/Month","Filer License Type","Filer Privilege Tax ID Number1","Schedule Type",null,null,null,null,null,null,null,null,null,null,null,null,null,"Product Code3","SKU/Inventory Code","Product Name","Quantity ","Keg Size","Case Quantity","Bottle/Can Size","Bottle/Can UOM","ABV",null,null,null,"Field Position Description"]
["Text","Text","Text","Text","Text","Text",null,null,null,null,null,null,null,null,null,null,null,null,null,"Text","Text","Text","Num",null,"Num","Num","Text","Num",null,null,null,"Data Type"]
[2,2,6,4,8,3,null,null,null,null,null,null,null,null,null,null,null,null,null,15,25,85,10,25,10,8,2,5,null,null,null,"Size"]
["OR","O","YYYYMM","LLLL","PT112334",null,null,null,null,null,null,null,null,null,null,null,null,null,null,null,null,null,null,null,null,null,"Oz or Ml or L",null,null,null,null,"Format",null,null,null,null,null,null,null,{"$f":"AN12","v":1},2,3,4,5,6,7,8,9,10,11,12,13,14,15,16,17,18,19,20,21,22,23,24,25,26,27,28,29,30,31,32,33,34,35,36,37,38,39,40,41,42,43,44,45,46,47,48,49,50,51,52,53,54,55,56,57,58,59,60,61,62,63,64,{"$f":"CZ12","v":65},66,67,68,69,70,71,72,73,74,75,76,77,78,79,80,81,82,83,84,85,86,87,88,89,90,91,92,93,94,95,96,97,98,99,100,101,102,103,104,105,106,107,108,109,110,111,112,113,114,115,116,117,118,119,120,121,122,123,124,125,126,127,128,{"$f":"FL12","v":129},130,131,132,133,134,135,136,137,138,139,140,141,142,143,144,145,146,147,148,149,150,151,152,153,154,155,156,157,158,159,160,161,162,163,164,165,166,167,168,169,170,171,172,173,174,175,176,177,178,179,180,181,182,183,184,185,186,187,188,189,190,191,192,{"$f":"HX12","v":193},194,195,196,197,198,199,200,201,202,203,204,205,206,207,208,209,210,211,212,213,214,215,216,217,218,219,220,221,222,223,224,225,226,227,228,229,230,231,232,233,234,235,236,237,238,239,240,241,242,243,244,245,246,247,248,249,250,251,252,253,254,255,256,{"$f":"KJ12","v":257},258,259,260,261,262,263,264,265,266,267,268,269,270,271,272,273,274,275,276,277,278,279,280,281,282,283,284,285,286,287,288,289,290,291,292,293,294,295,296,297,298,299,300,301,302,303,304,305,306,307,308,309,310,311,312,313,314,315,316,317,318,319,320,{"$f":"MV12","v":321},322,323,324,325,326,327,328,329,330,331,332,333,334,335,336,337,338,339,340,341,342,343,344,345,346,347,348,349,350,351,352,353,354,355,356,357,358,359,360,361,362,363,364,365,366,367,368,369,370,371,372,373,374,375,376,377,378,379,380,381,382,383,384,{"$f":"PH12","v":385},386,387,388,389,390,391,392,393,394,395,396,397,398,399,400,401,402,403,404,405,406,407,408,409,410,411,412,413,414,415,416,417,418,419,420,421,422,423,424,425,426,427,428,429,430,431,432,433,434,435,436,437,438,439,440,441,442,443,444,445,446,447,448,{"$f":"RT12","v":449},450,451,452,453,454,455,456,457,458,459,460,461,462,463,464,465,466,467,468,469,470,471,472,473,474,475,476,477,478,479,480,481,482,483,484,485,486,487,488,489,490,491,492,493,494,495,496,497,498,499,500,501,502,503,504,505,506,507,508,509,510,511,512,{"$f":"UF12","v":513},514,515,516,517,518,519,520,521,522,523,524,525,526,527,528]
["M","M","M","M","M","M",null,null,null,null,null,null,null,null,null,null,null,null,null,"M","O","M","M","C/M","C/M","C/M","C/M","M",null,null,null,"Field Requirement",null,null,null,null,null,null,"Excel",{"$f":"MID($AH$13,AN12,1)","v":"O"},"R"," "," "," "," "," "," "," "," "," "," "," "," "," "," "," "," "," "," "," "," "," "," "," "," "," "," "," "," "," "," "," "," "," "," "," "," "," "," "," "," "," "," "," "," "," "," "," "," "," "," "," "," "," "," "," "," "," "," "," "," "," "," ",{"$f":"MID($AH$13,CZ12,1)","v":" "}," "," "," "," "," "," "," "," "," "," "," "," "," "," "," "," "," "," "," "," "," "," "," "," "," "," "," "," "," "," "," "," "," "," "," "," "," "," "," "," "," "," "," "," "," "," "," "," "," "," "," "," "," "," "," "," "," "," "," "," "," "," "," ",{"$f":"MID($AH$13,FL12,1)","v":" "}," "," "," "," "," "," "," "," "," "," "," "," "," "," "," "," "," "," "," "," "," "," "," "," "," "," "," "," "," "," "," "," "," "," "," "," "," "," "," "," "," "," "," "," "," "," "," "," "," "," "," "," "," "," "," "," "," "," "," "," "," "," "," ",{"$f":"MID($AH$13,HX12,1)","v":" "}," "," "," "," "," "," "," "," "," "," "," "," "," "," "," "," "," ","","","","","","","","","","","","","","","","","","","","","","","","","","","","","","","","","","","","","","","","","","","","","","",{"$f":"MID($AH$13,KJ12,1)","v":""},"","","","","","","","","","","","","","","","","","","","","","","","","","","","","","","","","","","","","","","","","","","","","","","","","","","","","","","","","","","","","","","",{"$f":"MID($AH$13,MV12,1)","v":""},"","","","","","","","","","","","","","","","","","","","","","","","","","","","","","","","","","","","","","","","","","","","","","","","","","","","","","","","","","","","","","","",{"$f":"MID($AH$13,PH12,1)","v":""},"","","","","","","","","","","","","","","","","","","","","","","","","","","","","","","","","","","","","","","","","","","","","","","","","","","","","","","","","","","","","","","",{"$f":"MID($AH$13,RT12,1)","v":""},"","","","","","","","","","","","","","","","","","","","","","","","","","","","","","","","","","","","","","","","","","","","","","","","","","","","","","","","","","","","","","","",{"$f":"MID($AH$13,UF12,1)","v":""},"","","","","","","","","","","","","","",""]
["OR","O ",202106,"BRW or BP","PT999999","1A ",null,null,null,null,null,null,null,null,null,null,null,null,null,"MB.CASE",null,null,null,null,null,99999.99,null,99.99,null,null,null,"Example",null,null,null,null,null,null,"VBA",{"$f":"MID($AJ$13,AN12,1)","v":"O"},"R","O"," ","2","0","2","1","0","6","B","R","W"," ","P","T","1","1","1","2","2","2","3","E"," "," "," "," "," "," "," "," "," "," "," "," "," "," "," "," "," "," "," "," "," "," "," "," "," "," "," "," "," "," "," "," "," "," "," "," "," "," "," "," ",{"$f":"MID($AJ$13,CZ12,1)","v":" "}," "," "," "," "," "," "," "," "," "," "," "," "," "," "," "," "," "," "," "," "," "," "," "," "," "," "," "," "," "," "," "," "," "," "," "," "," "," "," "," "," "," "," "," "," "," "," "," "," "," "," "," "," "," "," "," "," "," "," "," "," "," "," ",{"$f":"MID($AJ$13,FL12,1)","v":" "}," "," "," "," "," "," "," "," "," "," "," "," "," "," "," "," "," "," "," "," "," "," "," "," "," "," "," "," "," "," "," "," "," "," "," "," "," "," "," "," "," "," "," "," "," "," "," "," "," "," "," "," "," "," "," "," "," "," "," "," "," "," "," ",{"$f":"MID($AJ$13,HX12,1)","v":" "}," "," "," "," "," "," "," "," "," "," "," "," "," "," "," "," "," "," "," "," "," "," "," "," "," "," "," "," "," "," "," "," "," "," "," "," "," "," "," "," "," "," "," "," "," "," "," "," "," "," "," "," "," "," "," "," "," "," "," "," "," "," "," ",{"$f":"MID($AJ$13,KJ12,1)","v":" "}," "," "," "," "," "," "," "," "," "," "," "," "," "," "," "," "," "," "," "," "," "," "," "," "," "," "," "," "," "," "," "," "," "," "," "," "," "," "," "," "," "," "," "," "," "," "," "," "," "," "," "," "," "," "," "," "," "," "," "," "," "," "," ",{"$f":"MID($AJ$13,MV12,1)","v":" "}," "," ","M","B",".","C","a","s","e"," "," "," "," "," "," "," "," "," "," "," "," "," "," "," "," "," "," "," "," "," "," "," "," "," "," "," "," "," "," "," "," "," ","L","i","g","h","t"," ","C","h","o","c"," ","B","r","e","w"," "," "," "," "," "," ",{"$f":"MID($AJ$13,PH12,1)","v":" "}," "," "," "," "," "," "," "," "," "," "," "," "," "," "," "," "," "," "," "," "," "," "," "," "," "," "," "," "," "," "," "," "," "," "," "," "," "," "," "," "," "," "," "," "," "," "," "," "," "," "," "," "," "," "," "," "," "," "," "," "," "," "," ",{"$f":"MID($AJ$13,RT12,1)","v":"1"},"0","0","0"," "," "," "," "," "," "," "," "," "," "," "," "," "," "," "," "," "," "," "," "," "," "," "," "," "," "," "," "," "," "," ","1","2"," "," "," "," "," "," "," "," ","1","2"," "," "," "," "," "," ","o","z","5",".","6"," "," "," "," "," "," ",{"$f":"MID($AJ$13,UF12,1)","v":" "}," "," "," "," "," "," "," "," "," "," "," "," ","","",""]
[null,null,null,null,null,null,null,null,null,null,null,null,null,null,null,null,null,null,null,null,null,null,null,null,null,null,null,null,null,null,null,null,null,null,null,null,null,null,null,null,null,null,null,null,null,null,null,null,null,null,null,null,null,null,null,null,null,null,null,null,null,null,null,null,null,null,null,null,null,null,null,null,null,null,null,null,null,null,null,null,null,null,null,null,null,null,null,null,null,null,null,null,null,null,null,null,null,null,null,null,null,null,null,null,null,null,null,null,null,null,null,null,null,null,null,null,null,null,null,null,null,null,null,null,null,null,null,null,null,null,null,null,null,null,null,null,null,null,null,null,null,null,null,null,null,null,null,null,null,null,null,null,null,null,null,null,null,null,null,null,null,null,null,null,null,null,null,null,null,null,null,null,null,null,null,null,null,null,null,null,null,null,null,null,null,null,null,null,null,null,null,null,null,null,null,null,null,null,null,null,null,null,null,null,null,null,null,null,null,null,null,null,null,null,null,null,null,null,null,null,null,null,null,null,null,null,null,null,null,null,null,null,null,null,null,null,null,null,null,null,null,null,null,null,null,null,null,null,null,null,null,null,null,null,null,null,null,null,null,null,null,null,null,null,null,null,null,null,null,null,null,null,null,null,null,null,null,null,null,null,null,null,null,null,null,null,null,null,null,null,null,null,null,null,null,null,null,null,null,null,null,null,null,null,null,null,null,null,null,null,null,null,null,null,null,null,null,null,null,null,null,null,null,null,null,null,null,null,null,null,null,null,null,null,null,null,null,null,null,null,null,null,null,null,null,null,null,null,null,null,null,null,null,null,null,null,null,null,null,null,null,null,null,null,null,null,null,null,null,null,null,null,null,null,null,null,null,null,null,null,null,null,null,null,null,null,null,null,null,null,null,null,null,null,null,null,null,null,null,null,null,null,null,null,null,null,null,null,null,null,null,null,null,null,null,null,null,null,null,null,null,null,null,null,null,null,null,null,null,null,null,null,null,null,null,null,null,null,null,null,null,null,null,null,null,null,null,null,null,null,null,null,null,null,null,null,null,null,null,null,null,null,null,null,null,null,null,null,null,null,null,null,null,null,null,null,null,null,null,null,null,null,null,null,null,null,null,null,null,null,null,null,null,null,null,null,null,null,null,null,null,null,null,null,null,null,null,null,null,null,null,null,null,null,null,null,null,null,null,null,null,null,null,null,null,null,null,null,null,null,null,null,null,null,null,null,null,null,null,null,null,null,null,null,null,null,null,null,null,null,null,null,null,null,null,null,null,null,null,null,null,null,null,null,{"$f":"MID($AJ$13,US12,1)","v":""},{"$f":"MID($AJ$13,UT12,1)","v":""},{"$f":"MID($AJ$13,UU12,1)","v":""}]
[null,null,null,null,null,null,null,null,null,null,null,null,null,null,null,null,null,null,null,null,null,null,null,null,null,null,null,null,null,null,null,null,null,null,null,null,null,null,null,"Isolate characters"]
["Jurisdiction Code","Return Type (O or A)","Report Year/Month (YYYYMM)","Filer License Type\n(BRW  for Brewery,BP for Brewpub)","Filer Privilege Tax ID Number\n(EXAMPLE OF  FORMAT: PT999999)","Schedule (Field must be 3E)",null,null,null,null,null,null,null,null,null,null,null,null,null,"Product Code\n(Must be a valid code from list on Instructions Tab)","SKU/Inventory Code","Product Name","Quantity\nOn-Hand","Keg Sizes\n(1/2; 1/4; 1/6; 1/8;    1.32Gal; 5Gal; 5.16Gal; 5.2Gal; 7.9Gal; 10.8Gal; 13.2Gal; 18L; 19L; 19.5L; 20L; 24L; 25L; 30L; 50L)","Case Quantity\n(Must be a positive whole number)","Bottle/Can size (Example of format:  99999.99) ","Bottle/Can Unit of Measure\n(Not Case Sensitive OZ for ounces or ML for milliliters or L for Liters)","ABV (Alcohol by Volume)\n(Example of format:  99.99)",null,null,null,null,null,"Export","Len","Text file","Len","Check",null,1,2,3,4,5,6,7,8,9,10,11,12,13,14,15,16,17,18,19,20,21,22,23,24,25,26,27,28,29,30,31,32,33,34,35,36,37,38,39,40,41,42,43,44,45,46,47,48,49,50,51,52,53,54,55,56,57,58,59,60,61,62,63,64,65,66,67,68,69,70,71,72,73,74,75,76,77,78,79,80,81,82,83,84,85,86,87,88,89,90,91,92,93,94,95,96,97,98,99,100,101,102,103,104,105,106,107,108,109,110,111,112,113,114,115,116,117,118,119,120,121,122,123,124,125,126,127,128,129,130,131,132,133,134,135,136,137,138,139,140,141,142,143,144,145,146,147,148,149,150,151,152,153,154,155,156,157,158,159,160,161,162,163,164,165,166,167,168,169,170,171,172,173,174,175,176,177,178,179,180,181,182,183,184,185,186,187,188,189,190,191,192,193,194,195,196,197,198,199,200,201,202,203,204,205,206,207,208,209,210,211,212,213,214,215,216,217,218,219,220,221,222,223,224,225,226,227,228,229,230,231,232,233,234,235,236,237,238,239,240,241,242,243,244,245,246,247,248,249,250,251,252,253,254,255,256,257,258,259,260,261,262,263,264,265,266,267,268,269,270,271,272,273,274,275,276,277,278,279,280,281,282,283,284,285,286,287,288,289,290,291,292,293,294,295,296,297,298,299,300,301,302,303,304,305,306,307,308,309,310,311,312,313,314,315,316,317,318,319,320,321,322,323,324,325,326,327,328,329,330,331,332,333,334,335,336,337,338,339,340,341,342,343,344,345,346,347,348,349,350,351,352,353,354,355,356,357,358,359,360,361,362,363,364,365,366,367,368,369,370,371,372,373,374,375,376,377,378,379,380,381,382,383,384,385,386,387,388,389,390,391,392,393,394,395,396,397,398,399,400,401,402,403,404,405,406,407,408,409,410,411,412,413,414,415,416,417,418,419,420,421,422,423,424,425,426,427,428,429,430,431,432,433,434,435,436,437,438,439,440,441,442,443,444,445,446,447,448,449,450,451,452,453,454,455,456,457,458,459,460,461,462,463,464,465,466,467,468,469,470,471,472,473,474,475,476,477,478,479,480,481,482,483,484,485,486,487,488,489,490,491,492,493,494,495,496,497,498,499,500,501,502,503,504,505,506,507,508,509,510,511,512,513,514,515,516,517,518,519,520,521,522,523,524,525,526,527,528]
[{"$f":"\"OR\"","v":"OR"},{"$f":"LEFT('INVENTORY 3E'!B4&REPT(\" \",B$6),B$6)","v":"  "},{"$f":"LEFT('INVENTORY 3E'!C4&REPT(\" \",C$6),C$6)","v":"      "},{"$f":"LEFT('INVENTORY 3E'!D4&REPT(\" \",D$6),D$6)","v":"    "},{"$f":"LEFT('INVENTORY 3E'!E4&REPT(\" \",E$6),E$6)","v":"        "},{"$f":"LEFT('INVENTORY 3E'!F4&REPT(\" \",F$6),F$6)","v":"   "},{"$f":"LEFT('INVENTORY 3E'!G4&REPT(\" \",G$6),G$6)","v":""},{"$f":"LEFT('INVENTORY 3E'!H4&REPT(\" \",H$6),H$6)","v":""},{"$f":"LEFT('INVENTORY 3E'!I4&REPT(\" \",I$6),I$6)","v":""},{"$f":"LEFT('INVENTORY 3E'!J4&REPT(\" \",J$6),J$6)","v":""},{"$f":"LEFT('INVENTORY 3E'!K4&REPT(\" \",K$6),K$6)","v":""},{"$f":"LEFT('INVENTORY 3E'!L4&REPT(\" \",L$6),L$6)","v":""},{"$f":"LEFT('INVENTORY 3E'!M4&REPT(\" \",M$6),M$6)","v":""},{"$f":"LEFT('INVENTORY 3E'!N4&REPT(\" \",N$6),N$6)","v":""},{"$f":"LEFT('INVENTORY 3E'!O4&REPT(\" \",O$6),O$6)","v":""},{"$f":"LEFT('INVENTORY 3E'!P4&REPT(\" \",P$6),P$6)","v":""},{"$f":"LEFT('INVENTORY 3E'!Q4&REPT(\" \",Q$6),Q$6)","v":""},{"$f":"LEFT('INVENTORY 3E'!R4&REPT(\" \",R$6),R$6)","v":""},{"$f":"LEFT('INVENTORY 3E'!S4&REPT(\" \",S$6),S$6)","v":""},{"$f":"LEFT('INVENTORY 3E'!T4&REPT(\" \",T$6),T$6)","v":"               "},{"$f":"LEFT('INVENTORY 3E'!U4&REPT(\" \",U$6),U$6)","v":"                         "},{"$f":"LEFT('INVENTORY 3E'!V4&REPT(\" \",V$6),V$6)","v":"                                                                                     "},{"$f":"LEFT('INVENTORY 3E'!W4&REPT(\" \",W$6),W$6)","v":"          "},{"$f":"LEFT('INVENTORY 3E'!X4&REPT(\" \",X$6),X$6)","v":"                         "},{"$f":"LEFT('INVENTORY 3E'!Y4&REPT(\" \",Y$6),Y$6)","v":"          "},{"$f":"LEFT('INVENTORY 3E'!Z4&REPT(\" \",Z$6),Z$6)","v":"        "},{"$f":"LEFT('INVENTORY 3E'!AA4&REPT(\" \",AA$6),AA$6)","v":"  "},{"$f":"LEFT('INVENTORY 3E'!AB4&REPT(\" \",AB$6),AB$6)","v":"     "},{"$f":"LEFT('INVENTORY 3E'!AC4&REPT(\" \",AC$6),AC$6)","v":""},{"$f":"LEFT('INVENTORY 3E'!AD4&REPT(\" \",AD$6),AD$6)","v":""},{"$f":"LEFT('INVENTORY 3E'!AE4&REPT(\" \",AE$6),AE$6)","v":""},null,null,{"$f":"_xlfn.TEXTJOIN(\"\",FALSE,A13:AE13)","v":"OR                                                                                                                                                                                                                "},{"$f":"LEN(AH13)","v":210},"ORO 202106BRW PT1112223E                                                                                                                                                                                                                                                                                                           MB.Case                                 Light Choc Brew                                                                      1000                               12        12      oz5.6                   ",{"$f":"LEN(AJ13)","v":525},{"$f":"INDEX(AN13:UX13,MATCH(TRUE,INDEX((AN13:UX13<>\"\"),0),0))","v":3},{"$f":"MIN(AN13:UR13)","v":3},{"$f":"IF(MID($AH13,AN$12,1)=MID($AJ13,AN$12,1),\"\",MID($AJ13,AN$12,1))","v":""},{"$f":"IF(MID($AH13,AO$12,1)=MID($AJ13,AO$12,1),\"\",AO12)","v":""},3,"",5,6,7,8,9,10,11,12,13,"",15,16,17,18,19,20,21,22,23,24,"","","","","","","","","","","","","","","","","","","","","","","","","","","","","","","","","","","","","","","","","",{"$f":"IF(MID($AH13,DA$12,1)=MID($AJ13,DA$12,1),\"\",DA12)","v":""},"","","","","","","","","","","","","","","","","","","","","","","","","","","","","","","","","","","","","","","","","","","","","","","","","","","","","","","","","","","","","","","",{"$f":"IF(MID($AH13,FM$12,1)=MID($AJ13,FM$12,1),\"\",FM12)","v":""},"","","","","","","","","","","","","","","","","","","","","","","","","","","","","","","","","","","","","","","","","","","","","","","","","","","","","","","","","","","","","","","",{"$f":"IF(MID($AH13,HY$12,1)=MID($AJ13,HY$12,1),\"\",HY12)","v":""},"","","","","","","","","","","","","","","","",211,212,213,214,215,216,217,218,219,220,221,222,223,224,225,226,227,228,229,230,231,232,233,234,235,236,237,238,239,240,241,242,243,244,245,246,247,248,249,250,251,252,253,254,255,256,257,{"$f":"IF(MID($AH13,KK$12,1)=MID($AJ13,KK$12,1),\"\",KK12)","v":258},259,260,261,262,263,264,265,266,267,268,269,270,271,272,273,274,275,276,277,278,279,280,281,282,283,284,285,286,287,288,289,290,291,292,293,294,295,296,297,298,299,300,301,302,303,304,305,306,307,308,309,310,311,312,313,314,315,316,317,318,319,320,321,{"$f":"IF(MID($AH13,MW$12,1)=MID($AJ13,MW$12,1),\"\",MW12)","v":322},323,324,325,326,327,328,329,330,331,332,333,334,335,336,337,338,339,340,341,342,343,344,345,346,347,348,349,350,351,352,353,354,355,356,357,358,359,360,361,362,363,364,365,366,367,368,369,370,371,372,373,374,375,376,377,378,379,380,381,382,383,384,385,{"$f":"IF(MID($AH13,PI$12,1)=MID($AJ13,PI$12,1),\"\",PI12)","v":386},387,388,389,390,391,392,393,394,395,396,397,398,399,400,401,402,403,404,405,406,407,408,409,410,411,412,413,414,415,416,417,418,419,420,421,422,423,424,425,426,427,428,429,430,431,432,433,434,435,436,437,438,439,440,441,442,443,444,445,446,447,448,449,{"$f":"IF(MID($AH13,RU$12,1)=MID($AJ13,RU$12,1),\"\",RU12)","v":450},451,452,453,454,455,456,457,458,459,460,461,462,463,464,465,466,467,468,469,470,471,472,473,474,475,476,477,478,479,480,481,482,483,484,485,486,487,488,489,490,491,492,493,494,495,496,497,498,499,500,501,502,503,504,505,506,507,508,509,510,511,512,513,{"$f":"IF(MID($AH13,UG$12,1)=MID($AJ13,UG$12,1),\"\",UG12)","v":514},515,516,517,518,519,520,521,522,523,524,525,"","",""]
["OR",{"$f":"LEFT('INVENTORY 3E'!B5&REPT(\" \",B$6),B$6)","v":"  "},{"$f":"LEFT('INVENTORY 3E'!C5&REPT(\" \",C$6),C$6)","v":"      "},{"$f":"LEFT('INVENTORY 3E'!D5&REPT(\" \",D$6),D$6)","v":"    "},{"$f":"LEFT('INVENTORY 3E'!E5&REPT(\" \",E$6),E$6)","v":"        "},{"$f":"LEFT('INVENTORY 3E'!F5&REPT(\" \",F$6),F$6)","v":"   "},{"$f":"LEFT('INVENTORY 3E'!G5&REPT(\" \",G$6),G$6)","v":""},{"$f":"LEFT('INVENTORY 3E'!H5&REPT(\" \",H$6),H$6)","v":""},{"$f":"LEFT('INVENTORY 3E'!I5&REPT(\" \",I$6),I$6)","v":""},{"$f":"LEFT('INVENTORY 3E'!J5&REPT(\" \",J$6),J$6)","v":""},{"$f":"LEFT('INVENTORY 3E'!K5&REPT(\" \",K$6),K$6)","v":""},{"$f":"LEFT('INVENTORY 3E'!L5&REPT(\" \",L$6),L$6)","v":""},{"$f":"LEFT('INVENTORY 3E'!M5&REPT(\" \",M$6),M$6)","v":""},{"$f":"LEFT('INVENTORY 3E'!N5&REPT(\" \",N$6),N$6)","v":""},{"$f":"LEFT('INVENTORY 3E'!O5&REPT(\" \",O$6),O$6)","v":""},{"$f":"LEFT('INVENTORY 3E'!P5&REPT(\" \",P$6),P$6)","v":""},{"$f":"LEFT('INVENTORY 3E'!Q5&REPT(\" \",Q$6),Q$6)","v":""},{"$f":"LEFT('INVENTORY 3E'!R5&REPT(\" \",R$6),R$6)","v":""},{"$f":"LEFT('INVENTORY 3E'!S5&REPT(\" \",S$6),S$6)","v":""},{"$f":"LEFT('INVENTORY 3E'!T5&REPT(\" \",T$6),T$6)","v":"               "},{"$f":"LEFT('INVENTORY 3E'!U5&REPT(\" \",U$6),U$6)","v":"                         "},{"$f":"LEFT('INVENTORY 3E'!V5&REPT(\" \",V$6),V$6)","v":"                                                                                     "},{"$f":"LEFT('INVENTORY 3E'!W5&REPT(\" \",W$6),W$6)","v":"          "},{"$f":"LEFT('INVENTORY 3E'!X5&REPT(\" \",X$6),X$6)","v":"                         "},{"$f":"LEFT('INVENTORY 3E'!Y5&REPT(\" \",Y$6),Y$6)","v":"          "},{"$f":"LEFT('INVENTORY 3E'!Z5&REPT(\" \",Z$6),Z$6)","v":"        "},{"$f":"LEFT('INVENTORY 3E'!AA5&REPT(\" \",AA$6),AA$6)","v":"  "},{"$f":"LEFT('INVENTORY 3E'!AB5&REPT(\" \",AB$6),AB$6)","v":"     "},{"$f":"LEFT('INVENTORY 3E'!AC5&REPT(\" \",AC$6),AC$6)","v":""},{"$f":"LEFT('INVENTORY 3E'!AD5&REPT(\" \",AD$6),AD$6)","v":""},{"$f":"LEFT('INVENTORY 3E'!AE5&REPT(\" \",AE$6),AE$6)","v":""},null,null,"OR                                                                                                                                                                                                                ",210,"ORO 202002BRW PT1403503E                                                                                                                                                                                                                                                                                                           WINE.Case                               BUD LIGHT BOTTLE                                                                     1000                               12        11111.99L 4.5                   ",525,{"$f":"INDEX(AN14:UX14,MATCH(TRUE,INDEX((AN14:UX14<>\"\"),0),0))","v":3},3,{"$f":"IF(MID($AH14,AN$12,1)=MID($AJ14,AN$12,1),\"\",MID($AJ14,AN$12,1))","v":""},"",3,"",5,6,7,8,9,10,11,12,13,"",15,16,17,18,19,20,21,22,23,24,"","","","","","","","","","","","","","","","","","","","","","","","","","","","","","","","","","","","","","","","","","","","","","","","","","","","","","","","","","","","","","","","","","","","","","","","","","","","","","","","","","","","","","","","","","","","","","","","","","","","","","","","","","","","","","","","","","","","","","","","","","","","","","","","","","","","","","","","","","","","","","","","","","","","","","","","","","","","","","","","","","","","","","","","","","","","","","","","","","","","","","","","","","",211,212,213,214,215,216,217,218,219,220,221,222,223,224,225,226,227,228,229,230,231,232,233,234,235,236,237,238,239,240,241,242,243,244,245,246,247,248,249,250,251,252,253,254,255,256,257,258,259,260,261,262,263,264,265,266,267,268,269,270,271,272,273,274,275,276,277,278,279,280,281,282,283,284,285,286,287,288,289,290,291,292,293,294,295,296,297,298,299,300,301,302,303,304,305,306,307,308,309,310,311,312,313,314,315,316,317,318,319,320,321,322,323,324,325,326,327,328,329,330,331,332,333,334,335,336,337,338,339,340,341,342,343,344,345,346,347,348,349,350,351,352,353,354,355,356,357,358,359,360,361,362,363,364,365,366,367,368,369,370,371,372,373,374,375,376,377,378,379,380,381,382,383,384,385,386,387,388,389,390,391,392,393,394,395,396,397,398,399,400,401,402,403,404,405,406,407,408,409,410,411,412,413,414,415,416,417,418,419,420,421,422,423,424,425,426,427,428,429,430,431,432,433,434,435,436,437,438,439,440,441,442,443,444,445,446,447,448,449,450,451,452,453,454,455,456,457,458,459,460,461,462,463,464,465,466,467,468,469,470,471,472,473,474,475,476,477,478,479,480,481,482,483,484,485,486,487,488,489,490,491,492,493,494,495,496,497,498,499,500,501,502,503,504,505,506,507,508,509,510,511,512,513,514,515,516,517,518,519,520,521,522,523,524,525,"","",""]
["OR",{"$f":"LEFT('INVENTORY 3E'!B6&REPT(\" \",B$6),B$6)","v":"  "},{"$f":"LEFT('INVENTORY 3E'!C6&REPT(\" \",C$6),C$6)","v":"      "},{"$f":"LEFT('INVENTORY 3E'!D6&REPT(\" \",D$6),D$6)","v":"    "},{"$f":"LEFT('INVENTORY 3E'!E6&REPT(\" \",E$6),E$6)","v":"        "},{"$f":"LEFT('INVENTORY 3E'!F6&REPT(\" \",F$6),F$6)","v":"   "},{"$f":"LEFT('INVENTORY 3E'!G6&REPT(\" \",G$6),G$6)","v":""},{"$f":"LEFT('INVENTORY 3E'!H6&REPT(\" \",H$6),H$6)","v":""},{"$f":"LEFT('INVENTORY 3E'!I6&REPT(\" \",I$6),I$6)","v":""},{"$f":"LEFT('INVENTORY 3E'!J6&REPT(\" \",J$6),J$6)","v":""},{"$f":"LEFT('INVENTORY 3E'!K6&REPT(\" \",K$6),K$6)","v":""},{"$f":"LEFT('INVENTORY 3E'!L6&REPT(\" \",L$6),L$6)","v":""},{"$f":"LEFT('INVENTORY 3E'!M6&REPT(\" \",M$6),M$6)","v":""},{"$f":"LEFT('INVENTORY 3E'!N6&REPT(\" \",N$6),N$6)","v":""},{"$f":"LEFT('INVENTORY 3E'!O6&REPT(\" \",O$6),O$6)","v":""},{"$f":"LEFT('INVENTORY 3E'!P6&REPT(\" \",P$6),P$6)","v":""},{"$f":"LEFT('INVENTORY 3E'!Q6&REPT(\" \",Q$6),Q$6)","v":""},{"$f":"LEFT('INVENTORY 3E'!R6&REPT(\" \",R$6),R$6)","v":""},{"$f":"LEFT('INVENTORY 3E'!S6&REPT(\" \",S$6),S$6)","v":""},{"$f":"LEFT('INVENTORY 3E'!T6&REPT(\" \",T$6),T$6)","v":"               "},{"$f":"LEFT('INVENTORY 3E'!U6&REPT(\" \",U$6),U$6)","v":"                         "},{"$f":"LEFT('INVENTORY 3E'!V6&REPT(\" \",V$6),V$6)","v":"                                                                                     "},{"$f":"LEFT('INVENTORY 3E'!W6&REPT(\" \",W$6),W$6)","v":"          "},{"$f":"LEFT('INVENTORY 3E'!X6&REPT(\" \",X$6),X$6)","v":"                         "},{"$f":"LEFT('INVENTORY 3E'!Y6&REPT(\" \",Y$6),Y$6)","v":"          "},{"$f":"LEFT('INVENTORY 3E'!Z6&REPT(\" \",Z$6),Z$6)","v":"        "},{"$f":"LEFT('INVENTORY 3E'!AA6&REPT(\" \",AA$6),AA$6)","v":"  "},{"$f":"LEFT('INVENTORY 3E'!AB6&REPT(\" \",AB$6),AB$6)","v":"     "},{"$f":"LEFT('INVENTORY 3E'!AC6&REPT(\" \",AC$6),AC$6)","v":""},{"$f":"LEFT('INVENTORY 3E'!AD6&REPT(\" \",AD$6),AD$6)","v":""},{"$f":"LEFT('INVENTORY 3E'!AE6&REPT(\" \",AE$6),AE$6)","v":""},null,null,"OR                                                                                                                                                                                                                ",210,"ORO 202002BRW PT1403503E                                                                                                                                                                                                                                                                                                           WINE.Case                               BUD LIGHT BOTTLE                                                                     1000                               12        11111.99L 4.5                   ",525,{"$f":"INDEX(AN15:UX15,MATCH(TRUE,INDEX((AN15:UX15<>\"\"),0),0))","v":3},3,"","",3,"",5,6,7,8,9,10,11,12,13,"",15,16,17,18,19,20,21,22,23,24,"","","","","","","","","","","","","","","","","","","","","","","","","","","","","","","","","","","","","","","","","","","","","","","","","","","","","","","","","","","","","","","","","","","","","","","","","","","","","","","","","","","","","","","","","","","","","","","","","","","","","","","","","","","","","","","","","","","","","","","","","","","","","","","","","","","","","","","","","","","","","","","","","","","","","","","","","","","","","","","","","","","","","","","","","","","","","","","","","","","","","","","","","","",211,212,213,214,215,216,217,218,219,220,221,222,223,224,225,226,227,228,229,230,231,232,233,234,235,236,237,238,239,240,241,242,243,244,245,246,247,248,249,250,251,252,253,254,255,256,257,258,259,260,261,262,263,264,265,266,267,268,269,270,271,272,273,274,275,276,277,278,279,280,281,282,283,284,285,286,287,288,289,290,291,292,293,294,295,296,297,298,299,300,301,302,303,304,305,306,307,308,309,310,311,312,313,314,315,316,317,318,319,320,321,322,323,324,325,326,327,328,329,330,331,332,333,334,335,336,337,338,339,340,341,342,343,344,345,346,347,348,349,350,351,352,353,354,355,356,357,358,359,360,361,362,363,364,365,366,367,368,369,370,371,372,373,374,375,376,377,378,379,380,381,382,383,384,385,386,387,388,389,390,391,392,393,394,395,396,397,398,399,400,401,402,403,404,405,406,407,408,409,410,411,412,413,414,415,416,417,418,419,420,421,422,423,424,425,426,427,428,429,430,431,432,433,434,435,436,437,438,439,440,441,442,443,444,445,446,447,448,449,450,451,452,453,454,455,456,457,458,459,460,461,462,463,464,465,466,467,468,469,470,471,472,473,474,475,476,477,478,479,480,481,482,483,484,485,486,487,488,489,490,491,492,493,494,495,496,497,498,499,500,501,502,503,504,505,506,507,508,509,510,511,512,513,514,515,516,517,518,519,520,521,522,523,524,525,"","",""]
["OR",{"$f":"LEFT('INVENTORY 3E'!B7&REPT(\" \",B$6),B$6)","v":"  "},{"$f":"LEFT('INVENTORY 3E'!C7&REPT(\" \",C$6),C$6)","v":"      "},{"$f":"LEFT('INVENTORY 3E'!D7&REPT(\" \",D$6),D$6)","v":"    "},{"$f":"LEFT('INVENTORY 3E'!E7&REPT(\" \",E$6),E$6)","v":"        "},{"$f":"LEFT('INVENTORY 3E'!F7&REPT(\" \",F$6),F$6)","v":"   "},{"$f":"LEFT('INVENTORY 3E'!G7&REPT(\" \",G$6),G$6)","v":""},{"$f":"LEFT('INVENTORY 3E'!H7&REPT(\" \",H$6),H$6)","v":""},{"$f":"LEFT('INVENTORY 3E'!I7&REPT(\" \",I$6),I$6)","v":""},{"$f":"LEFT('INVENTORY 3E'!J7&REPT(\" \",J$6),J$6)","v":""},{"$f":"LEFT('INVENTORY 3E'!K7&REPT(\" \",K$6),K$6)","v":""},{"$f":"LEFT('INVENTORY 3E'!L7&REPT(\" \",L$6),L$6)","v":""},{"$f":"LEFT('INVENTORY 3E'!M7&REPT(\" \",M$6),M$6)","v":""},{"$f":"LEFT('INVENTORY 3E'!N7&REPT(\" \",N$6),N$6)","v":""},{"$f":"LEFT('INVENTORY 3E'!O7&REPT(\" \",O$6),O$6)","v":""},{"$f":"LEFT('INVENTORY 3E'!P7&REPT(\" \",P$6),P$6)","v":""},{"$f":"LEFT('INVENTORY 3E'!Q7&REPT(\" \",Q$6),Q$6)","v":""},{"$f":"LEFT('INVENTORY 3E'!R7&REPT(\" \",R$6),R$6)","v":""},{"$f":"LEFT('INVENTORY 3E'!S7&REPT(\" \",S$6),S$6)","v":""},{"$f":"LEFT('INVENTORY 3E'!T7&REPT(\" \",T$6),T$6)","v":"               "},{"$f":"LEFT('INVENTORY 3E'!U7&REPT(\" \",U$6),U$6)","v":"                         "},{"$f":"LEFT('INVENTORY 3E'!V7&REPT(\" \",V$6),V$6)","v":"                                                                                     "},{"$f":"LEFT('INVENTORY 3E'!W7&REPT(\" \",W$6),W$6)","v":"          "},{"$f":"LEFT('INVENTORY 3E'!X7&REPT(\" \",X$6),X$6)","v":"                         "},{"$f":"LEFT('INVENTORY 3E'!Y7&REPT(\" \",Y$6),Y$6)","v":"          "},{"$f":"LEFT('INVENTORY 3E'!Z7&REPT(\" \",Z$6),Z$6)","v":"        "},{"$f":"LEFT('INVENTORY 3E'!AA7&REPT(\" \",AA$6),AA$6)","v":"  "},{"$f":"LEFT('INVENTORY 3E'!AB7&REPT(\" \",AB$6),AB$6)","v":"     "},{"$f":"LEFT('INVENTORY 3E'!AC7&REPT(\" \",AC$6),AC$6)","v":""},{"$f":"LEFT('INVENTORY 3E'!AD7&REPT(\" \",AD$6),AD$6)","v":""},{"$f":"LEFT('INVENTORY 3E'!AE7&REPT(\" \",AE$6),AE$6)","v":""},null,null,"OR                                                                                                                                                                                                                ",210,"ORO 202002BRW PT1403503E                                                                                                                                                                                                                                                                                                           WINE.Case                               BUD LIGHT BOTTLE                                                                     1000                               12        11111.99L 4.5                   ",525,{"$f":"INDEX(AN16:UX16,MATCH(TRUE,INDEX((AN16:UX16<>\"\"),0),0))","v":3},3,"","",3,"",5,6,7,8,9,10,11,12,13,"",15,16,17,18,19,20,21,22,23,24,"","","","","","","","","","","","","","","","","","","","","","","","","","","","","","","","","","","","","","","","",{"$f":"IF(MID($AH16,CZ$12,1)=MID($AJ16,CZ$12,1),\"\",CZ15)","v":""},"","","","","","","","","","","","","","","","","","","","","","","","","","","","","","","","","","","","","","","","","","","","","","","","","","","","","","","","","","","","","","","",{"$f":"IF(MID($AH16,FL$12,1)=MID($AJ16,FL$12,1),\"\",FL15)","v":""},"","","","","","","","","","","","","","","","","","","","","","","","","","","","","","","","","","","","","","","","","","","","","","","","","","","","","","","","","","","","","","","",{"$f":"IF(MID($AH16,HX$12,1)=MID($AJ16,HX$12,1),\"\",HX15)","v":""},"","","","","","","","","","","","","","","","","",211,212,213,214,215,216,217,218,219,220,221,222,223,224,225,226,227,228,229,230,231,232,233,234,235,236,237,238,239,240,241,242,243,244,245,246,247,248,249,250,251,252,253,254,255,256,{"$f":"IF(MID($AH16,KJ$12,1)=MID($AJ16,KJ$12,1),\"\",KJ15)","v":257},258,259,260,261,262,263,264,265,266,267,268,269,270,271,272,273,274,275,276,277,278,279,280,281,282,283,284,285,286,287,288,289,290,291,292,293,294,295,296,297,298,299,300,301,302,303,304,305,306,307,308,309,310,311,312,313,314,315,316,317,318,319,320,{"$f":"IF(MID($AH16,MV$12,1)=MID($AJ16,MV$12,1),\"\",MV15)","v":321},322,323,324,325,326,327,328,329,330,331,332,333,334,335,336,337,338,339,340,341,342,343,344,345,346,347,348,349,350,351,352,353,354,355,356,357,358,359,360,361,362,363,364,365,366,367,368,369,370,371,372,373,374,375,376,377,378,379,380,381,382,383,384,{"$f":"IF(MID($AH16,PH$12,1)=MID($AJ16,PH$12,1),\"\",PH15)","v":385},386,387,388,389,390,391,392,393,394,395,396,397,398,399,400,401,402,403,404,405,406,407,408,409,410,411,412,413,414,415,416,417,418,419,420,421,422,423,424,425,426,427,428,429,430,431,432,433,434,435,436,437,438,439,440,441,442,443,444,445,446,447,448,{"$f":"IF(MID($AH16,RT$12,1)=MID($AJ16,RT$12,1),\"\",RT15)","v":449},450,451,452,453,454,455,456,457,458,459,460,461,462,463,464,465,466,467,468,469,470,471,472,473,474,475,476,477,478,479,480,481,482,483,484,485,486,487,488,489,490,491,492,493,494,495,496,497,498,499,500,501,502,503,504,505,506,507,508,509,510,511,512,{"$f":"IF(MID($AH16,UF$12,1)=MID($AJ16,UF$12,1),\"\",UF15)","v":513},514,515,516,517,518,519,520,521,522,523,524,525,"","",""]
[null,null,null,null,null,null,null,null,null,null,null,null,null,null,null,null,null,null,null,null,null,null,null,null,null,null,null,null,null,null,null,null,null,null,null,null,0]
[null,null,null,null,null,null,null,null,null,null,null,null,null,null,null,null,null,null,null,null,null,null,null,null,null,null,null,null,null,null,null,null,null,null,null,null,0]